{"text_format":"1","workbook":"xlsx","n_sheets":6,"sheets":["BOEKHOUDING","INTERN VERSLAG","FINANCIEEL JAARVERSLAG","BEGROTING","Overzicht uitgaven","."],"not_rendered":{"charts":0,"images":0,"macros":1,"external_links":0,"defined_names":29,"comments":0,"pivot_tables":1},"unopened":[],"bounds":{"document_bytes":16777216,"sheet_cells":100000,"rows_first":2000,"rows_last":500,"rows_between":2000,"halvings":0,"cell_chars":16384,"cell_head_chars":4096},"cells_cut":0,"cells_raw":0,"read":"whole","date_system":"1900"}

{"sheet":"BOEKHOUDING","index":0,"n_rows":500,"n_cols":28,"rows_kept":500,"cut":false,"hidden":false,"merged":[[2,1,2,2],[500,0,500,16383]]}
[null,"Vul hier de naam van je afdeling in ",null,null,null,null,null,null,null,null,null,null,null,null,null,null,"author: LEENDERT VERGEYNST"]
[null,"2025-2026",null,{"$f":"'.'!$H$6","v":""},"Cash","Zichtrekening","Spaarrekening","Totaal",null,null,2]
[null,{"$f":"NOW()","v":"2026-07-14T15:22:37.490"},null,null,{"$f":"SUBTOTAL(9,E6:E500)","v":0},{"$f":"SUBTOTAL(9,F6:F500)","v":0},{"$f":"SUBTOTAL(9,G6:G500)","v":0},{"$f":"SUM(E3:G3)","v":0}]
[]
[null,"Datum","Activiteit","Omschrijving",null,null,null,"Uitgavepost",null,"Wie"]
[0,null,null,"Valuta vorig werkjaar",null,null,null,"Overboeking",null,null,null,null,null,null,null,null,null,null,null,null,null,null,null,null,null,null,"Tijdschrift en drukwerk",{"$f":"'.'!T8","v":"Uitgaven"}]
[1,null,null,null,null,null,null,null,null,null,null,null,null,null,null,null,null,null,null,null,null,null,null,null,null,null,"Organisatie activiteiten",{"$f":"'.'!T9","v":"Uitgaven"}]
[2,null,null,null,null,null,null,null,null,null,null,null,null,null,null,null,null,null,null,null,null,null,null,null,null,null,"Aankoop klein materiaal",{"$f":"'.'!T11","v":"Uitgaven"}]
[3,null,null,null,null,null,null,null,null,null,null,null,null,null,null,null,null,null,null,null,null,null,null,null,null,null,"Aankoop groot materiaal",{"$f":"'.'!T12","v":"Uitgaven"}]
[4,null,null,null,null,null,null,null,null,null,null,null,null,null,null,null,null,null,null,null,null,null,null,null,null,null,"Organisatie kamp",{"$f":"'.'!T13","v":"Uitgaven"}]
[5,null,null,null,null,null,null,null,null,null,null,null,null,null,null,null,null,null,null,null,null,null,null,null,null,null,"Uitgaven financiële activiteiten",{"$f":"'.'!T14","v":"Uitgaven"}]
[6,null,null,null,null,null,null,null,null,null,null,null,null,null,null,null,null,null,null,null,null,null,null,null,null,null,"Huur lokalen (permanent of tijdelijk)",{"$f":"'.'!T15","v":"Uitgaven"}]
[7,null,null,null,null,null,null,null,null,null,null,null,null,null,null,null,null,null,null,null,null,null,null,null,null,null,"Vervoerskosten",{"$f":"'.'!T16","v":"Uitgaven"}]
[8,null,null,null,null,null,null,null,null,null,null,null,null,null,null,null,null,null,null,null,null,null,null,null,null,null,"Overige uitgaven","Uitgaven"]
[9,null,null,null,null,null,null,null,null,null,null,null,null,null,null,null,null,null,null,null,null,null,null,null,null,null,"transfer uitgave","Uitgaven"]
[10]
[11,null,null,null,null,null,null,null,null,null,null,null,null,null,null,null,null,null,null,null,null,null,null,null,null,null,"Gemeentesubsidies",{"$f":"'.'!T20","v":"Inkomsten"}]
[12,null,null,null,null,null,null,null,null,null,null,null,null,null,null,null,null,null,null,null,null,null,null,null,null,null,"Subsidie JNM Nationaal",{"$f":"'.'!T21","v":"Inkomsten"}]
[13,null,null,null,null,null,null,null,null,null,null,null,null,null,null,null,null,null,null,null,null,null,null,null,null,null,"Afdrachten",{"$f":"'.'!T23","v":"Inkomsten"}]
[14,null,null,null,null,null,null,null,null,null,null,null,null,null,null,null,null,null,null,null,null,null,null,null,null,null,"Deelname activiteiten",{"$f":"'.'!T24","v":"Inkomsten"}]
[15,null,null,null,null,null,null,null,null,null,null,null,null,null,null,null,null,null,null,null,null,null,null,null,null,null,"Deelname kampen",{"$f":"'.'!T25","v":"Inkomsten"}]
[16,null,null,null,null,null,null,null,null,null,null,null,null,null,null,null,null,null,null,null,null,null,null,null,null,null,"Inkomsten financiële activiteiten","Inkosmten"]
[17,null,null,null,null,null,null,null,null,null,null,null,null,null,null,null,null,null,null,null,null,null,null,null,null,null,"Overige inkomsten","Inkomsten"]
[18,null,null,null,null,null,null,null,null,null,null,null,null,null,null,null,null,null,null,null,null,null,null,null,null,null,"transfer inkomst","Inkomsten"]
[19]
[20]
[21]
[22]
[23]
[24]
[25]
[26]
[27]
[28]
[29]
[30]
[31]
[32]
[33]
[34]
[35]
[36]
[37]
[38]
[39]
[40]
[41]
[42]
[43]
[44]
[45]
[46]
[47]
[48]
[49]
[50]
[51]
[52]
[53]
[54]
[55]
[56]
[57]
[58]
[59]
[60]
[61]
[62]
[63]
[64]
[65]
[66]
[67]
[68]
[69]
[70]
[71]
[72]
[73]
[74]
[75]
[76]
[77]
[78]
[79]
[80]
[81]
[82]
[83]
[84]
[85]
[86]
[87]
[88]
[89]
[90]
[91]
[92]
[93]
[94]
[95]
[96]
[97]
[98]
[99]
[100]
[101]
[102]
[103]
[104]
[105]
[106]
[107]
[108]
[109]
[110]
[111]
[112]
[113]
[114]
[115]
[116]
[117]
[118]
[119]
[120]
[121]
[122]
[123]
[124]
[125]
[126]
[127]
[128]
[129]
[130]
[131]
[132]
[133]
[134]
[135]
[136]
[137]
[138]
[139]
[140]
[141]
[142]
[143]
[144]
[145]
[146]
[147]
[148]
[149]
[150]
[151]
[152]
[153]
[154]
[155]
[156]
[157]
[158]
[159]
[160]
[161]
[162]
[163]
[164]
[165]
[166]
[167]
[168]
[169]
[170]
[171]
[172]
[173]
[174]
[175]
[176]
[177]
[178]
[179]
[180]
[181]
[182]
[183]
[184]
[185]
[186]
[187]
[188]
[189]
[190]
[191]
[192]
[193]
[194]
[195]
[196]
[197]
[198]
[199]
[200]
[201]
[202]
[203]
[204]
[205]
[206]
[207]
[208]
[209]
[210]
[211]
[212]
[213]
[214]
[215]
[216]
[217]
[218]
[219]
[220]
[221]
[222]
[223]
[224]
[225]
[226]
[227]
[228]
[229]
[230]
[231]
[232]
[233]
[234]
[235]
[236]
[237]
[238]
[239]
[240]
[241]
[242]
[243]
[244]
[245]
[246]
[247]
[248]
[249]
[250]
[251]
[252]
[253]
[254]
[255]
[256]
[257]
[258]
[259]
[260]
[261]
[262]
[263]
[264]
[265]
[266]
[267]
[268]
[269]
[270]
[271]
[272]
[273]
[274]
[275]
[276]
[277]
[278]
[279]
[280]
[281]
[282]
[283]
[284]
[285]
[286]
[287]
[288]
[289]
[290]
[291]
[292]
[293]
[294]
[295]
[296]
[297]
[298]
[299]
[300]
[301]
[302]
[303]
[304]
[305]
[306]
[307]
[308]
[309]
[310]
[311]
[312]
[313]
[314]
[315]
[316]
[317]
[318]
[319]
[320]
[321]
[322]
[323]
[324]
[325]
[326]
[327]
[328]
[329]
[330]
[331]
[332]
[333]
[334]
[335]
[336]
[337]
[338]
[339]
[340]
[341]
[342]
[343]
[344]
[345]
[346]
[347]
[348]
[349]
[350]
[351]
[352]
[353]
[354]
[355]
[356]
[357]
[358]
[359]
[360]
[361]
[362]
[363]
[364]
[365]
[366]
[367]
[368]
[369]
[370]
[371]
[372]
[373]
[374]
[375]
[376]
[377]
[378]
[379]
[380]
[381]
[382]
[383]
[384]
[385]
[386]
[387]
[388]
[389]
[390]
[391]
[392]
[393]
[394]
[395]
[396]
[397]
[398]
[399]
[400]
[401]
[402]
[403]
[404]
[405]
[406]
[407]
[408]
[409]
[410]
[411]
[412]
[413]
[414]
[415]
[416]
[417]
[418]
[419]
[420]
[421]
[422]
[423]
[424]
[425]
[426]
[427]
[428]
[429]
[430]
[431]
[432]
[433]
[434]
[435]
[436]
[437]
[438]
[439]
[440]
[441]
[442]
[443]
[444]
[445]
[446]
[447]
[448]
[449]
[450]
[451]
[452]
[453]
[454]
[455]
[456]
[457]
[458]
[459]
[460]
[461]
[462]
[463]
[464]
[465]
[466]
[467]
[468]
[469]
[470]
[471]
[472]
[473]
[474]
[475]
[476]
[477]
[478]
[479]
[480]
[481]
[482]
[483]
[484]
[485]
[486]
[487]
[488]
[489]
[490]
[491]
[492]
[493]
[494]

{"sheet":"INTERN VERSLAG","index":1,"n_rows":4,"n_cols":2,"rows_kept":4,"cut":false,"hidden":false,"merged":[[0,0,0,3]]}
[{"$f":"\"FINANCIEEL VERSLAG  \"&jaartal&\" PER ACTIVITEIT\"","v":"FINANCIEEL VERSLAG  2025-2026 PER ACTIVITEIT"}]
["Valuta","inkomsten/uitgaven"]
["Activiteit","Eindtotaal          "]
["Eindtotaal          ",0]

{"sheet":"FINANCIEEL JAARVERSLAG","index":2,"n_rows":26,"n_cols":22,"rows_kept":26,"cut":false,"hidden":false,"merged":[[1,1,1,4],[2,1,2,4],[5,1,5,4]]}
[]
[null,"Financieel verslag 2024-2025",null,null,null,null,null,null,null,null,null,null,null,null,null,null,null,null,null,null,null,"LEENDERT VERGEYNST"]
[null,"1 september 2024 - 31 augustus 2025"]
[]
[]
[null,{"$f":"\"Naam vereniging: \"&naamAfdeling","v":"Naam vereniging: Vul hier de naam van je afdeling in "}]
[]
[]
[null,"UITGAVEN",null,"INKOMSTEN"]
[null,null,"EUR",null,"EUR"]
[null,"Tijdschrift en drukwerk",{"$f":"'.'!P8","v":0},"Overboeking voorbije jaar",{"$f":"'.'!R8","v":0}]
[null,"Organisatie activiteiten",{"$f":"'.'!P9","v":0},"Gemeentesubsidies",{"$f":"'.'!R9","v":0}]
[null,"Aankoop klein materiaal",{"$f":"'.'!P10","v":0},"Subsudie JNM Nationaal",{"$f":"'.'!R10","v":0}]
[null,"Aankoop groot materiaal",{"$f":"'.'!P11","v":0},"Afdrachten",{"$f":"'.'!R11","v":0}]
[null,"Organisatie kamp",{"$f":"'.'!P12","v":0},"Deelname activiteiten",{"$f":"'.'!R12","v":0}]
[null,"Uitgaven financiële activiteiten",{"$f":"'.'!P13","v":0},"Deelname kampen",{"$f":"'.'!R13","v":0}]
[null,"Huur lokalen (permanent of tijdelijk)",{"$f":"'.'!P14","v":0},"Inkomsten financiële activiteiten",{"$f":"'.'!R14","v":0}]
[null,"Vervoerskosten",{"$f":"'.'!P15","v":0},"Overige inkomsten",{"$f":"'.'!R15","v":0}]
[null,"Overige uitgaven",{"$f":"'.'!P16","v":0}]
[null,"TOTAAL UIT",{"$f":"SUM(C11:C19)","v":0},"TOTAAL IN",{"$f":"SUM(E12:E19)","v":0}]
[]
[]
[null,"Datum",{"$f":"NOW()","v":"2026-07-14T15:22:37.490"}]
[]
[]
[null,"(Get.) voorzitter","(Get.) secretaris"]

{"sheet":"BEGROTING","index":3,"n_rows":28,"n_cols":21,"rows_kept":28,"cut":false,"hidden":false,"merged":[[0,0,0,3],[1,0,1,3],[18,0,19,0],[18,1,19,1],[18,2,19,2],[18,3,19,3],[5,0,5,3]]}
["Begroting 2025-2026",null,null,null,null,null,null,null,null,null,null,null,null,null,null,null,null,null,null,null,"LEENDERT VERGEYNST"]
["1 september 2023 - 31 augustus 2024"]
[]
[]
[]
[{"$f":"\"Naam vereniging: \"&naamAfdeling","v":"Naam vereniging: Vul hier de naam van je afdeling in "}]
[]
["UITGAVEN",null,"INKOMSTEN"]
[]
["Tijdschrift en drukwerk",0,"Overboeking voorbije jaar",0]
["Organisatie activiteiten",0,"Vergelijking: de effectieve overboeking (Totaal in - Totaal uit voorbije jaar)",{"$f":"SUM('FINANCIEEL JAARVERSLAG'!E20,'FINANCIEEL JAARVERSLAG'!C20)","v":0}]
["Aankoop klein materiaal",0,"Gemeentesubsidies",0]
["Aankoop groot materiaal",0,"Subsidies JNM-Nationaal",0]
["Organisatie kamp",0,"Afdrachten",0]
["Uitgaven financiële activiteiten",0,"Deelname activiteiten",0]
["Huur lokalen (permanent of tijdelijk)",0,"Deelname kampen",0]
["Vervoerskosten",0,"Inkomsten financiële activiteiten",0]
["Overige",0,"Overige inkomsten",0]
["TOTAAL UIT",{"$f":"SUM(B10:B18)","v":0},"TOTAAL IN",{"$f":"SUM(D12:D18)","v":0}]
[null,{"$f":"SUM(B10:B18)","v":0},"TOTAAL IN",{"$f":"SUM(D10:D18)","v":0}]
[]
[]
[]
[]
["Datum: …………………………"]
[]
[]
["Voorzitter                                                     Naam + handtekening                               ",null,"Penningmeester                                       Naam + handtekening "]

{"sheet":"Overzicht uitgaven","index":4,"n_rows":495,"n_cols":3,"rows_kept":495,"cut":false,"hidden":false,"merged":[]}
[{"$f":"'.'!W6","v":"Uitgavepost"},{"$f":"'.'!X6","v":"Omschrijving"},{"$f":"'.'!Y6","v":"Valuta"}]
[{"$f":"'.'!W7","v":""},{"$f":"'.'!X7","v":""},{"$f":"'.'!Y7","v":""}]
[{"$f":"'.'!W8","v":""},{"$f":"'.'!X8","v":""},{"$f":"'.'!Y8","v":""}]
[{"$f":"'.'!W9","v":""},{"$f":"'.'!X9","v":""},{"$f":"'.'!Y9","v":""}]
[{"$f":"'.'!W10","v":""},{"$f":"'.'!X10","v":""},{"$f":"'.'!Y10","v":""}]
[{"$f":"'.'!W11","v":""},{"$f":"'.'!X11","v":""},{"$f":"'.'!Y11","v":""}]
[{"$f":"'.'!W12","v":""},{"$f":"'.'!X12","v":""},{"$f":"'.'!Y12","v":""}]
[{"$f":"'.'!W13","v":""},{"$f":"'.'!X13","v":""},{"$f":"'.'!Y13","v":""}]
[{"$f":"'.'!W14","v":""},{"$f":"'.'!X14","v":""},{"$f":"'.'!Y14","v":""}]
[{"$f":"'.'!W15","v":""},{"$f":"'.'!X15","v":""},{"$f":"'.'!Y15","v":""}]
[{"$f":"'.'!W16","v":""},{"$f":"'.'!X16","v":""},{"$f":"'.'!Y16","v":""}]
[{"$f":"'.'!W17","v":""},{"$f":"'.'!X17","v":""},{"$f":"'.'!Y17","v":""}]
[{"$f":"'.'!W18","v":""},{"$f":"'.'!X18","v":""},{"$f":"'.'!Y18","v":""}]
[{"$f":"'.'!W19","v":""},{"$f":"'.'!X19","v":""},{"$f":"'.'!Y19","v":""}]
[{"$f":"'.'!W20","v":""},{"$f":"'.'!X20","v":""},{"$f":"'.'!Y20","v":""}]
[{"$f":"'.'!W21","v":""},{"$f":"'.'!X21","v":""},{"$f":"'.'!Y21","v":""}]
[{"$f":"'.'!W22","v":""},{"$f":"'.'!X22","v":""},{"$f":"'.'!Y22","v":""}]
[{"$f":"'.'!W23","v":""},{"$f":"'.'!X23","v":""},{"$f":"'.'!Y23","v":""}]
[{"$f":"'.'!W24","v":""},{"$f":"'.'!X24","v":""},{"$f":"'.'!Y24","v":""}]
[{"$f":"'.'!W25","v":""},{"$f":"'.'!X25","v":""},{"$f":"'.'!Y25","v":""}]
[{"$f":"'.'!W26","v":""},{"$f":"'.'!X26","v":""},{"$f":"'.'!Y26","v":""}]
[{"$f":"'.'!W27","v":""},{"$f":"'.'!X27","v":""},{"$f":"'.'!Y27","v":""}]
[{"$f":"'.'!W28","v":""},{"$f":"'.'!X28","v":""},{"$f":"'.'!Y28","v":""}]
[{"$f":"'.'!W29","v":""},{"$f":"'.'!X29","v":""},{"$f":"'.'!Y29","v":""}]
[{"$f":"'.'!W30","v":""},{"$f":"'.'!X30","v":""},{"$f":"'.'!Y30","v":""}]
[{"$f":"'.'!W31","v":""},{"$f":"'.'!X31","v":""},{"$f":"'.'!Y31","v":""}]
[{"$f":"'.'!W32","v":""},{"$f":"'.'!X32","v":""},{"$f":"'.'!Y32","v":""}]
[{"$f":"'.'!W33","v":""},{"$f":"'.'!X33","v":""},{"$f":"'.'!Y33","v":""}]
[{"$f":"'.'!W34","v":""},{"$f":"'.'!X34","v":""},{"$f":"'.'!Y34","v":""}]
[{"$f":"'.'!W35","v":""},{"$f":"'.'!X35","v":""},{"$f":"'.'!Y35","v":""}]
[{"$f":"'.'!W36","v":""},{"$f":"'.'!X36","v":""},{"$f":"'.'!Y36","v":""}]
[{"$f":"'.'!W37","v":""},{"$f":"'.'!X37","v":""},{"$f":"'.'!Y37","v":""}]
[{"$f":"'.'!W38","v":""},{"$f":"'.'!X38","v":""},{"$f":"'.'!Y38","v":""}]
[{"$f":"'.'!W39","v":""},{"$f":"'.'!X39","v":""},{"$f":"'.'!Y39","v":""}]
[{"$f":"'.'!W40","v":""},{"$f":"'.'!X40","v":""},{"$f":"'.'!Y40","v":""}]
[{"$f":"'.'!W41","v":""},{"$f":"'.'!X41","v":""},{"$f":"'.'!Y41","v":""}]
[{"$f":"'.'!W42","v":""},{"$f":"'.'!X42","v":""},{"$f":"'.'!Y42","v":""}]
[{"$f":"'.'!W43","v":""},{"$f":"'.'!X43","v":""},{"$f":"'.'!Y43","v":""}]
[{"$f":"'.'!W44","v":""},{"$f":"'.'!X44","v":""},{"$f":"'.'!Y44","v":""}]
[{"$f":"'.'!W45","v":""},{"$f":"'.'!X45","v":""},{"$f":"'.'!Y45","v":""}]
[{"$f":"'.'!W46","v":""},{"$f":"'.'!X46","v":""},{"$f":"'.'!Y46","v":""}]
[{"$f":"'.'!W47","v":""},{"$f":"'.'!X47","v":""},{"$f":"'.'!Y47","v":""}]
[{"$f":"'.'!W48","v":""},{"$f":"'.'!X48","v":""},{"$f":"'.'!Y48","v":""}]
[{"$f":"'.'!W49","v":""},{"$f":"'.'!X49","v":""},{"$f":"'.'!Y49","v":""}]
[{"$f":"'.'!W50","v":""},{"$f":"'.'!X50","v":""},{"$f":"'.'!Y50","v":""}]
[{"$f":"'.'!W51","v":""},{"$f":"'.'!X51","v":""},{"$f":"'.'!Y51","v":""}]
[{"$f":"'.'!W52","v":""},{"$f":"'.'!X52","v":""},{"$f":"'.'!Y52","v":""}]
[{"$f":"'.'!W53","v":""},{"$f":"'.'!X53","v":""},{"$f":"'.'!Y53","v":""}]
[{"$f":"'.'!W54","v":""},{"$f":"'.'!X54","v":""},{"$f":"'.'!Y54","v":""}]
[{"$f":"'.'!W55","v":""},{"$f":"'.'!X55","v":""},{"$f":"'.'!Y55","v":""}]
[{"$f":"'.'!W56","v":""},{"$f":"'.'!X56","v":""},{"$f":"'.'!Y56","v":""}]
[{"$f":"'.'!W57","v":""},{"$f":"'.'!X57","v":""},{"$f":"'.'!Y57","v":""}]
[{"$f":"'.'!W58","v":""},{"$f":"'.'!X58","v":""},{"$f":"'.'!Y58","v":""}]
[{"$f":"'.'!W59","v":""},{"$f":"'.'!X59","v":""},{"$f":"'.'!Y59","v":""}]
[{"$f":"'.'!W60","v":""},{"$f":"'.'!X60","v":""},{"$f":"'.'!Y60","v":""}]
[{"$f":"'.'!W61","v":""},{"$f":"'.'!X61","v":""},{"$f":"'.'!Y61","v":""}]
[{"$f":"'.'!W62","v":""},{"$f":"'.'!X62","v":""},{"$f":"'.'!Y62","v":""}]
[{"$f":"'.'!W63","v":""},{"$f":"'.'!X63","v":""},{"$f":"'.'!Y63","v":""}]
[{"$f":"'.'!W64","v":""},{"$f":"'.'!X64","v":""},{"$f":"'.'!Y64","v":""}]
[{"$f":"'.'!W65","v":""},{"$f":"'.'!X65","v":""},{"$f":"'.'!Y65","v":""}]
[{"$f":"'.'!W66","v":""},{"$f":"'.'!X66","v":""},{"$f":"'.'!Y66","v":""}]
[{"$f":"'.'!W67","v":""},{"$f":"'.'!X67","v":""},{"$f":"'.'!Y67","v":""}]
[{"$f":"'.'!W68","v":""},{"$f":"'.'!X68","v":""},{"$f":"'.'!Y68","v":""}]
[{"$f":"'.'!W69","v":""},{"$f":"'.'!X69","v":""},{"$f":"'.'!Y69","v":""}]
[{"$f":"'.'!W70","v":""},{"$f":"'.'!X70","v":""},{"$f":"'.'!Y70","v":""}]
[{"$f":"'.'!W71","v":""},{"$f":"'.'!X71","v":""},{"$f":"'.'!Y71","v":""}]
[{"$f":"'.'!W72","v":""},{"$f":"'.'!X72","v":""},{"$f":"'.'!Y72","v":""}]
[{"$f":"'.'!W73","v":""},{"$f":"'.'!X73","v":""},{"$f":"'.'!Y73","v":""}]
[{"$f":"'.'!W74","v":""},{"$f":"'.'!X74","v":""},{"$f":"'.'!Y74","v":""}]
[{"$f":"'.'!W75","v":""},{"$f":"'.'!X75","v":""},{"$f":"'.'!Y75","v":""}]
[{"$f":"'.'!W76","v":""},{"$f":"'.'!X76","v":""},{"$f":"'.'!Y76","v":""}]
[{"$f":"'.'!W77","v":""},{"$f":"'.'!X77","v":""},{"$f":"'.'!Y77","v":""}]
[{"$f":"'.'!W78","v":""},{"$f":"'.'!X78","v":""},{"$f":"'.'!Y78","v":""}]
[{"$f":"'.'!W79","v":""},{"$f":"'.'!X79","v":""},{"$f":"'.'!Y79","v":""}]
[{"$f":"'.'!W80","v":""},{"$f":"'.'!X80","v":""},{"$f":"'.'!Y80","v":""}]
[{"$f":"'.'!W81","v":""},{"$f":"'.'!X81","v":""},{"$f":"'.'!Y81","v":""}]
[{"$f":"'.'!W82","v":""},{"$f":"'.'!X82","v":""},{"$f":"'.'!Y82","v":""}]
[{"$f":"'.'!W83","v":""},{"$f":"'.'!X83","v":""},{"$f":"'.'!Y83","v":""}]
[{"$f":"'.'!W84","v":""},{"$f":"'.'!X84","v":""},{"$f":"'.'!Y84","v":""}]
[{"$f":"'.'!W85","v":""},{"$f":"'.'!X85","v":""},{"$f":"'.'!Y85","v":""}]
[{"$f":"'.'!W86","v":""},{"$f":"'.'!X86","v":""},{"$f":"'.'!Y86","v":""}]
[{"$f":"'.'!W87","v":""},{"$f":"'.'!X87","v":""},{"$f":"'.'!Y87","v":""}]
[{"$f":"'.'!W88","v":""},{"$f":"'.'!X88","v":""},{"$f":"'.'!Y88","v":""}]
[{"$f":"'.'!W89","v":""},{"$f":"'.'!X89","v":""},{"$f":"'.'!Y89","v":""}]
[{"$f":"'.'!W90","v":""},{"$f":"'.'!X90","v":""},{"$f":"'.'!Y90","v":""}]
[{"$f":"'.'!W91","v":""},{"$f":"'.'!X91","v":""},{"$f":"'.'!Y91","v":""}]
[{"$f":"'.'!W92","v":""},{"$f":"'.'!X92","v":""},{"$f":"'.'!Y92","v":""}]
[{"$f":"'.'!W93","v":""},{"$f":"'.'!X93","v":""},{"$f":"'.'!Y93","v":""}]
[{"$f":"'.'!W94","v":""},{"$f":"'.'!X94","v":""},{"$f":"'.'!Y94","v":""}]
[{"$f":"'.'!W95","v":""},{"$f":"'.'!X95","v":""},{"$f":"'.'!Y95","v":""}]
[{"$f":"'.'!W96","v":""},{"$f":"'.'!X96","v":""},{"$f":"'.'!Y96","v":""}]
[{"$f":"'.'!W97","v":""},{"$f":"'.'!X97","v":""},{"$f":"'.'!Y97","v":""}]
[{"$f":"'.'!W98","v":""},{"$f":"'.'!X98","v":""},{"$f":"'.'!Y98","v":""}]
[{"$f":"'.'!W99","v":""},{"$f":"'.'!X99","v":""},{"$f":"'.'!Y99","v":""}]
[{"$f":"'.'!W100","v":""},{"$f":"'.'!X100","v":""},{"$f":"'.'!Y100","v":""}]
[{"$f":"'.'!W101","v":""},{"$f":"'.'!X101","v":""},{"$f":"'.'!Y101","v":""}]
[{"$f":"'.'!W102","v":""},{"$f":"'.'!X102","v":""},{"$f":"'.'!Y102","v":""}]
[{"$f":"'.'!W103","v":""},{"$f":"'.'!X103","v":""},{"$f":"'.'!Y103","v":""}]
[{"$f":"'.'!W104","v":""},{"$f":"'.'!X104","v":""},{"$f":"'.'!Y104","v":""}]
[{"$f":"'.'!W105","v":""},{"$f":"'.'!X105","v":""},{"$f":"'.'!Y105","v":""}]
[{"$f":"'.'!W106","v":""},{"$f":"'.'!X106","v":""},{"$f":"'.'!Y106","v":""}]
[{"$f":"'.'!W107","v":""},{"$f":"'.'!X107","v":""},{"$f":"'.'!Y107","v":""}]
[{"$f":"'.'!W108","v":""},{"$f":"'.'!X108","v":""},{"$f":"'.'!Y108","v":""}]
[{"$f":"'.'!W109","v":""},{"$f":"'.'!X109","v":""},{"$f":"'.'!Y109","v":""}]
[{"$f":"'.'!W110","v":""},{"$f":"'.'!X110","v":""},{"$f":"'.'!Y110","v":""}]
[{"$f":"'.'!W111","v":""},{"$f":"'.'!X111","v":""},{"$f":"'.'!Y111","v":""}]
[{"$f":"'.'!W112","v":""},{"$f":"'.'!X112","v":""},{"$f":"'.'!Y112","v":""}]
[{"$f":"'.'!W113","v":""},{"$f":"'.'!X113","v":""},{"$f":"'.'!Y113","v":""}]
[{"$f":"'.'!W114","v":""},{"$f":"'.'!X114","v":""},{"$f":"'.'!Y114","v":""}]
[{"$f":"'.'!W115","v":""},{"$f":"'.'!X115","v":""},{"$f":"'.'!Y115","v":""}]
[{"$f":"'.'!W116","v":""},{"$f":"'.'!X116","v":""},{"$f":"'.'!Y116","v":""}]
[{"$f":"'.'!W117","v":""},{"$f":"'.'!X117","v":""},{"$f":"'.'!Y117","v":""}]
[{"$f":"'.'!W118","v":""},{"$f":"'.'!X118","v":""},{"$f":"'.'!Y118","v":""}]
[{"$f":"'.'!W119","v":""},{"$f":"'.'!X119","v":""},{"$f":"'.'!Y119","v":""}]
[{"$f":"'.'!W120","v":""},{"$f":"'.'!X120","v":""},{"$f":"'.'!Y120","v":""}]
[{"$f":"'.'!W121","v":""},{"$f":"'.'!X121","v":""},{"$f":"'.'!Y121","v":""}]
[{"$f":"'.'!W122","v":""},{"$f":"'.'!X122","v":""},{"$f":"'.'!Y122","v":""}]
[{"$f":"'.'!W123","v":""},{"$f":"'.'!X123","v":""},{"$f":"'.'!Y123","v":""}]
[{"$f":"'.'!W124","v":""},{"$f":"'.'!X124","v":""},{"$f":"'.'!Y124","v":""}]
[{"$f":"'.'!W125","v":""},{"$f":"'.'!X125","v":""},{"$f":"'.'!Y125","v":""}]
[{"$f":"'.'!W126","v":""},{"$f":"'.'!X126","v":""},{"$f":"'.'!Y126","v":""}]
[{"$f":"'.'!W127","v":""},{"$f":"'.'!X127","v":""},{"$f":"'.'!Y127","v":""}]
[{"$f":"'.'!W128","v":""},{"$f":"'.'!X128","v":""},{"$f":"'.'!Y128","v":""}]
[{"$f":"'.'!W129","v":""},{"$f":"'.'!X129","v":""},{"$f":"'.'!Y129","v":""}]
[{"$f":"'.'!W130","v":""},{"$f":"'.'!X130","v":""},{"$f":"'.'!Y130","v":""}]
[{"$f":"'.'!W131","v":""},{"$f":"'.'!X131","v":""},{"$f":"'.'!Y131","v":""}]
[{"$f":"'.'!W132","v":""},{"$f":"'.'!X132","v":""},{"$f":"'.'!Y132","v":""}]
[{"$f":"'.'!W133","v":""},{"$f":"'.'!X133","v":""},{"$f":"'.'!Y133","v":""}]
[{"$f":"'.'!W134","v":""},{"$f":"'.'!X134","v":""},{"$f":"'.'!Y134","v":""}]
[{"$f":"'.'!W135","v":""},{"$f":"'.'!X135","v":""},{"$f":"'.'!Y135","v":""}]
[{"$f":"'.'!W136","v":""},{"$f":"'.'!X136","v":""},{"$f":"'.'!Y136","v":""}]
[{"$f":"'.'!W137","v":""},{"$f":"'.'!X137","v":""},{"$f":"'.'!Y137","v":""}]
[{"$f":"'.'!W138","v":""},{"$f":"'.'!X138","v":""},{"$f":"'.'!Y138","v":""}]
[{"$f":"'.'!W139","v":""},{"$f":"'.'!X139","v":""},{"$f":"'.'!Y139","v":""}]
[{"$f":"'.'!W140","v":""},{"$f":"'.'!X140","v":""},{"$f":"'.'!Y140","v":""}]
[{"$f":"'.'!W141","v":""},{"$f":"'.'!X141","v":""},{"$f":"'.'!Y141","v":""}]
[{"$f":"'.'!W142","v":""},{"$f":"'.'!X142","v":""},{"$f":"'.'!Y142","v":""}]
[{"$f":"'.'!W143","v":""},{"$f":"'.'!X143","v":""},{"$f":"'.'!Y143","v":""}]
[{"$f":"'.'!W144","v":""},{"$f":"'.'!X144","v":""},{"$f":"'.'!Y144","v":""}]
[{"$f":"'.'!W145","v":""},{"$f":"'.'!X145","v":""},{"$f":"'.'!Y145","v":""}]
[{"$f":"'.'!W146","v":""},{"$f":"'.'!X146","v":""},{"$f":"'.'!Y146","v":""}]
[{"$f":"'.'!W147","v":""},{"$f":"'.'!X147","v":""},{"$f":"'.'!Y147","v":""}]
[{"$f":"'.'!W148","v":""},{"$f":"'.'!X148","v":""},{"$f":"'.'!Y148","v":""}]
[{"$f":"'.'!W149","v":""},{"$f":"'.'!X149","v":""},{"$f":"'.'!Y149","v":""}]
[{"$f":"'.'!W150","v":""},{"$f":"'.'!X150","v":""},{"$f":"'.'!Y150","v":""}]
[{"$f":"'.'!W151","v":""},{"$f":"'.'!X151","v":""},{"$f":"'.'!Y151","v":""}]
[{"$f":"'.'!W152","v":""},{"$f":"'.'!X152","v":""},{"$f":"'.'!Y152","v":""}]
[{"$f":"'.'!W153","v":""},{"$f":"'.'!X153","v":""},{"$f":"'.'!Y153","v":""}]
[{"$f":"'.'!W154","v":""},{"$f":"'.'!X154","v":""},{"$f":"'.'!Y154","v":""}]
[{"$f":"'.'!W155","v":""},{"$f":"'.'!X155","v":""},{"$f":"'.'!Y155","v":""}]
[{"$f":"'.'!W156","v":""},{"$f":"'.'!X156","v":""},{"$f":"'.'!Y156","v":""}]
[{"$f":"'.'!W157","v":""},{"$f":"'.'!X157","v":""},{"$f":"'.'!Y157","v":""}]
[{"$f":"'.'!W158","v":""},{"$f":"'.'!X158","v":""},{"$f":"'.'!Y158","v":""}]
[{"$f":"'.'!W159","v":""},{"$f":"'.'!X159","v":""},{"$f":"'.'!Y159","v":""}]
[{"$f":"'.'!W160","v":""},{"$f":"'.'!X160","v":""},{"$f":"'.'!Y160","v":""}]
[{"$f":"'.'!W161","v":""},{"$f":"'.'!X161","v":""},{"$f":"'.'!Y161","v":""}]
[{"$f":"'.'!W162","v":""},{"$f":"'.'!X162","v":""},{"$f":"'.'!Y162","v":""}]
[{"$f":"'.'!W163","v":""},{"$f":"'.'!X163","v":""},{"$f":"'.'!Y163","v":""}]
[{"$f":"'.'!W164","v":""},{"$f":"'.'!X164","v":""},{"$f":"'.'!Y164","v":""}]
[{"$f":"'.'!W165","v":""},{"$f":"'.'!X165","v":""},{"$f":"'.'!Y165","v":""}]
[{"$f":"'.'!W166","v":""},{"$f":"'.'!X166","v":""},{"$f":"'.'!Y166","v":""}]
[{"$f":"'.'!W167","v":""},{"$f":"'.'!X167","v":""},{"$f":"'.'!Y167","v":""}]
[{"$f":"'.'!W168","v":""},{"$f":"'.'!X168","v":""},{"$f":"'.'!Y168","v":""}]
[{"$f":"'.'!W169","v":""},{"$f":"'.'!X169","v":""},{"$f":"'.'!Y169","v":""}]
[{"$f":"'.'!W170","v":""},{"$f":"'.'!X170","v":""},{"$f":"'.'!Y170","v":""}]
[{"$f":"'.'!W171","v":""},{"$f":"'.'!X171","v":""},{"$f":"'.'!Y171","v":""}]
[{"$f":"'.'!W172","v":""},{"$f":"'.'!X172","v":""},{"$f":"'.'!Y172","v":""}]
[{"$f":"'.'!W173","v":""},{"$f":"'.'!X173","v":""},{"$f":"'.'!Y173","v":""}]
[{"$f":"'.'!W174","v":""},{"$f":"'.'!X174","v":""},{"$f":"'.'!Y174","v":""}]
[{"$f":"'.'!W175","v":""},{"$f":"'.'!X175","v":""},{"$f":"'.'!Y175","v":""}]
[{"$f":"'.'!W176","v":""},{"$f":"'.'!X176","v":""},{"$f":"'.'!Y176","v":""}]
[{"$f":"'.'!W177","v":""},{"$f":"'.'!X177","v":""},{"$f":"'.'!Y177","v":""}]
[{"$f":"'.'!W178","v":""},{"$f":"'.'!X178","v":""},{"$f":"'.'!Y178","v":""}]
[{"$f":"'.'!W179","v":""},{"$f":"'.'!X179","v":""},{"$f":"'.'!Y179","v":""}]
[{"$f":"'.'!W180","v":""},{"$f":"'.'!X180","v":""},{"$f":"'.'!Y180","v":""}]
[{"$f":"'.'!W181","v":""},{"$f":"'.'!X181","v":""},{"$f":"'.'!Y181","v":""}]
[{"$f":"'.'!W182","v":""},{"$f":"'.'!X182","v":""},{"$f":"'.'!Y182","v":""}]
[{"$f":"'.'!W183","v":""},{"$f":"'.'!X183","v":""},{"$f":"'.'!Y183","v":""}]
[{"$f":"'.'!W184","v":""},{"$f":"'.'!X184","v":""},{"$f":"'.'!Y184","v":""}]
[{"$f":"'.'!W185","v":""},{"$f":"'.'!X185","v":""},{"$f":"'.'!Y185","v":""}]
[{"$f":"'.'!W186","v":""},{"$f":"'.'!X186","v":""},{"$f":"'.'!Y186","v":""}]
[{"$f":"'.'!W187","v":""},{"$f":"'.'!X187","v":""},{"$f":"'.'!Y187","v":""}]
[{"$f":"'.'!W188","v":""},{"$f":"'.'!X188","v":""},{"$f":"'.'!Y188","v":""}]
[{"$f":"'.'!W189","v":""},{"$f":"'.'!X189","v":""},{"$f":"'.'!Y189","v":""}]
[{"$f":"'.'!W190","v":""},{"$f":"'.'!X190","v":""},{"$f":"'.'!Y190","v":""}]
[{"$f":"'.'!W191","v":""},{"$f":"'.'!X191","v":""},{"$f":"'.'!Y191","v":""}]
[{"$f":"'.'!W192","v":""},{"$f":"'.'!X192","v":""},{"$f":"'.'!Y192","v":""}]
[{"$f":"'.'!W193","v":""},{"$f":"'.'!X193","v":""},{"$f":"'.'!Y193","v":""}]
[{"$f":"'.'!W194","v":""},{"$f":"'.'!X194","v":""},{"$f":"'.'!Y194","v":""}]
[{"$f":"'.'!W195","v":""},{"$f":"'.'!X195","v":""},{"$f":"'.'!Y195","v":""}]
[{"$f":"'.'!W196","v":""},{"$f":"'.'!X196","v":""},{"$f":"'.'!Y196","v":""}]
[{"$f":"'.'!W197","v":""},{"$f":"'.'!X197","v":""},{"$f":"'.'!Y197","v":""}]
[{"$f":"'.'!W198","v":""},{"$f":"'.'!X198","v":""},{"$f":"'.'!Y198","v":""}]
[{"$f":"'.'!W199","v":""},{"$f":"'.'!X199","v":""},{"$f":"'.'!Y199","v":""}]
[{"$f":"'.'!W200","v":""},{"$f":"'.'!X200","v":""},{"$f":"'.'!Y200","v":""}]
[{"$f":"'.'!W201","v":""},{"$f":"'.'!X201","v":""},{"$f":"'.'!Y201","v":""}]
[{"$f":"'.'!W202","v":""},{"$f":"'.'!X202","v":""},{"$f":"'.'!Y202","v":""}]
[{"$f":"'.'!W203","v":""},{"$f":"'.'!X203","v":""},{"$f":"'.'!Y203","v":""}]
[{"$f":"'.'!W204","v":""},{"$f":"'.'!X204","v":""},{"$f":"'.'!Y204","v":""}]
[{"$f":"'.'!W205","v":""},{"$f":"'.'!X205","v":""},{"$f":"'.'!Y205","v":""}]
[{"$f":"'.'!W206","v":""},{"$f":"'.'!X206","v":""},{"$f":"'.'!Y206","v":""}]
[{"$f":"'.'!W207","v":""},{"$f":"'.'!X207","v":""},{"$f":"'.'!Y207","v":""}]
[{"$f":"'.'!W208","v":""},{"$f":"'.'!X208","v":""},{"$f":"'.'!Y208","v":""}]
[{"$f":"'.'!W209","v":""},{"$f":"'.'!X209","v":""},{"$f":"'.'!Y209","v":""}]
[{"$f":"'.'!W210","v":""},{"$f":"'.'!X210","v":""},{"$f":"'.'!Y210","v":""}]
[{"$f":"'.'!W211","v":""},{"$f":"'.'!X211","v":""},{"$f":"'.'!Y211","v":""}]
[{"$f":"'.'!W212","v":""},{"$f":"'.'!X212","v":""},{"$f":"'.'!Y212","v":""}]
[{"$f":"'.'!W213","v":""},{"$f":"'.'!X213","v":""},{"$f":"'.'!Y213","v":""}]
[{"$f":"'.'!W214","v":""},{"$f":"'.'!X214","v":""},{"$f":"'.'!Y214","v":""}]
[{"$f":"'.'!W215","v":""},{"$f":"'.'!X215","v":""},{"$f":"'.'!Y215","v":""}]
[{"$f":"'.'!W216","v":""},{"$f":"'.'!X216","v":""},{"$f":"'.'!Y216","v":""}]
[{"$f":"'.'!W217","v":""},{"$f":"'.'!X217","v":""},{"$f":"'.'!Y217","v":""}]
[{"$f":"'.'!W218","v":""},{"$f":"'.'!X218","v":""},{"$f":"'.'!Y218","v":""}]
[{"$f":"'.'!W219","v":""},{"$f":"'.'!X219","v":""},{"$f":"'.'!Y219","v":""}]
[{"$f":"'.'!W220","v":""},{"$f":"'.'!X220","v":""},{"$f":"'.'!Y220","v":""}]
[{"$f":"'.'!W221","v":""},{"$f":"'.'!X221","v":""},{"$f":"'.'!Y221","v":""}]
[{"$f":"'.'!W222","v":""},{"$f":"'.'!X222","v":""},{"$f":"'.'!Y222","v":""}]
[{"$f":"'.'!W223","v":""},{"$f":"'.'!X223","v":""},{"$f":"'.'!Y223","v":""}]
[{"$f":"'.'!W224","v":""},{"$f":"'.'!X224","v":""},{"$f":"'.'!Y224","v":""}]
[{"$f":"'.'!W225","v":""},{"$f":"'.'!X225","v":""},{"$f":"'.'!Y225","v":""}]
[{"$f":"'.'!W226","v":""},{"$f":"'.'!X226","v":""},{"$f":"'.'!Y226","v":""}]
[{"$f":"'.'!W227","v":""},{"$f":"'.'!X227","v":""},{"$f":"'.'!Y227","v":""}]
[{"$f":"'.'!W228","v":""},{"$f":"'.'!X228","v":""},{"$f":"'.'!Y228","v":""}]
[{"$f":"'.'!W229","v":""},{"$f":"'.'!X229","v":""},{"$f":"'.'!Y229","v":""}]
[{"$f":"'.'!W230","v":""},{"$f":"'.'!X230","v":""},{"$f":"'.'!Y230","v":""}]
[{"$f":"'.'!W231","v":""},{"$f":"'.'!X231","v":""},{"$f":"'.'!Y231","v":""}]
[{"$f":"'.'!W232","v":""},{"$f":"'.'!X232","v":""},{"$f":"'.'!Y232","v":""}]
[{"$f":"'.'!W233","v":""},{"$f":"'.'!X233","v":""},{"$f":"'.'!Y233","v":""}]
[{"$f":"'.'!W234","v":""},{"$f":"'.'!X234","v":""},{"$f":"'.'!Y234","v":""}]
[{"$f":"'.'!W235","v":""},{"$f":"'.'!X235","v":""},{"$f":"'.'!Y235","v":""}]
[{"$f":"'.'!W236","v":""},{"$f":"'.'!X236","v":""},{"$f":"'.'!Y236","v":""}]
[{"$f":"'.'!W237","v":""},{"$f":"'.'!X237","v":""},{"$f":"'.'!Y237","v":""}]
[{"$f":"'.'!W238","v":""},{"$f":"'.'!X238","v":""},{"$f":"'.'!Y238","v":""}]
[{"$f":"'.'!W239","v":""},{"$f":"'.'!X239","v":""},{"$f":"'.'!Y239","v":""}]
[{"$f":"'.'!W240","v":""},{"$f":"'.'!X240","v":""},{"$f":"'.'!Y240","v":""}]
[{"$f":"'.'!W241","v":""},{"$f":"'.'!X241","v":""},{"$f":"'.'!Y241","v":""}]
[{"$f":"'.'!W242","v":""},{"$f":"'.'!X242","v":""},{"$f":"'.'!Y242","v":""}]
[{"$f":"'.'!W243","v":""},{"$f":"'.'!X243","v":""},{"$f":"'.'!Y243","v":""}]
[{"$f":"'.'!W244","v":""},{"$f":"'.'!X244","v":""},{"$f":"'.'!Y244","v":""}]
[{"$f":"'.'!W245","v":""},{"$f":"'.'!X245","v":""},{"$f":"'.'!Y245","v":""}]
[{"$f":"'.'!W246","v":""},{"$f":"'.'!X246","v":""},{"$f":"'.'!Y246","v":""}]
[{"$f":"'.'!W247","v":""},{"$f":"'.'!X247","v":""},{"$f":"'.'!Y247","v":""}]
[{"$f":"'.'!W248","v":""},{"$f":"'.'!X248","v":""},{"$f":"'.'!Y248","v":""}]
[{"$f":"'.'!W249","v":""},{"$f":"'.'!X249","v":""},{"$f":"'.'!Y249","v":""}]
[{"$f":"'.'!W250","v":""},{"$f":"'.'!X250","v":""},{"$f":"'.'!Y250","v":""}]
[{"$f":"'.'!W251","v":""},{"$f":"'.'!X251","v":""},{"$f":"'.'!Y251","v":""}]
[{"$f":"'.'!W252","v":""},{"$f":"'.'!X252","v":""},{"$f":"'.'!Y252","v":""}]
[{"$f":"'.'!W253","v":""},{"$f":"'.'!X253","v":""},{"$f":"'.'!Y253","v":""}]
[{"$f":"'.'!W254","v":""},{"$f":"'.'!X254","v":""},{"$f":"'.'!Y254","v":""}]
[{"$f":"'.'!W255","v":""},{"$f":"'.'!X255","v":""},{"$f":"'.'!Y255","v":""}]
[{"$f":"'.'!W256","v":""},{"$f":"'.'!X256","v":""},{"$f":"'.'!Y256","v":""}]
[{"$f":"'.'!W257","v":""},{"$f":"'.'!X257","v":""},{"$f":"'.'!Y257","v":""}]
[{"$f":"'.'!W258","v":""},{"$f":"'.'!X258","v":""},{"$f":"'.'!Y258","v":""}]
[{"$f":"'.'!W259","v":""},{"$f":"'.'!X259","v":""},{"$f":"'.'!Y259","v":""}]
[{"$f":"'.'!W260","v":""},{"$f":"'.'!X260","v":""},{"$f":"'.'!Y260","v":""}]
[{"$f":"'.'!W261","v":""},{"$f":"'.'!X261","v":""},{"$f":"'.'!Y261","v":""}]
[{"$f":"'.'!W262","v":""},{"$f":"'.'!X262","v":""},{"$f":"'.'!Y262","v":""}]
[{"$f":"'.'!W263","v":""},{"$f":"'.'!X263","v":""},{"$f":"'.'!Y263","v":""}]
[{"$f":"'.'!W264","v":""},{"$f":"'.'!X264","v":""},{"$f":"'.'!Y264","v":""}]
[{"$f":"'.'!W265","v":""},{"$f":"'.'!X265","v":""},{"$f":"'.'!Y265","v":""}]
[{"$f":"'.'!W266","v":""},{"$f":"'.'!X266","v":""},{"$f":"'.'!Y266","v":""}]
[{"$f":"'.'!W267","v":""},{"$f":"'.'!X267","v":""},{"$f":"'.'!Y267","v":""}]
[{"$f":"'.'!W268","v":""},{"$f":"'.'!X268","v":""},{"$f":"'.'!Y268","v":""}]
[{"$f":"'.'!W269","v":""},{"$f":"'.'!X269","v":""},{"$f":"'.'!Y269","v":""}]
[{"$f":"'.'!W270","v":""},{"$f":"'.'!X270","v":""},{"$f":"'.'!Y270","v":""}]
[{"$f":"'.'!W271","v":""},{"$f":"'.'!X271","v":""},{"$f":"'.'!Y271","v":""}]
[{"$f":"'.'!W272","v":""},{"$f":"'.'!X272","v":""},{"$f":"'.'!Y272","v":""}]
[{"$f":"'.'!W273","v":""},{"$f":"'.'!X273","v":""},{"$f":"'.'!Y273","v":""}]
[{"$f":"'.'!W274","v":""},{"$f":"'.'!X274","v":""},{"$f":"'.'!Y274","v":""}]
[{"$f":"'.'!W275","v":""},{"$f":"'.'!X275","v":""},{"$f":"'.'!Y275","v":""}]
[{"$f":"'.'!W276","v":""},{"$f":"'.'!X276","v":""},{"$f":"'.'!Y276","v":""}]
[{"$f":"'.'!W277","v":""},{"$f":"'.'!X277","v":""},{"$f":"'.'!Y277","v":""}]
[{"$f":"'.'!W278","v":""},{"$f":"'.'!X278","v":""},{"$f":"'.'!Y278","v":""}]
[{"$f":"'.'!W279","v":""},{"$f":"'.'!X279","v":""},{"$f":"'.'!Y279","v":""}]
[{"$f":"'.'!W280","v":""},{"$f":"'.'!X280","v":""},{"$f":"'.'!Y280","v":""}]
[{"$f":"'.'!W281","v":""},{"$f":"'.'!X281","v":""},{"$f":"'.'!Y281","v":""}]
[{"$f":"'.'!W282","v":""},{"$f":"'.'!X282","v":""},{"$f":"'.'!Y282","v":""}]
[{"$f":"'.'!W283","v":""},{"$f":"'.'!X283","v":""},{"$f":"'.'!Y283","v":""}]
[{"$f":"'.'!W284","v":""},{"$f":"'.'!X284","v":""},{"$f":"'.'!Y284","v":""}]
[{"$f":"'.'!W285","v":""},{"$f":"'.'!X285","v":""},{"$f":"'.'!Y285","v":""}]
[{"$f":"'.'!W286","v":""},{"$f":"'.'!X286","v":""},{"$f":"'.'!Y286","v":""}]
[{"$f":"'.'!W287","v":""},{"$f":"'.'!X287","v":""},{"$f":"'.'!Y287","v":""}]
[{"$f":"'.'!W288","v":""},{"$f":"'.'!X288","v":""},{"$f":"'.'!Y288","v":""}]
[{"$f":"'.'!W289","v":""},{"$f":"'.'!X289","v":""},{"$f":"'.'!Y289","v":""}]
[{"$f":"'.'!W290","v":""},{"$f":"'.'!X290","v":""},{"$f":"'.'!Y290","v":""}]
[{"$f":"'.'!W291","v":""},{"$f":"'.'!X291","v":""},{"$f":"'.'!Y291","v":""}]
[{"$f":"'.'!W292","v":""},{"$f":"'.'!X292","v":""},{"$f":"'.'!Y292","v":""}]
[{"$f":"'.'!W293","v":""},{"$f":"'.'!X293","v":""},{"$f":"'.'!Y293","v":""}]
[{"$f":"'.'!W294","v":""},{"$f":"'.'!X294","v":""},{"$f":"'.'!Y294","v":""}]
[{"$f":"'.'!W295","v":""},{"$f":"'.'!X295","v":""},{"$f":"'.'!Y295","v":""}]
[{"$f":"'.'!W296","v":""},{"$f":"'.'!X296","v":""},{"$f":"'.'!Y296","v":""}]
[{"$f":"'.'!W297","v":""},{"$f":"'.'!X297","v":""},{"$f":"'.'!Y297","v":""}]
[{"$f":"'.'!W298","v":""},{"$f":"'.'!X298","v":""},{"$f":"'.'!Y298","v":""}]
[{"$f":"'.'!W299","v":""},{"$f":"'.'!X299","v":""},{"$f":"'.'!Y299","v":""}]
[{"$f":"'.'!W300","v":""},{"$f":"'.'!X300","v":""},{"$f":"'.'!Y300","v":""}]
[{"$f":"'.'!W301","v":""},{"$f":"'.'!X301","v":""},{"$f":"'.'!Y301","v":""}]
[{"$f":"'.'!W302","v":""},{"$f":"'.'!X302","v":""},{"$f":"'.'!Y302","v":""}]
[{"$f":"'.'!W303","v":""},{"$f":"'.'!X303","v":""},{"$f":"'.'!Y303","v":""}]
[{"$f":"'.'!W304","v":""},{"$f":"'.'!X304","v":""},{"$f":"'.'!Y304","v":""}]
[{"$f":"'.'!W305","v":""},{"$f":"'.'!X305","v":""},{"$f":"'.'!Y305","v":""}]
[{"$f":"'.'!W306","v":""},{"$f":"'.'!X306","v":""},{"$f":"'.'!Y306","v":""}]
[{"$f":"'.'!W307","v":""},{"$f":"'.'!X307","v":""},{"$f":"'.'!Y307","v":""}]
[{"$f":"'.'!W308","v":""},{"$f":"'.'!X308","v":""},{"$f":"'.'!Y308","v":""}]
[{"$f":"'.'!W309","v":""},{"$f":"'.'!X309","v":""},{"$f":"'.'!Y309","v":""}]
[{"$f":"'.'!W310","v":""},{"$f":"'.'!X310","v":""},{"$f":"'.'!Y310","v":""}]
[{"$f":"'.'!W311","v":""},{"$f":"'.'!X311","v":""},{"$f":"'.'!Y311","v":""}]
[{"$f":"'.'!W312","v":""},{"$f":"'.'!X312","v":""},{"$f":"'.'!Y312","v":""}]
[{"$f":"'.'!W313","v":""},{"$f":"'.'!X313","v":""},{"$f":"'.'!Y313","v":""}]
[{"$f":"'.'!W314","v":""},{"$f":"'.'!X314","v":""},{"$f":"'.'!Y314","v":""}]
[{"$f":"'.'!W315","v":""},{"$f":"'.'!X315","v":""},{"$f":"'.'!Y315","v":""}]
[{"$f":"'.'!W316","v":""},{"$f":"'.'!X316","v":""},{"$f":"'.'!Y316","v":""}]
[{"$f":"'.'!W317","v":""},{"$f":"'.'!X317","v":""},{"$f":"'.'!Y317","v":""}]
[{"$f":"'.'!W318","v":""},{"$f":"'.'!X318","v":""},{"$f":"'.'!Y318","v":""}]
[{"$f":"'.'!W319","v":""},{"$f":"'.'!X319","v":""},{"$f":"'.'!Y319","v":""}]
[{"$f":"'.'!W320","v":""},{"$f":"'.'!X320","v":""},{"$f":"'.'!Y320","v":""}]
[{"$f":"'.'!W321","v":""},{"$f":"'.'!X321","v":""},{"$f":"'.'!Y321","v":""}]
[{"$f":"'.'!W322","v":""},{"$f":"'.'!X322","v":""},{"$f":"'.'!Y322","v":""}]
[{"$f":"'.'!W323","v":""},{"$f":"'.'!X323","v":""},{"$f":"'.'!Y323","v":""}]
[{"$f":"'.'!W324","v":""},{"$f":"'.'!X324","v":""},{"$f":"'.'!Y324","v":""}]
[{"$f":"'.'!W325","v":""},{"$f":"'.'!X325","v":""},{"$f":"'.'!Y325","v":""}]
[{"$f":"'.'!W326","v":""},{"$f":"'.'!X326","v":""},{"$f":"'.'!Y326","v":""}]
[{"$f":"'.'!W327","v":""},{"$f":"'.'!X327","v":""},{"$f":"'.'!Y327","v":""}]
[{"$f":"'.'!W328","v":""},{"$f":"'.'!X328","v":""},{"$f":"'.'!Y328","v":""}]
[{"$f":"'.'!W329","v":""},{"$f":"'.'!X329","v":""},{"$f":"'.'!Y329","v":""}]
[{"$f":"'.'!W330","v":""},{"$f":"'.'!X330","v":""},{"$f":"'.'!Y330","v":""}]
[{"$f":"'.'!W331","v":""},{"$f":"'.'!X331","v":""},{"$f":"'.'!Y331","v":""}]
[{"$f":"'.'!W332","v":""},{"$f":"'.'!X332","v":""},{"$f":"'.'!Y332","v":""}]
[{"$f":"'.'!W333","v":""},{"$f":"'.'!X333","v":""},{"$f":"'.'!Y333","v":""}]
[{"$f":"'.'!W334","v":""},{"$f":"'.'!X334","v":""},{"$f":"'.'!Y334","v":""}]
[{"$f":"'.'!W335","v":""},{"$f":"'.'!X335","v":""},{"$f":"'.'!Y335","v":""}]
[{"$f":"'.'!W336","v":""},{"$f":"'.'!X336","v":""},{"$f":"'.'!Y336","v":""}]
[{"$f":"'.'!W337","v":""},{"$f":"'.'!X337","v":""},{"$f":"'.'!Y337","v":""}]
[{"$f":"'.'!W338","v":""},{"$f":"'.'!X338","v":""},{"$f":"'.'!Y338","v":""}]
[{"$f":"'.'!W339","v":""},{"$f":"'.'!X339","v":""},{"$f":"'.'!Y339","v":""}]
[{"$f":"'.'!W340","v":""},{"$f":"'.'!X340","v":""},{"$f":"'.'!Y340","v":""}]
[{"$f":"'.'!W341","v":""},{"$f":"'.'!X341","v":""},{"$f":"'.'!Y341","v":""}]
[{"$f":"'.'!W342","v":""},{"$f":"'.'!X342","v":""},{"$f":"'.'!Y342","v":""}]
[{"$f":"'.'!W343","v":""},{"$f":"'.'!X343","v":""},{"$f":"'.'!Y343","v":""}]
[{"$f":"'.'!W344","v":""},{"$f":"'.'!X344","v":""},{"$f":"'.'!Y344","v":""}]
[{"$f":"'.'!W345","v":""},{"$f":"'.'!X345","v":""},{"$f":"'.'!Y345","v":""}]
[{"$f":"'.'!W346","v":""},{"$f":"'.'!X346","v":""},{"$f":"'.'!Y346","v":""}]
[{"$f":"'.'!W347","v":""},{"$f":"'.'!X347","v":""},{"$f":"'.'!Y347","v":""}]
[{"$f":"'.'!W348","v":""},{"$f":"'.'!X348","v":""},{"$f":"'.'!Y348","v":""}]
[{"$f":"'.'!W349","v":""},{"$f":"'.'!X349","v":""},{"$f":"'.'!Y349","v":""}]
[{"$f":"'.'!W350","v":""},{"$f":"'.'!X350","v":""},{"$f":"'.'!Y350","v":""}]
[{"$f":"'.'!W351","v":""},{"$f":"'.'!X351","v":""},{"$f":"'.'!Y351","v":""}]
[{"$f":"'.'!W352","v":""},{"$f":"'.'!X352","v":""},{"$f":"'.'!Y352","v":""}]
[{"$f":"'.'!W353","v":""},{"$f":"'.'!X353","v":""},{"$f":"'.'!Y353","v":""}]
[{"$f":"'.'!W354","v":""},{"$f":"'.'!X354","v":""},{"$f":"'.'!Y354","v":""}]
[{"$f":"'.'!W355","v":""},{"$f":"'.'!X355","v":""},{"$f":"'.'!Y355","v":""}]
[{"$f":"'.'!W356","v":""},{"$f":"'.'!X356","v":""},{"$f":"'.'!Y356","v":""}]
[{"$f":"'.'!W357","v":""},{"$f":"'.'!X357","v":""},{"$f":"'.'!Y357","v":""}]
[{"$f":"'.'!W358","v":""},{"$f":"'.'!X358","v":""},{"$f":"'.'!Y358","v":""}]
[{"$f":"'.'!W359","v":""},{"$f":"'.'!X359","v":""},{"$f":"'.'!Y359","v":""}]
[{"$f":"'.'!W360","v":""},{"$f":"'.'!X360","v":""},{"$f":"'.'!Y360","v":""}]
[{"$f":"'.'!W361","v":""},{"$f":"'.'!X361","v":""},{"$f":"'.'!Y361","v":""}]
[{"$f":"'.'!W362","v":""},{"$f":"'.'!X362","v":""},{"$f":"'.'!Y362","v":""}]
[{"$f":"'.'!W363","v":""},{"$f":"'.'!X363","v":""},{"$f":"'.'!Y363","v":""}]
[{"$f":"'.'!W364","v":""},{"$f":"'.'!X364","v":""},{"$f":"'.'!Y364","v":""}]
[{"$f":"'.'!W365","v":""},{"$f":"'.'!X365","v":""},{"$f":"'.'!Y365","v":""}]
[{"$f":"'.'!W366","v":""},{"$f":"'.'!X366","v":""},{"$f":"'.'!Y366","v":""}]
[{"$f":"'.'!W367","v":""},{"$f":"'.'!X367","v":""},{"$f":"'.'!Y367","v":""}]
[{"$f":"'.'!W368","v":""},{"$f":"'.'!X368","v":""},{"$f":"'.'!Y368","v":""}]
[{"$f":"'.'!W369","v":""},{"$f":"'.'!X369","v":""},{"$f":"'.'!Y369","v":""}]
[{"$f":"'.'!W370","v":""},{"$f":"'.'!X370","v":""},{"$f":"'.'!Y370","v":""}]
[{"$f":"'.'!W371","v":""},{"$f":"'.'!X371","v":""},{"$f":"'.'!Y371","v":""}]
[{"$f":"'.'!W372","v":""},{"$f":"'.'!X372","v":""},{"$f":"'.'!Y372","v":""}]
[{"$f":"'.'!W373","v":""},{"$f":"'.'!X373","v":""},{"$f":"'.'!Y373","v":""}]
[{"$f":"'.'!W374","v":""},{"$f":"'.'!X374","v":""},{"$f":"'.'!Y374","v":""}]
[{"$f":"'.'!W375","v":""},{"$f":"'.'!X375","v":""},{"$f":"'.'!Y375","v":""}]
[{"$f":"'.'!W376","v":""},{"$f":"'.'!X376","v":""},{"$f":"'.'!Y376","v":""}]
[{"$f":"'.'!W377","v":""},{"$f":"'.'!X377","v":""},{"$f":"'.'!Y377","v":""}]
[{"$f":"'.'!W378","v":""},{"$f":"'.'!X378","v":""},{"$f":"'.'!Y378","v":""}]
[{"$f":"'.'!W379","v":""},{"$f":"'.'!X379","v":""},{"$f":"'.'!Y379","v":""}]
[{"$f":"'.'!W380","v":""},{"$f":"'.'!X380","v":""},{"$f":"'.'!Y380","v":""}]
[{"$f":"'.'!W381","v":""},{"$f":"'.'!X381","v":""},{"$f":"'.'!Y381","v":""}]
[{"$f":"'.'!W382","v":""},{"$f":"'.'!X382","v":""},{"$f":"'.'!Y382","v":""}]
[{"$f":"'.'!W383","v":""},{"$f":"'.'!X383","v":""},{"$f":"'.'!Y383","v":""}]
[{"$f":"'.'!W384","v":""},{"$f":"'.'!X384","v":""},{"$f":"'.'!Y384","v":""}]
[{"$f":"'.'!W385","v":""},{"$f":"'.'!X385","v":""},{"$f":"'.'!Y385","v":""}]
[{"$f":"'.'!W386","v":""},{"$f":"'.'!X386","v":""},{"$f":"'.'!Y386","v":""}]
[{"$f":"'.'!W387","v":""},{"$f":"'.'!X387","v":""},{"$f":"'.'!Y387","v":""}]
[{"$f":"'.'!W388","v":""},{"$f":"'.'!X388","v":""},{"$f":"'.'!Y388","v":""}]
[{"$f":"'.'!W389","v":""},{"$f":"'.'!X389","v":""},{"$f":"'.'!Y389","v":""}]
[{"$f":"'.'!W390","v":""},{"$f":"'.'!X390","v":""},{"$f":"'.'!Y390","v":""}]
[{"$f":"'.'!W391","v":""},{"$f":"'.'!X391","v":""},{"$f":"'.'!Y391","v":""}]
[{"$f":"'.'!W392","v":""},{"$f":"'.'!X392","v":""},{"$f":"'.'!Y392","v":""}]
[{"$f":"'.'!W393","v":""},{"$f":"'.'!X393","v":""},{"$f":"'.'!Y393","v":""}]
[{"$f":"'.'!W394","v":""},{"$f":"'.'!X394","v":""},{"$f":"'.'!Y394","v":""}]
[{"$f":"'.'!W395","v":""},{"$f":"'.'!X395","v":""},{"$f":"'.'!Y395","v":""}]
[{"$f":"'.'!W396","v":""},{"$f":"'.'!X396","v":""},{"$f":"'.'!Y396","v":""}]
[{"$f":"'.'!W397","v":""},{"$f":"'.'!X397","v":""},{"$f":"'.'!Y397","v":""}]
[{"$f":"'.'!W398","v":""},{"$f":"'.'!X398","v":""},{"$f":"'.'!Y398","v":""}]
[{"$f":"'.'!W399","v":""},{"$f":"'.'!X399","v":""},{"$f":"'.'!Y399","v":""}]
[{"$f":"'.'!W400","v":""},{"$f":"'.'!X400","v":""},{"$f":"'.'!Y400","v":""}]
[{"$f":"'.'!W401","v":""},{"$f":"'.'!X401","v":""},{"$f":"'.'!Y401","v":""}]
[{"$f":"'.'!W402","v":""},{"$f":"'.'!X402","v":""},{"$f":"'.'!Y402","v":""}]
[{"$f":"'.'!W403","v":""},{"$f":"'.'!X403","v":""},{"$f":"'.'!Y403","v":""}]
[{"$f":"'.'!W404","v":""},{"$f":"'.'!X404","v":""},{"$f":"'.'!Y404","v":""}]
[{"$f":"'.'!W405","v":""},{"$f":"'.'!X405","v":""},{"$f":"'.'!Y405","v":""}]
[{"$f":"'.'!W406","v":""},{"$f":"'.'!X406","v":""},{"$f":"'.'!Y406","v":""}]
[{"$f":"'.'!W407","v":""},{"$f":"'.'!X407","v":""},{"$f":"'.'!Y407","v":""}]
[{"$f":"'.'!W408","v":""},{"$f":"'.'!X408","v":""},{"$f":"'.'!Y408","v":""}]
[{"$f":"'.'!W409","v":""},{"$f":"'.'!X409","v":""},{"$f":"'.'!Y409","v":""}]
[{"$f":"'.'!W410","v":""},{"$f":"'.'!X410","v":""},{"$f":"'.'!Y410","v":""}]
[{"$f":"'.'!W411","v":""},{"$f":"'.'!X411","v":""},{"$f":"'.'!Y411","v":""}]
[{"$f":"'.'!W412","v":""},{"$f":"'.'!X412","v":""},{"$f":"'.'!Y412","v":""}]
[{"$f":"'.'!W413","v":""},{"$f":"'.'!X413","v":""},{"$f":"'.'!Y413","v":""}]
[{"$f":"'.'!W414","v":""},{"$f":"'.'!X414","v":""},{"$f":"'.'!Y414","v":""}]
[{"$f":"'.'!W415","v":""},{"$f":"'.'!X415","v":""},{"$f":"'.'!Y415","v":""}]
[{"$f":"'.'!W416","v":""},{"$f":"'.'!X416","v":""},{"$f":"'.'!Y416","v":""}]
[{"$f":"'.'!W417","v":""},{"$f":"'.'!X417","v":""},{"$f":"'.'!Y417","v":""}]
[{"$f":"'.'!W418","v":""},{"$f":"'.'!X418","v":""},{"$f":"'.'!Y418","v":""}]
[{"$f":"'.'!W419","v":""},{"$f":"'.'!X419","v":""},{"$f":"'.'!Y419","v":""}]
[{"$f":"'.'!W420","v":""},{"$f":"'.'!X420","v":""},{"$f":"'.'!Y420","v":""}]
[{"$f":"'.'!W421","v":""},{"$f":"'.'!X421","v":""},{"$f":"'.'!Y421","v":""}]
[{"$f":"'.'!W422","v":""},{"$f":"'.'!X422","v":""},{"$f":"'.'!Y422","v":""}]
[{"$f":"'.'!W423","v":""},{"$f":"'.'!X423","v":""},{"$f":"'.'!Y423","v":""}]
[{"$f":"'.'!W424","v":""},{"$f":"'.'!X424","v":""},{"$f":"'.'!Y424","v":""}]
[{"$f":"'.'!W425","v":""},{"$f":"'.'!X425","v":""},{"$f":"'.'!Y425","v":""}]
[{"$f":"'.'!W426","v":""},{"$f":"'.'!X426","v":""},{"$f":"'.'!Y426","v":""}]
[{"$f":"'.'!W427","v":""},{"$f":"'.'!X427","v":""},{"$f":"'.'!Y427","v":""}]
[{"$f":"'.'!W428","v":""},{"$f":"'.'!X428","v":""},{"$f":"'.'!Y428","v":""}]
[{"$f":"'.'!W429","v":""},{"$f":"'.'!X429","v":""},{"$f":"'.'!Y429","v":""}]
[{"$f":"'.'!W430","v":""},{"$f":"'.'!X430","v":""},{"$f":"'.'!Y430","v":""}]
[{"$f":"'.'!W431","v":""},{"$f":"'.'!X431","v":""},{"$f":"'.'!Y431","v":""}]
[{"$f":"'.'!W432","v":""},{"$f":"'.'!X432","v":""},{"$f":"'.'!Y432","v":""}]
[{"$f":"'.'!W433","v":""},{"$f":"'.'!X433","v":""},{"$f":"'.'!Y433","v":""}]
[{"$f":"'.'!W434","v":""},{"$f":"'.'!X434","v":""},{"$f":"'.'!Y434","v":""}]
[{"$f":"'.'!W435","v":""},{"$f":"'.'!X435","v":""},{"$f":"'.'!Y435","v":""}]
[{"$f":"'.'!W436","v":""},{"$f":"'.'!X436","v":""},{"$f":"'.'!Y436","v":""}]
[{"$f":"'.'!W437","v":""},{"$f":"'.'!X437","v":""},{"$f":"'.'!Y437","v":""}]
[{"$f":"'.'!W438","v":""},{"$f":"'.'!X438","v":""},{"$f":"'.'!Y438","v":""}]
[{"$f":"'.'!W439","v":""},{"$f":"'.'!X439","v":""},{"$f":"'.'!Y439","v":""}]
[{"$f":"'.'!W440","v":""},{"$f":"'.'!X440","v":""},{"$f":"'.'!Y440","v":""}]
[{"$f":"'.'!W441","v":""},{"$f":"'.'!X441","v":""},{"$f":"'.'!Y441","v":""}]
[{"$f":"'.'!W442","v":""},{"$f":"'.'!X442","v":""},{"$f":"'.'!Y442","v":""}]
[{"$f":"'.'!W443","v":""},{"$f":"'.'!X443","v":""},{"$f":"'.'!Y443","v":""}]
[{"$f":"'.'!W444","v":""},{"$f":"'.'!X444","v":""},{"$f":"'.'!Y444","v":""}]
[{"$f":"'.'!W445","v":""},{"$f":"'.'!X445","v":""},{"$f":"'.'!Y445","v":""}]
[{"$f":"'.'!W446","v":""},{"$f":"'.'!X446","v":""},{"$f":"'.'!Y446","v":""}]
[{"$f":"'.'!W447","v":""},{"$f":"'.'!X447","v":""},{"$f":"'.'!Y447","v":""}]
[{"$f":"'.'!W448","v":""},{"$f":"'.'!X448","v":""},{"$f":"'.'!Y448","v":""}]
[{"$f":"'.'!W449","v":""},{"$f":"'.'!X449","v":""},{"$f":"'.'!Y449","v":""}]
[{"$f":"'.'!W450","v":""},{"$f":"'.'!X450","v":""},{"$f":"'.'!Y450","v":""}]
[{"$f":"'.'!W451","v":""},{"$f":"'.'!X451","v":""},{"$f":"'.'!Y451","v":""}]
[{"$f":"'.'!W452","v":""},{"$f":"'.'!X452","v":""},{"$f":"'.'!Y452","v":""}]
[{"$f":"'.'!W453","v":""},{"$f":"'.'!X453","v":""},{"$f":"'.'!Y453","v":""}]
[{"$f":"'.'!W454","v":""},{"$f":"'.'!X454","v":""},{"$f":"'.'!Y454","v":""}]
[{"$f":"'.'!W455","v":""},{"$f":"'.'!X455","v":""},{"$f":"'.'!Y455","v":""}]
[{"$f":"'.'!W456","v":""},{"$f":"'.'!X456","v":""},{"$f":"'.'!Y456","v":""}]
[{"$f":"'.'!W457","v":""},{"$f":"'.'!X457","v":""},{"$f":"'.'!Y457","v":""}]
[{"$f":"'.'!W458","v":""},{"$f":"'.'!X458","v":""},{"$f":"'.'!Y458","v":""}]
[{"$f":"'.'!W459","v":""},{"$f":"'.'!X459","v":""},{"$f":"'.'!Y459","v":""}]
[{"$f":"'.'!W460","v":""},{"$f":"'.'!X460","v":""},{"$f":"'.'!Y460","v":""}]
[{"$f":"'.'!W461","v":""},{"$f":"'.'!X461","v":""},{"$f":"'.'!Y461","v":""}]
[{"$f":"'.'!W462","v":""},{"$f":"'.'!X462","v":""},{"$f":"'.'!Y462","v":""}]
[{"$f":"'.'!W463","v":""},{"$f":"'.'!X463","v":""},{"$f":"'.'!Y463","v":""}]
[{"$f":"'.'!W464","v":""},{"$f":"'.'!X464","v":""},{"$f":"'.'!Y464","v":""}]
[{"$f":"'.'!W465","v":""},{"$f":"'.'!X465","v":""},{"$f":"'.'!Y465","v":""}]
[{"$f":"'.'!W466","v":""},{"$f":"'.'!X466","v":""},{"$f":"'.'!Y466","v":""}]
[{"$f":"'.'!W467","v":""},{"$f":"'.'!X467","v":""},{"$f":"'.'!Y467","v":""}]
[{"$f":"'.'!W468","v":""},{"$f":"'.'!X468","v":""},{"$f":"'.'!Y468","v":""}]
[{"$f":"'.'!W469","v":""},{"$f":"'.'!X469","v":""},{"$f":"'.'!Y469","v":""}]
[{"$f":"'.'!W470","v":""},{"$f":"'.'!X470","v":""},{"$f":"'.'!Y470","v":""}]
[{"$f":"'.'!W471","v":""},{"$f":"'.'!X471","v":""},{"$f":"'.'!Y471","v":""}]
[{"$f":"'.'!W472","v":""},{"$f":"'.'!X472","v":""},{"$f":"'.'!Y472","v":""}]
[{"$f":"'.'!W473","v":""},{"$f":"'.'!X473","v":""},{"$f":"'.'!Y473","v":""}]
[{"$f":"'.'!W474","v":""},{"$f":"'.'!X474","v":""},{"$f":"'.'!Y474","v":""}]
[{"$f":"'.'!W475","v":""},{"$f":"'.'!X475","v":""},{"$f":"'.'!Y475","v":""}]
[{"$f":"'.'!W476","v":""},{"$f":"'.'!X476","v":""},{"$f":"'.'!Y476","v":""}]
[{"$f":"'.'!W477","v":""},{"$f":"'.'!X477","v":""},{"$f":"'.'!Y477","v":""}]
[{"$f":"'.'!W478","v":""},{"$f":"'.'!X478","v":""},{"$f":"'.'!Y478","v":""}]
[{"$f":"'.'!W479","v":""},{"$f":"'.'!X479","v":""},{"$f":"'.'!Y479","v":""}]
[{"$f":"'.'!W480","v":""},{"$f":"'.'!X480","v":""},{"$f":"'.'!Y480","v":""}]
[{"$f":"'.'!W481","v":""},{"$f":"'.'!X481","v":""},{"$f":"'.'!Y481","v":""}]
[{"$f":"'.'!W482","v":""},{"$f":"'.'!X482","v":""},{"$f":"'.'!Y482","v":""}]
[{"$f":"'.'!W483","v":""},{"$f":"'.'!X483","v":""},{"$f":"'.'!Y483","v":""}]
[{"$f":"'.'!W484","v":""},{"$f":"'.'!X484","v":""},{"$f":"'.'!Y484","v":""}]
[{"$f":"'.'!W485","v":""},{"$f":"'.'!X485","v":""},{"$f":"'.'!Y485","v":""}]
[{"$f":"'.'!W486","v":""},{"$f":"'.'!X486","v":""},{"$f":"'.'!Y486","v":""}]
[{"$f":"'.'!W487","v":""},{"$f":"'.'!X487","v":""},{"$f":"'.'!Y487","v":""}]
[{"$f":"'.'!W488","v":""},{"$f":"'.'!X488","v":""},{"$f":"'.'!Y488","v":""}]
[{"$f":"'.'!W489","v":""},{"$f":"'.'!X489","v":""},{"$f":"'.'!Y489","v":""}]
[{"$f":"'.'!W490","v":""},{"$f":"'.'!X490","v":""},{"$f":"'.'!Y490","v":""}]
[{"$f":"'.'!W491","v":""},{"$f":"'.'!X491","v":""},{"$f":"'.'!Y491","v":""}]
[{"$f":"'.'!W492","v":""},{"$f":"'.'!X492","v":""},{"$f":"'.'!Y492","v":""}]
[{"$f":"'.'!W493","v":""},{"$f":"'.'!X493","v":""},{"$f":"'.'!Y493","v":""}]
[{"$f":"'.'!W494","v":""},{"$f":"'.'!X494","v":""},{"$f":"'.'!Y494","v":""}]
[{"$f":"'.'!W495","v":""},{"$f":"'.'!X495","v":""},{"$f":"'.'!Y495","v":""}]
[{"$f":"'.'!W496","v":""},{"$f":"'.'!X496","v":""},{"$f":"'.'!Y496","v":""}]
[{"$f":"'.'!W497","v":""},{"$f":"'.'!X497","v":""},{"$f":"'.'!Y497","v":""}]
[{"$f":"'.'!W498","v":""},{"$f":"'.'!X498","v":""},{"$f":"'.'!Y498","v":""}]
[{"$f":"'.'!W499","v":""},{"$f":"'.'!X499","v":""},{"$f":"'.'!Y499","v":""}]
[{"$f":"'.'!W500","v":""},{"$f":"'.'!X500","v":""},{"$f":"'.'!Y500","v":""}]

{"sheet":".","index":5,"n_rows":501,"n_cols":25,"rows_kept":501,"cut":false,"hidden":false,"merged":[]}
["Author: Leendert Vergeynst",null,null,null,null,null,null,null,null,null,null,null,null,null,"Uitgaven"]
[null,null,null,null,null,null,null,null,null,null,null,null,null,null,"Inkomsten"]
[null,null,null,null,null,null,null,null,null,null,null,null,null,null,"NN"]
[]
[null,"DRAAITABEL",null,null,null,null,null,null,null,null,null,null,null,null,null,null,null,null,null,null,null,null,7,3,4]
[null,"Activiteit",{"$f":"BOEKHOUDING!D5","v":"Omschrijving"},"Valuta","inkomsten/uitgaven","iu met uitgavepost",{"$f":"BOEKHOUDING!H5","v":"Uitgavepost"},{"$f":"IF(SUM(H7:H500)=0,\"\",\"ERROR in \"&N6)","v":""},null,null,null,null,null,{"$f":"CONCATENATE(N8,N9,N10,N11,N12,N13,N14,N15,N16,N17)","v":""},null,null,null,null,null,null,null,{"$f":"O1","v":"Uitgaven"},{"$f":"G6","v":"Uitgavepost"},{"$f":"C6","v":"Omschrijving"},{"$f":"D6","v":"Valuta"}]
[1,{"$f":"IF('.'!D7=0,\"\",IF(BOEKHOUDING!C7=\"\",\"diverse\",BOEKHOUDING!C7))","v":""},{"$f":"BOEKHOUDING!D7","v":0},{"$f":"SUM(BOEKHOUDING!E7:G7)","v":0},{"$f":"IF(D7=0,\"\",IF(D7<0,$O$1,$O$2))","v":""},{"$f":"VLOOKUP(G7,$S$8:$T$27,2,FALSE)","v":{"$error":"#N/A"}},{"$f":"BOEKHOUDING!H7","v":0},{"$f":"IF(G7=0,0,IF(E7=F7,0,$M$7))","v":0},{"$f":"IF(H7=1,A7,0)","v":0},{"$f":"A7","v":1},null,null,1,null,"UITGAVEN",null,"INKOMSTEN",null,null,null,{"$f":"\"F7\"","v":"F7"},{"$f":"VLOOKUP($V$6,INDIRECT(U7):$J$501,5,FALSE)","v":{"$error":"#N/A"}},{"$f":"IF(ISNUMBER($V7)=TRUE,INDIRECT(ADDRESS($V7+6,W$5)),\"\")","v":""},{"$f":"IF(ISNUMBER($V7)=TRUE,INDIRECT(ADDRESS($V7+6,X$5)),\"\")","v":""},{"$f":"IF(ISNUMBER($V7)=TRUE,-INDIRECT(ADDRESS($V7+6,Y$5)),\"\")","v":""}]
[2,{"$f":"IF('.'!D8=0,\"\",IF(BOEKHOUDING!C8=\"\",\"diverse\",BOEKHOUDING!C8))","v":""},{"$f":"BOEKHOUDING!D8","v":0},{"$f":"SUM(BOEKHOUDING!E8:G8)","v":0},{"$f":"IF(D8=0,\"\",IF(D8<0,$O$1,$O$2))","v":""},{"$f":"VLOOKUP(G8,$S$8:$T$27,2,FALSE)","v":{"$error":"#N/A"}},{"$f":"BOEKHOUDING!H8","v":0},{"$f":"IF(G8=0,0,IF(E8=F8,0,$M$7))","v":0},{"$f":"IF(H8=1,A8,0)","v":0},{"$f":"A8","v":2},1,{"$f":"\"H7\"","v":"H7"},{"$f":"VLOOKUP($M$7,INDIRECT(L8):$I$501,2,FALSE)","v":{"$error":"#N/A"}},{"$f":"IF(ISNUMBER(M8)=TRUE,M8,\"\")","v":""},"Tijdschrift en drukwerk",{"$f":"-SUMIF($G$7:$G$500,O8,$D$7:$D$500)","v":0},"Overboeking",{"$f":"SUM(BOEKHOUDING!E6,BOEKHOUDING!F6,BOEKHOUDING!G6)","v":0},"Tijdschrift en drukwerk",{"$f":"$O$1","v":"Uitgaven"},{"$f":"ADDRESS(V7+7,6,4,,)","v":{"$error":"#N/A"}},{"$f":"VLOOKUP($V$6,INDIRECT(U8):$J$501,5,FALSE)","v":{"$error":"#N/A"}},{"$f":"IF(ISNUMBER($V8)=TRUE,INDIRECT(ADDRESS($V8+6,W$5)),\"\")","v":""},"",{"$f":"IF(ISNUMBER($V8)=TRUE,-INDIRECT(ADDRESS($V8+6,Y$5)),\"\")","v":""}]
[3,{"$f":"IF('.'!D9=0,\"\",IF(BOEKHOUDING!C9=\"\",\"diverse\",BOEKHOUDING!C9))","v":""},{"$f":"BOEKHOUDING!D9","v":0},{"$f":"SUM(BOEKHOUDING!E9:G9)","v":0},"",{"$f":"VLOOKUP(G9,$S$8:$T$27,2,FALSE)","v":{"$error":"#N/A"}},{"$f":"BOEKHOUDING!H9","v":0},0,0,3,2,{"$f":"ADDRESS(M8+7,8,4,,)","v":{"$error":"#N/A"}},{"$f":"VLOOKUP($M$7,INDIRECT(L9):$I$501,2,FALSE)","v":{"$error":"#N/A"}},{"$f":"IF(ISNUMBER(M9)=TRUE,\", \"&M9,\"\")","v":""},"Organisatie activiteiten",{"$f":"-SUMIF($G$7:$G$500,O9,$D$7:$D$500)","v":0},"Gemeentesubsidies",{"$f":"SUMIF($G$7:$G$500,Q9,$D$7:$D$500)","v":0},"Organisatie activiteiten","Uitgaven",{"$f":"ADDRESS(V8+7,6,4,,)","v":{"$error":"#N/A"}},{"$f":"VLOOKUP($V$6,INDIRECT(U9):$J$501,5,FALSE)","v":{"$error":"#N/A"}},"","",""]
[4,{"$f":"IF('.'!D10=0,\"\",IF(BOEKHOUDING!C10=\"\",\"diverse\",BOEKHOUDING!C10))","v":""},{"$f":"BOEKHOUDING!D10","v":0},{"$f":"SUM(BOEKHOUDING!E10:G10)","v":0},"",{"$error":"#N/A"},{"$f":"BOEKHOUDING!H10","v":0},0,0,4,3,{"$f":"ADDRESS(M9+7,8,4,,)","v":{"$error":"#N/A"}},{"$f":"VLOOKUP($M$7,INDIRECT(L10):$I$501,2,FALSE)","v":{"$error":"#N/A"}},{"$f":"IF(ISNUMBER(M10)=TRUE,\", \"&M10,\"\")","v":""},"Aankoop klein materiaal",0,"Subsidie JNM Nationaal",0,"Aankoop klein materiaal","Uitgaven",{"$error":"#N/A"},{"$f":"VLOOKUP($V$6,INDIRECT(U10):$J$501,5,FALSE)","v":{"$error":"#N/A"}},"","",""]
[5,{"$f":"IF('.'!D11=0,\"\",IF(BOEKHOUDING!C11=\"\",\"diverse\",BOEKHOUDING!C11))","v":""},{"$f":"BOEKHOUDING!D11","v":0},{"$f":"SUM(BOEKHOUDING!E11:G11)","v":0},"",{"$error":"#N/A"},{"$f":"BOEKHOUDING!H11","v":0},0,0,5,4,{"$error":"#N/A"},{"$f":"VLOOKUP($M$7,INDIRECT(L11):$I$501,2,FALSE)","v":{"$error":"#N/A"}},"","Aankoop groot materiaal",0,"Afdrachten",0,"Aankoop groot materiaal","Uitgaven",{"$error":"#N/A"},{"$f":"VLOOKUP($V$6,INDIRECT(U11):$J$501,5,FALSE)","v":{"$error":"#N/A"}},"","",""]
[6,{"$f":"IF('.'!D12=0,\"\",IF(BOEKHOUDING!C12=\"\",\"diverse\",BOEKHOUDING!C12))","v":""},{"$f":"BOEKHOUDING!D12","v":0},{"$f":"SUM(BOEKHOUDING!E12:G12)","v":0},"",{"$error":"#N/A"},{"$f":"BOEKHOUDING!H12","v":0},0,0,6,5,{"$error":"#N/A"},{"$f":"VLOOKUP($M$7,INDIRECT(L12):$I$501,2,FALSE)","v":{"$error":"#N/A"}},"","Organisatie kamp",0,"Deelname activiteiten",0,"Organisatie kamp","Uitgaven",{"$error":"#N/A"},{"$f":"VLOOKUP($V$6,INDIRECT(U12):$J$501,5,FALSE)","v":{"$error":"#N/A"}},"","",""]
[7,{"$f":"IF('.'!D13=0,\"\",IF(BOEKHOUDING!C13=\"\",\"diverse\",BOEKHOUDING!C13))","v":""},{"$f":"BOEKHOUDING!D13","v":0},{"$f":"SUM(BOEKHOUDING!E13:G13)","v":0},"",{"$error":"#N/A"},{"$f":"BOEKHOUDING!H13","v":0},0,0,7,6,{"$error":"#N/A"},{"$f":"VLOOKUP($M$7,INDIRECT(L13):$I$501,2,FALSE)","v":{"$error":"#N/A"}},"","Uitgaven financiële activiteiten",0,"Deelname kampen",0,"Uitgaven financiële activiteiten","Uitgaven",{"$error":"#N/A"},{"$f":"VLOOKUP($V$6,INDIRECT(U13):$J$501,5,FALSE)","v":{"$error":"#N/A"}},"","",""]
[8,{"$f":"IF('.'!D14=0,\"\",IF(BOEKHOUDING!C14=\"\",\"diverse\",BOEKHOUDING!C14))","v":""},{"$f":"BOEKHOUDING!D14","v":0},{"$f":"SUM(BOEKHOUDING!E14:G14)","v":0},"",{"$error":"#N/A"},{"$f":"BOEKHOUDING!H14","v":0},0,0,8,7,{"$error":"#N/A"},{"$f":"VLOOKUP($M$7,INDIRECT(L14):$I$501,2,FALSE)","v":{"$error":"#N/A"}},"","Huur lokalen (permanent of tijdelijk)",0,"Inkomsten financiële activiteiten",0,"Huur lokalen (permanent of tijdelijk)","Uitgaven",{"$error":"#N/A"},{"$f":"VLOOKUP($V$6,INDIRECT(U14):$J$501,5,FALSE)","v":{"$error":"#N/A"}},"","",""]
[9,{"$f":"IF('.'!D15=0,\"\",IF(BOEKHOUDING!C15=\"\",\"diverse\",BOEKHOUDING!C15))","v":""},{"$f":"BOEKHOUDING!D15","v":0},{"$f":"SUM(BOEKHOUDING!E15:G15)","v":0},"",{"$error":"#N/A"},{"$f":"BOEKHOUDING!H15","v":0},0,0,9,8,{"$error":"#N/A"},{"$f":"VLOOKUP($M$7,INDIRECT(L15):$I$501,2,FALSE)","v":{"$error":"#N/A"}},"","Vervoerskosten",0,"Overige inkomsten",0,"Overige uitgaven","Uitgaven",{"$error":"#N/A"},{"$f":"VLOOKUP($V$6,INDIRECT(U15):$J$501,5,FALSE)","v":{"$error":"#N/A"}},"","",""]
[10,{"$f":"IF('.'!D16=0,\"\",IF(BOEKHOUDING!C16=\"\",\"diverse\",BOEKHOUDING!C16))","v":""},{"$f":"BOEKHOUDING!D16","v":0},{"$f":"SUM(BOEKHOUDING!E16:G16)","v":0},"",{"$error":"#N/A"},{"$f":"BOEKHOUDING!H16","v":0},0,0,10,9,{"$error":"#N/A"},{"$f":"VLOOKUP($M$7,INDIRECT(L16):$I$501,2,FALSE)","v":{"$error":"#N/A"}},"","Overige uitgaven",{"$f":"-SUMIF($G$7:$G$500,O16,$D$7:$D$500)","v":0},"TOTAAL IN",{"$f":"SUM(R8:R15)","v":0},"Vervoerskosten","Uitgaven",{"$error":"#N/A"},{"$f":"VLOOKUP($V$6,INDIRECT(U16):$J$501,5,FALSE)","v":{"$error":"#N/A"}},"","",""]
[11,{"$f":"IF('.'!D17=0,\"\",IF(BOEKHOUDING!C17=\"\",\"diverse\",BOEKHOUDING!C17))","v":""},{"$f":"BOEKHOUDING!D17","v":0},{"$f":"SUM(BOEKHOUDING!E17:G17)","v":0},"",{"$error":"#N/A"},{"$f":"BOEKHOUDING!H17","v":0},0,0,11,10,{"$error":"#N/A"},{"$f":"VLOOKUP($M$7,INDIRECT(L17):$I$501,2,FALSE)","v":{"$error":"#N/A"}},"","TOTAAL UIT",{"$f":"SUM(P9:P16)","v":0},null,null,"transfer uitgave","Uitgaven",{"$error":"#N/A"},{"$f":"VLOOKUP($V$6,INDIRECT(U17):$J$501,5,FALSE)","v":{"$error":"#N/A"}},{"$f":"IF(ISNUMBER($V18)=TRUE,INDIRECT(ADDRESS($V18+6,W$5)),\"\")","v":""},{"$f":"IF(ISNUMBER($V18)=TRUE,INDIRECT(ADDRESS($V18+6,X$5)),\"\")","v":""},{"$f":"IF(ISNUMBER($V18)=TRUE,-INDIRECT(ADDRESS($V18+6,Y$5)),\"\")","v":""}]
[12,{"$f":"IF('.'!D18=0,\"\",IF(BOEKHOUDING!C18=\"\",\"diverse\",BOEKHOUDING!C18))","v":""},{"$f":"BOEKHOUDING!D18","v":0},{"$f":"SUM(BOEKHOUDING!E18:G18)","v":0},"",{"$error":"#N/A"},{"$f":"BOEKHOUDING!H18","v":0},0,0,12,null,null,null,null,null,null,null,null,null,{"$f":"O3","v":"NN"},{"$error":"#N/A"},{"$f":"VLOOKUP($V$6,INDIRECT(U18):$J$501,5,FALSE)","v":{"$error":"#N/A"}},"","",""]
[13,{"$f":"IF('.'!D19=0,\"\",IF(BOEKHOUDING!C19=\"\",\"diverse\",BOEKHOUDING!C19))","v":""},{"$f":"BOEKHOUDING!D19","v":0},{"$f":"SUM(BOEKHOUDING!E19:G19)","v":0},"",{"$error":"#N/A"},{"$f":"BOEKHOUDING!H19","v":0},0,0,13,null,null,null,null,null,null,null,null,"Overboeking",{"$f":"$O$2","v":"Inkomsten"},{"$error":"#N/A"},{"$f":"VLOOKUP($V$6,INDIRECT(U19):$J$501,5,FALSE)","v":{"$error":"#N/A"}},"","",""]
[14,{"$f":"IF('.'!D20=0,\"\",IF(BOEKHOUDING!C20=\"\",\"diverse\",BOEKHOUDING!C20))","v":""},{"$f":"BOEKHOUDING!D20","v":0},{"$f":"SUM(BOEKHOUDING!E20:G20)","v":0},"",{"$error":"#N/A"},{"$f":"BOEKHOUDING!H20","v":0},0,0,14,null,null,null,null,null,null,null,null,"Gemeentesubsidies","Inkomsten",{"$error":"#N/A"},{"$f":"VLOOKUP($V$6,INDIRECT(U20):$J$501,5,FALSE)","v":{"$error":"#N/A"}},"","",""]
[15,{"$f":"IF('.'!D21=0,\"\",IF(BOEKHOUDING!C21=\"\",\"diverse\",BOEKHOUDING!C21))","v":""},{"$f":"BOEKHOUDING!D21","v":0},{"$f":"SUM(BOEKHOUDING!E21:G21)","v":0},"",{"$error":"#N/A"},{"$f":"BOEKHOUDING!H21","v":0},0,0,15,null,null,null,null,null,null,null,null,"Subsidie JNM Nationaal","Inkomsten",{"$error":"#N/A"},{"$f":"VLOOKUP($V$6,INDIRECT(U21):$J$501,5,FALSE)","v":{"$error":"#N/A"}},"","",""]
[16,{"$f":"IF('.'!D22=0,\"\",IF(BOEKHOUDING!C22=\"\",\"diverse\",BOEKHOUDING!C22))","v":""},{"$f":"BOEKHOUDING!D22","v":0},{"$f":"SUM(BOEKHOUDING!E22:G22)","v":0},"",{"$error":"#N/A"},{"$f":"BOEKHOUDING!H22","v":0},0,0,16,null,null,null,null,null,null,null,null,"Afdrachten","Inkomsten",{"$error":"#N/A"},{"$f":"VLOOKUP($V$6,INDIRECT(U22):$J$501,5,FALSE)","v":{"$error":"#N/A"}},"","",""]
[17,{"$f":"IF('.'!D23=0,\"\",IF(BOEKHOUDING!C23=\"\",\"diverse\",BOEKHOUDING!C23))","v":""},{"$f":"BOEKHOUDING!D23","v":0},{"$f":"SUM(BOEKHOUDING!E23:G23)","v":0},"",{"$error":"#N/A"},{"$f":"BOEKHOUDING!H23","v":0},0,0,17,null,null,null,null,null,null,null,null,"Deelname activiteiten","Inkomsten",{"$error":"#N/A"},{"$f":"VLOOKUP($V$6,INDIRECT(U23):$J$501,5,FALSE)","v":{"$error":"#N/A"}},"","",""]
[18,{"$f":"IF('.'!D24=0,\"\",IF(BOEKHOUDING!C24=\"\",\"diverse\",BOEKHOUDING!C24))","v":""},{"$f":"BOEKHOUDING!D24","v":0},{"$f":"SUM(BOEKHOUDING!E24:G24)","v":0},"",{"$error":"#N/A"},{"$f":"BOEKHOUDING!H24","v":0},0,0,18,null,null,null,null,null,null,null,null,"Deelname kampen","Inkomsten",{"$error":"#N/A"},{"$f":"VLOOKUP($V$6,INDIRECT(U24):$J$501,5,FALSE)","v":{"$error":"#N/A"}},"","",""]
[19,{"$f":"IF('.'!D25=0,\"\",IF(BOEKHOUDING!C25=\"\",\"diverse\",BOEKHOUDING!C25))","v":""},{"$f":"BOEKHOUDING!D25","v":0},{"$f":"SUM(BOEKHOUDING!E25:G25)","v":0},"",{"$error":"#N/A"},{"$f":"BOEKHOUDING!H25","v":0},0,0,19,null,null,null,null,null,null,null,null,"Inkomsten financiële activiteiten","Inkomsten",{"$error":"#N/A"},{"$f":"VLOOKUP($V$6,INDIRECT(U25):$J$501,5,FALSE)","v":{"$error":"#N/A"}},"","",""]
[20,{"$f":"IF('.'!D26=0,\"\",IF(BOEKHOUDING!C26=\"\",\"diverse\",BOEKHOUDING!C26))","v":""},{"$f":"BOEKHOUDING!D26","v":0},{"$f":"SUM(BOEKHOUDING!E26:G26)","v":0},"",{"$error":"#N/A"},{"$f":"BOEKHOUDING!H26","v":0},0,0,20,null,null,null,null,null,null,null,null,"Overige inkomsten","Inkomsten",{"$error":"#N/A"},{"$f":"VLOOKUP($V$6,INDIRECT(U26):$J$501,5,FALSE)","v":{"$error":"#N/A"}},"","",""]
[21,{"$f":"IF('.'!D27=0,\"\",IF(BOEKHOUDING!C27=\"\",\"diverse\",BOEKHOUDING!C27))","v":""},{"$f":"BOEKHOUDING!D27","v":0},{"$f":"SUM(BOEKHOUDING!E27:G27)","v":0},"",{"$error":"#N/A"},{"$f":"BOEKHOUDING!H27","v":0},0,0,21,null,null,null,null,null,null,null,null,"transfer inkomst","Inkomsten",{"$error":"#N/A"},{"$f":"VLOOKUP($V$6,INDIRECT(U27):$J$501,5,FALSE)","v":{"$error":"#N/A"}},"","",""]
[22,{"$f":"IF('.'!D28=0,\"\",IF(BOEKHOUDING!C28=\"\",\"diverse\",BOEKHOUDING!C28))","v":""},{"$f":"BOEKHOUDING!D28","v":0},{"$f":"SUM(BOEKHOUDING!E28:G28)","v":0},"",{"$error":"#N/A"},{"$f":"BOEKHOUDING!H28","v":0},0,0,22,null,null,null,null,null,null,null,null,null,null,{"$error":"#N/A"},{"$f":"VLOOKUP($V$6,INDIRECT(U28):$J$501,5,FALSE)","v":{"$error":"#N/A"}},"","",""]
[23,{"$f":"IF('.'!D29=0,\"\",IF(BOEKHOUDING!C29=\"\",\"diverse\",BOEKHOUDING!C29))","v":""},{"$f":"BOEKHOUDING!D29","v":0},{"$f":"SUM(BOEKHOUDING!E29:G29)","v":0},"",{"$error":"#N/A"},{"$f":"BOEKHOUDING!H29","v":0},0,0,23,null,null,null,null,null,null,null,null,null,null,{"$error":"#N/A"},{"$f":"VLOOKUP($V$6,INDIRECT(U29):$J$501,5,FALSE)","v":{"$error":"#N/A"}},"","",""]
[24,{"$f":"IF('.'!D30=0,\"\",IF(BOEKHOUDING!C30=\"\",\"diverse\",BOEKHOUDING!C30))","v":""},{"$f":"BOEKHOUDING!D30","v":0},{"$f":"SUM(BOEKHOUDING!E30:G30)","v":0},"",{"$error":"#N/A"},{"$f":"BOEKHOUDING!H30","v":0},0,0,24,null,null,null,null,null,null,null,null,null,null,{"$error":"#N/A"},{"$f":"VLOOKUP($V$6,INDIRECT(U30):$J$501,5,FALSE)","v":{"$error":"#N/A"}},"","",""]
[25,{"$f":"IF('.'!D31=0,\"\",IF(BOEKHOUDING!C31=\"\",\"diverse\",BOEKHOUDING!C31))","v":""},{"$f":"BOEKHOUDING!D31","v":0},{"$f":"SUM(BOEKHOUDING!E31:G31)","v":0},"",{"$error":"#N/A"},{"$f":"BOEKHOUDING!H31","v":0},0,0,25,null,null,null,null,null,null,null,null,null,null,{"$error":"#N/A"},{"$f":"VLOOKUP($V$6,INDIRECT(U31):$J$501,5,FALSE)","v":{"$error":"#N/A"}},"","",""]
[26,{"$f":"IF('.'!D32=0,\"\",IF(BOEKHOUDING!C32=\"\",\"diverse\",BOEKHOUDING!C32))","v":""},{"$f":"BOEKHOUDING!D32","v":0},{"$f":"SUM(BOEKHOUDING!E32:G32)","v":0},"",{"$error":"#N/A"},{"$f":"BOEKHOUDING!H32","v":0},0,0,26,null,null,null,null,null,null,null,null,null,null,{"$error":"#N/A"},{"$f":"VLOOKUP($V$6,INDIRECT(U32):$J$501,5,FALSE)","v":{"$error":"#N/A"}},"","",""]
[27,{"$f":"IF('.'!D33=0,\"\",IF(BOEKHOUDING!C33=\"\",\"diverse\",BOEKHOUDING!C33))","v":""},{"$f":"BOEKHOUDING!D33","v":0},{"$f":"SUM(BOEKHOUDING!E33:G33)","v":0},"",{"$error":"#N/A"},{"$f":"BOEKHOUDING!H33","v":0},0,0,27,null,null,null,null,null,null,null,null,null,null,{"$error":"#N/A"},{"$f":"VLOOKUP($V$6,INDIRECT(U33):$J$501,5,FALSE)","v":{"$error":"#N/A"}},"","",""]
[28,{"$f":"IF('.'!D34=0,\"\",IF(BOEKHOUDING!C34=\"\",\"diverse\",BOEKHOUDING!C34))","v":""},{"$f":"BOEKHOUDING!D34","v":0},{"$f":"SUM(BOEKHOUDING!E34:G34)","v":0},"",{"$error":"#N/A"},{"$f":"BOEKHOUDING!H34","v":0},0,0,28,null,null,null,null,null,null,null,null,null,null,{"$error":"#N/A"},{"$f":"VLOOKUP($V$6,INDIRECT(U34):$J$501,5,FALSE)","v":{"$error":"#N/A"}},"","",""]
[29,{"$f":"IF('.'!D35=0,\"\",IF(BOEKHOUDING!C35=\"\",\"diverse\",BOEKHOUDING!C35))","v":""},{"$f":"BOEKHOUDING!D35","v":0},{"$f":"SUM(BOEKHOUDING!E35:G35)","v":0},"",{"$error":"#N/A"},{"$f":"BOEKHOUDING!H35","v":0},0,0,29,null,null,null,null,null,null,null,null,null,null,{"$error":"#N/A"},{"$f":"VLOOKUP($V$6,INDIRECT(U35):$J$501,5,FALSE)","v":{"$error":"#N/A"}},"","",""]
[30,{"$f":"IF('.'!D36=0,\"\",IF(BOEKHOUDING!C36=\"\",\"diverse\",BOEKHOUDING!C36))","v":""},{"$f":"BOEKHOUDING!D36","v":0},{"$f":"SUM(BOEKHOUDING!E36:G36)","v":0},"",{"$error":"#N/A"},{"$f":"BOEKHOUDING!H36","v":0},0,0,30,null,null,null,null,null,null,null,null,null,null,{"$error":"#N/A"},{"$f":"VLOOKUP($V$6,INDIRECT(U36):$J$501,5,FALSE)","v":{"$error":"#N/A"}},"","",""]
[31,{"$f":"IF('.'!D37=0,\"\",IF(BOEKHOUDING!C37=\"\",\"diverse\",BOEKHOUDING!C37))","v":""},{"$f":"BOEKHOUDING!D37","v":0},{"$f":"SUM(BOEKHOUDING!E37:G37)","v":0},"",{"$error":"#N/A"},{"$f":"BOEKHOUDING!H37","v":0},0,0,31,null,null,null,null,null,null,null,null,null,null,{"$error":"#N/A"},{"$f":"VLOOKUP($V$6,INDIRECT(U37):$J$501,5,FALSE)","v":{"$error":"#N/A"}},"","",""]
[32,{"$f":"IF('.'!D38=0,\"\",IF(BOEKHOUDING!C38=\"\",\"diverse\",BOEKHOUDING!C38))","v":""},{"$f":"BOEKHOUDING!D38","v":0},{"$f":"SUM(BOEKHOUDING!E38:G38)","v":0},"",{"$error":"#N/A"},{"$f":"BOEKHOUDING!H38","v":0},0,0,32,null,null,null,null,null,null,null,null,null,null,{"$error":"#N/A"},{"$f":"VLOOKUP($V$6,INDIRECT(U38):$J$501,5,FALSE)","v":{"$error":"#N/A"}},"","",""]
[33,{"$f":"IF('.'!D39=0,\"\",IF(BOEKHOUDING!C39=\"\",\"diverse\",BOEKHOUDING!C39))","v":""},{"$f":"BOEKHOUDING!D39","v":0},{"$f":"SUM(BOEKHOUDING!E39:G39)","v":0},"",{"$error":"#N/A"},{"$f":"BOEKHOUDING!H39","v":0},0,0,33,null,null,null,null,null,null,null,null,null,null,{"$error":"#N/A"},{"$f":"VLOOKUP($V$6,INDIRECT(U39):$J$501,5,FALSE)","v":{"$error":"#N/A"}},"","",""]
[34,{"$f":"IF('.'!D40=0,\"\",IF(BOEKHOUDING!C40=\"\",\"diverse\",BOEKHOUDING!C40))","v":""},{"$f":"BOEKHOUDING!D40","v":0},{"$f":"SUM(BOEKHOUDING!E40:G40)","v":0},"",{"$error":"#N/A"},{"$f":"BOEKHOUDING!H40","v":0},0,0,34,null,null,null,null,null,null,null,null,null,null,{"$error":"#N/A"},{"$f":"VLOOKUP($V$6,INDIRECT(U40):$J$501,5,FALSE)","v":{"$error":"#N/A"}},"","",""]
[35,{"$f":"IF('.'!D41=0,\"\",IF(BOEKHOUDING!C41=\"\",\"diverse\",BOEKHOUDING!C41))","v":""},{"$f":"BOEKHOUDING!D41","v":0},{"$f":"SUM(BOEKHOUDING!E41:G41)","v":0},"",{"$error":"#N/A"},{"$f":"BOEKHOUDING!H41","v":0},0,0,35,null,null,null,null,null,null,null,null,null,null,{"$error":"#N/A"},{"$f":"VLOOKUP($V$6,INDIRECT(U41):$J$501,5,FALSE)","v":{"$error":"#N/A"}},"","",""]
[36,{"$f":"IF('.'!D42=0,\"\",IF(BOEKHOUDING!C42=\"\",\"diverse\",BOEKHOUDING!C42))","v":""},{"$f":"BOEKHOUDING!D42","v":0},{"$f":"SUM(BOEKHOUDING!E42:G42)","v":0},"",{"$error":"#N/A"},{"$f":"BOEKHOUDING!H42","v":0},0,0,36,null,null,null,null,null,null,null,null,null,null,{"$error":"#N/A"},{"$f":"VLOOKUP($V$6,INDIRECT(U42):$J$501,5,FALSE)","v":{"$error":"#N/A"}},"","",""]
[37,{"$f":"IF('.'!D43=0,\"\",IF(BOEKHOUDING!C43=\"\",\"diverse\",BOEKHOUDING!C43))","v":""},{"$f":"BOEKHOUDING!D43","v":0},{"$f":"SUM(BOEKHOUDING!E43:G43)","v":0},"",{"$error":"#N/A"},{"$f":"BOEKHOUDING!H43","v":0},0,0,37,null,null,null,null,null,null,null,null,null,null,{"$error":"#N/A"},{"$f":"VLOOKUP($V$6,INDIRECT(U43):$J$501,5,FALSE)","v":{"$error":"#N/A"}},"","",""]
[38,{"$f":"IF('.'!D44=0,\"\",IF(BOEKHOUDING!C44=\"\",\"diverse\",BOEKHOUDING!C44))","v":""},{"$f":"BOEKHOUDING!D44","v":0},{"$f":"SUM(BOEKHOUDING!E44:G44)","v":0},"",{"$error":"#N/A"},{"$f":"BOEKHOUDING!H44","v":0},0,0,38,null,null,null,null,null,null,null,null,null,null,{"$error":"#N/A"},{"$f":"VLOOKUP($V$6,INDIRECT(U44):$J$501,5,FALSE)","v":{"$error":"#N/A"}},"","",""]
[39,{"$f":"IF('.'!D45=0,\"\",IF(BOEKHOUDING!C45=\"\",\"diverse\",BOEKHOUDING!C45))","v":""},{"$f":"BOEKHOUDING!D45","v":0},{"$f":"SUM(BOEKHOUDING!E45:G45)","v":0},"",{"$error":"#N/A"},{"$f":"BOEKHOUDING!H45","v":0},0,0,39,null,null,null,null,null,null,null,null,null,null,{"$error":"#N/A"},{"$f":"VLOOKUP($V$6,INDIRECT(U45):$J$501,5,FALSE)","v":{"$error":"#N/A"}},"","",""]
[40,{"$f":"IF('.'!D46=0,\"\",IF(BOEKHOUDING!C46=\"\",\"diverse\",BOEKHOUDING!C46))","v":""},{"$f":"BOEKHOUDING!D46","v":0},{"$f":"SUM(BOEKHOUDING!E46:G46)","v":0},"",{"$error":"#N/A"},{"$f":"BOEKHOUDING!H46","v":0},0,0,40,null,null,null,null,null,null,null,null,null,null,{"$error":"#N/A"},{"$f":"VLOOKUP($V$6,INDIRECT(U46):$J$501,5,FALSE)","v":{"$error":"#N/A"}},"","",""]
[41,{"$f":"IF('.'!D47=0,\"\",IF(BOEKHOUDING!C47=\"\",\"diverse\",BOEKHOUDING!C47))","v":""},{"$f":"BOEKHOUDING!D47","v":0},{"$f":"SUM(BOEKHOUDING!E47:G47)","v":0},"",{"$error":"#N/A"},{"$f":"BOEKHOUDING!H47","v":0},0,0,41,null,null,null,null,null,null,null,null,null,null,{"$error":"#N/A"},{"$f":"VLOOKUP($V$6,INDIRECT(U47):$J$501,5,FALSE)","v":{"$error":"#N/A"}},"","",""]
[42,{"$f":"IF('.'!D48=0,\"\",IF(BOEKHOUDING!C48=\"\",\"diverse\",BOEKHOUDING!C48))","v":""},{"$f":"BOEKHOUDING!D48","v":0},{"$f":"SUM(BOEKHOUDING!E48:G48)","v":0},"",{"$error":"#N/A"},{"$f":"BOEKHOUDING!H48","v":0},0,0,42,null,null,null,null,null,null,null,null,null,null,{"$error":"#N/A"},{"$f":"VLOOKUP($V$6,INDIRECT(U48):$J$501,5,FALSE)","v":{"$error":"#N/A"}},"","",""]
[43,{"$f":"IF('.'!D49=0,\"\",IF(BOEKHOUDING!C49=\"\",\"diverse\",BOEKHOUDING!C49))","v":""},{"$f":"BOEKHOUDING!D49","v":0},{"$f":"SUM(BOEKHOUDING!E49:G49)","v":0},"",{"$error":"#N/A"},{"$f":"BOEKHOUDING!H49","v":0},0,0,43,null,null,null,null,null,null,null,null,null,null,{"$error":"#N/A"},{"$f":"VLOOKUP($V$6,INDIRECT(U49):$J$501,5,FALSE)","v":{"$error":"#N/A"}},"","",""]
[44,{"$f":"IF('.'!D50=0,\"\",IF(BOEKHOUDING!C50=\"\",\"diverse\",BOEKHOUDING!C50))","v":""},{"$f":"BOEKHOUDING!D50","v":0},{"$f":"SUM(BOEKHOUDING!E50:G50)","v":0},"",{"$error":"#N/A"},{"$f":"BOEKHOUDING!H50","v":0},0,0,44,null,null,null,null,null,null,null,null,null,null,{"$error":"#N/A"},{"$f":"VLOOKUP($V$6,INDIRECT(U50):$J$501,5,FALSE)","v":{"$error":"#N/A"}},"","",""]
[45,{"$f":"IF('.'!D51=0,\"\",IF(BOEKHOUDING!C51=\"\",\"diverse\",BOEKHOUDING!C51))","v":""},{"$f":"BOEKHOUDING!D51","v":0},{"$f":"SUM(BOEKHOUDING!E51:G51)","v":0},"",{"$error":"#N/A"},{"$f":"BOEKHOUDING!H51","v":0},0,0,45,null,null,null,null,null,null,null,null,null,null,{"$error":"#N/A"},{"$f":"VLOOKUP($V$6,INDIRECT(U51):$J$501,5,FALSE)","v":{"$error":"#N/A"}},"","",""]
[46,{"$f":"IF('.'!D52=0,\"\",IF(BOEKHOUDING!C52=\"\",\"diverse\",BOEKHOUDING!C52))","v":""},{"$f":"BOEKHOUDING!D52","v":0},{"$f":"SUM(BOEKHOUDING!E52:G52)","v":0},"",{"$error":"#N/A"},{"$f":"BOEKHOUDING!H52","v":0},0,0,46,null,null,null,null,null,null,null,null,null,null,{"$error":"#N/A"},{"$f":"VLOOKUP($V$6,INDIRECT(U52):$J$501,5,FALSE)","v":{"$error":"#N/A"}},"","",""]
[47,{"$f":"IF('.'!D53=0,\"\",IF(BOEKHOUDING!C53=\"\",\"diverse\",BOEKHOUDING!C53))","v":""},{"$f":"BOEKHOUDING!D53","v":0},{"$f":"SUM(BOEKHOUDING!E53:G53)","v":0},"",{"$error":"#N/A"},{"$f":"BOEKHOUDING!H53","v":0},0,0,47,null,null,null,null,null,null,null,null,null,null,{"$error":"#N/A"},{"$f":"VLOOKUP($V$6,INDIRECT(U53):$J$501,5,FALSE)","v":{"$error":"#N/A"}},"","",""]
[48,{"$f":"IF('.'!D54=0,\"\",IF(BOEKHOUDING!C54=\"\",\"diverse\",BOEKHOUDING!C54))","v":""},{"$f":"BOEKHOUDING!D54","v":0},{"$f":"SUM(BOEKHOUDING!E54:G54)","v":0},"",{"$error":"#N/A"},{"$f":"BOEKHOUDING!H54","v":0},0,0,48,null,null,null,null,null,null,null,null,null,null,{"$error":"#N/A"},{"$f":"VLOOKUP($V$6,INDIRECT(U54):$J$501,5,FALSE)","v":{"$error":"#N/A"}},"","",""]
[49,{"$f":"IF('.'!D55=0,\"\",IF(BOEKHOUDING!C55=\"\",\"diverse\",BOEKHOUDING!C55))","v":""},{"$f":"BOEKHOUDING!D55","v":0},{"$f":"SUM(BOEKHOUDING!E55:G55)","v":0},"",{"$error":"#N/A"},{"$f":"BOEKHOUDING!H55","v":0},0,0,49,null,null,null,null,null,null,null,null,null,null,{"$error":"#N/A"},{"$f":"VLOOKUP($V$6,INDIRECT(U55):$J$501,5,FALSE)","v":{"$error":"#N/A"}},"","",""]
[50,{"$f":"IF('.'!D56=0,\"\",IF(BOEKHOUDING!C56=\"\",\"diverse\",BOEKHOUDING!C56))","v":""},{"$f":"BOEKHOUDING!D56","v":0},{"$f":"SUM(BOEKHOUDING!E56:G56)","v":0},"",{"$error":"#N/A"},{"$f":"BOEKHOUDING!H56","v":0},0,0,50,null,null,null,null,null,null,null,null,null,null,{"$error":"#N/A"},{"$f":"VLOOKUP($V$6,INDIRECT(U56):$J$501,5,FALSE)","v":{"$error":"#N/A"}},"","",""]
[51,{"$f":"IF('.'!D57=0,\"\",IF(BOEKHOUDING!C57=\"\",\"diverse\",BOEKHOUDING!C57))","v":""},{"$f":"BOEKHOUDING!D57","v":0},{"$f":"SUM(BOEKHOUDING!E57:G57)","v":0},"",{"$error":"#N/A"},{"$f":"BOEKHOUDING!H57","v":0},0,0,51,null,null,null,null,null,null,null,null,null,null,{"$error":"#N/A"},{"$f":"VLOOKUP($V$6,INDIRECT(U57):$J$501,5,FALSE)","v":{"$error":"#N/A"}},"","",""]
[52,{"$f":"IF('.'!D58=0,\"\",IF(BOEKHOUDING!C58=\"\",\"diverse\",BOEKHOUDING!C58))","v":""},{"$f":"BOEKHOUDING!D58","v":0},{"$f":"SUM(BOEKHOUDING!E58:G58)","v":0},"",{"$error":"#N/A"},{"$f":"BOEKHOUDING!H58","v":0},0,0,52,null,null,null,null,null,null,null,null,null,null,{"$error":"#N/A"},{"$f":"VLOOKUP($V$6,INDIRECT(U58):$J$501,5,FALSE)","v":{"$error":"#N/A"}},"","",""]
[53,{"$f":"IF('.'!D59=0,\"\",IF(BOEKHOUDING!C59=\"\",\"diverse\",BOEKHOUDING!C59))","v":""},{"$f":"BOEKHOUDING!D59","v":0},{"$f":"SUM(BOEKHOUDING!E59:G59)","v":0},"",{"$error":"#N/A"},{"$f":"BOEKHOUDING!H59","v":0},0,0,53,null,null,null,null,null,null,null,null,null,null,{"$error":"#N/A"},{"$f":"VLOOKUP($V$6,INDIRECT(U59):$J$501,5,FALSE)","v":{"$error":"#N/A"}},"","",""]
[54,{"$f":"IF('.'!D60=0,\"\",IF(BOEKHOUDING!C60=\"\",\"diverse\",BOEKHOUDING!C60))","v":""},{"$f":"BOEKHOUDING!D60","v":0},{"$f":"SUM(BOEKHOUDING!E60:G60)","v":0},"",{"$error":"#N/A"},{"$f":"BOEKHOUDING!H60","v":0},0,0,54,null,null,null,null,null,null,null,null,null,null,{"$error":"#N/A"},{"$f":"VLOOKUP($V$6,INDIRECT(U60):$J$501,5,FALSE)","v":{"$error":"#N/A"}},"","",""]
[55,{"$f":"IF('.'!D61=0,\"\",IF(BOEKHOUDING!C61=\"\",\"diverse\",BOEKHOUDING!C61))","v":""},{"$f":"BOEKHOUDING!D61","v":0},{"$f":"SUM(BOEKHOUDING!E61:G61)","v":0},"",{"$error":"#N/A"},{"$f":"BOEKHOUDING!H61","v":0},0,0,55,null,null,null,null,null,null,null,null,null,null,{"$error":"#N/A"},{"$f":"VLOOKUP($V$6,INDIRECT(U61):$J$501,5,FALSE)","v":{"$error":"#N/A"}},"","",""]
[56,{"$f":"IF('.'!D62=0,\"\",IF(BOEKHOUDING!C62=\"\",\"diverse\",BOEKHOUDING!C62))","v":""},{"$f":"BOEKHOUDING!D62","v":0},{"$f":"SUM(BOEKHOUDING!E62:G62)","v":0},"",{"$error":"#N/A"},{"$f":"BOEKHOUDING!H62","v":0},0,0,56,null,null,null,null,null,null,null,null,null,null,{"$error":"#N/A"},{"$f":"VLOOKUP($V$6,INDIRECT(U62):$J$501,5,FALSE)","v":{"$error":"#N/A"}},"","",""]
[57,{"$f":"IF('.'!D63=0,\"\",IF(BOEKHOUDING!C63=\"\",\"diverse\",BOEKHOUDING!C63))","v":""},{"$f":"BOEKHOUDING!D63","v":0},{"$f":"SUM(BOEKHOUDING!E63:G63)","v":0},"",{"$error":"#N/A"},{"$f":"BOEKHOUDING!H63","v":0},0,0,57,null,null,null,null,null,null,null,null,null,null,{"$error":"#N/A"},{"$f":"VLOOKUP($V$6,INDIRECT(U63):$J$501,5,FALSE)","v":{"$error":"#N/A"}},"","",""]
[58,{"$f":"IF('.'!D64=0,\"\",IF(BOEKHOUDING!C64=\"\",\"diverse\",BOEKHOUDING!C64))","v":""},{"$f":"BOEKHOUDING!D64","v":0},{"$f":"SUM(BOEKHOUDING!E64:G64)","v":0},"",{"$error":"#N/A"},{"$f":"BOEKHOUDING!H64","v":0},0,0,58,null,null,null,null,null,null,null,null,null,null,{"$error":"#N/A"},{"$f":"VLOOKUP($V$6,INDIRECT(U64):$J$501,5,FALSE)","v":{"$error":"#N/A"}},"","",""]
[59,{"$f":"IF('.'!D65=0,\"\",IF(BOEKHOUDING!C65=\"\",\"diverse\",BOEKHOUDING!C65))","v":""},{"$f":"BOEKHOUDING!D65","v":0},{"$f":"SUM(BOEKHOUDING!E65:G65)","v":0},"",{"$error":"#N/A"},{"$f":"BOEKHOUDING!H65","v":0},0,0,59,null,null,null,null,null,null,null,null,null,null,{"$error":"#N/A"},{"$f":"VLOOKUP($V$6,INDIRECT(U65):$J$501,5,FALSE)","v":{"$error":"#N/A"}},"","",""]
[60,{"$f":"IF('.'!D66=0,\"\",IF(BOEKHOUDING!C66=\"\",\"diverse\",BOEKHOUDING!C66))","v":""},{"$f":"BOEKHOUDING!D66","v":0},{"$f":"SUM(BOEKHOUDING!E66:G66)","v":0},"",{"$error":"#N/A"},{"$f":"BOEKHOUDING!H66","v":0},0,0,60,null,null,null,null,null,null,null,null,null,null,{"$error":"#N/A"},{"$f":"VLOOKUP($V$6,INDIRECT(U66):$J$501,5,FALSE)","v":{"$error":"#N/A"}},"","",""]
[61,{"$f":"IF('.'!D67=0,\"\",IF(BOEKHOUDING!C67=\"\",\"diverse\",BOEKHOUDING!C67))","v":""},{"$f":"BOEKHOUDING!D67","v":0},{"$f":"SUM(BOEKHOUDING!E67:G67)","v":0},"",{"$error":"#N/A"},{"$f":"BOEKHOUDING!H67","v":0},0,0,61,null,null,null,null,null,null,null,null,null,null,{"$error":"#N/A"},{"$f":"VLOOKUP($V$6,INDIRECT(U67):$J$501,5,FALSE)","v":{"$error":"#N/A"}},"","",""]
[62,{"$f":"IF('.'!D68=0,\"\",IF(BOEKHOUDING!C68=\"\",\"diverse\",BOEKHOUDING!C68))","v":""},{"$f":"BOEKHOUDING!D68","v":0},{"$f":"SUM(BOEKHOUDING!E68:G68)","v":0},"",{"$error":"#N/A"},{"$f":"BOEKHOUDING!H68","v":0},0,0,62,null,null,null,null,null,null,null,null,null,null,{"$error":"#N/A"},{"$f":"VLOOKUP($V$6,INDIRECT(U68):$J$501,5,FALSE)","v":{"$error":"#N/A"}},"","",""]
[63,{"$f":"IF('.'!D69=0,\"\",IF(BOEKHOUDING!C69=\"\",\"diverse\",BOEKHOUDING!C69))","v":""},{"$f":"BOEKHOUDING!D69","v":0},{"$f":"SUM(BOEKHOUDING!E69:G69)","v":0},"",{"$error":"#N/A"},{"$f":"BOEKHOUDING!H69","v":0},0,0,63,null,null,null,null,null,null,null,null,null,null,{"$error":"#N/A"},{"$f":"VLOOKUP($V$6,INDIRECT(U69):$J$501,5,FALSE)","v":{"$error":"#N/A"}},"","",""]
[64,{"$f":"IF('.'!D70=0,\"\",IF(BOEKHOUDING!C70=\"\",\"diverse\",BOEKHOUDING!C70))","v":""},{"$f":"BOEKHOUDING!D70","v":0},{"$f":"SUM(BOEKHOUDING!E70:G70)","v":0},"",{"$error":"#N/A"},{"$f":"BOEKHOUDING!H70","v":0},0,0,64,null,null,null,null,null,null,null,null,null,null,{"$error":"#N/A"},{"$f":"VLOOKUP($V$6,INDIRECT(U70):$J$501,5,FALSE)","v":{"$error":"#N/A"}},"","",""]
[65,{"$f":"IF('.'!D71=0,\"\",IF(BOEKHOUDING!C71=\"\",\"diverse\",BOEKHOUDING!C71))","v":""},{"$f":"BOEKHOUDING!D71","v":0},{"$f":"SUM(BOEKHOUDING!E71:G71)","v":0},"",{"$error":"#N/A"},{"$f":"BOEKHOUDING!H71","v":0},0,0,65,null,null,null,null,null,null,null,null,null,null,{"$error":"#N/A"},{"$f":"VLOOKUP($V$6,INDIRECT(U71):$J$501,5,FALSE)","v":{"$error":"#N/A"}},"","",""]
[66,{"$f":"IF('.'!D72=0,\"\",IF(BOEKHOUDING!C72=\"\",\"diverse\",BOEKHOUDING!C72))","v":""},{"$f":"BOEKHOUDING!D72","v":0},{"$f":"SUM(BOEKHOUDING!E72:G72)","v":0},{"$f":"IF(D72=0,\"\",IF(D72<0,$O$1,$O$2))","v":""},{"$error":"#N/A"},{"$f":"BOEKHOUDING!H72","v":0},{"$f":"IF(G72=0,0,IF(E72=F72,0,$M$7))","v":0},{"$f":"IF(H72=1,A72,0)","v":0},{"$f":"A72","v":66},null,null,null,null,null,null,null,null,null,null,{"$error":"#N/A"},{"$f":"VLOOKUP($V$6,INDIRECT(U72):$J$501,5,FALSE)","v":{"$error":"#N/A"}},"","",""]
[67,{"$f":"IF('.'!D73=0,\"\",IF(BOEKHOUDING!C73=\"\",\"diverse\",BOEKHOUDING!C73))","v":""},{"$f":"BOEKHOUDING!D73","v":0},{"$f":"SUM(BOEKHOUDING!E73:G73)","v":0},"",{"$f":"VLOOKUP(G73,$S$8:$T$27,2,FALSE)","v":{"$error":"#N/A"}},{"$f":"BOEKHOUDING!H73","v":0},0,0,67,null,null,null,null,null,null,null,null,null,null,{"$error":"#N/A"},{"$f":"VLOOKUP($V$6,INDIRECT(U73):$J$501,5,FALSE)","v":{"$error":"#N/A"}},"","",""]
[68,{"$f":"IF('.'!D74=0,\"\",IF(BOEKHOUDING!C74=\"\",\"diverse\",BOEKHOUDING!C74))","v":""},{"$f":"BOEKHOUDING!D74","v":0},{"$f":"SUM(BOEKHOUDING!E74:G74)","v":0},"",{"$error":"#N/A"},{"$f":"BOEKHOUDING!H74","v":0},0,0,68,null,null,null,null,null,null,null,null,null,null,{"$f":"ADDRESS(V73+7,6,4,,)","v":{"$error":"#N/A"}},{"$f":"VLOOKUP($V$6,INDIRECT(U74):$J$501,5,FALSE)","v":{"$error":"#N/A"}},"","",""]
[69,{"$f":"IF('.'!D75=0,\"\",IF(BOEKHOUDING!C75=\"\",\"diverse\",BOEKHOUDING!C75))","v":""},{"$f":"BOEKHOUDING!D75","v":0},{"$f":"SUM(BOEKHOUDING!E75:G75)","v":0},"",{"$error":"#N/A"},{"$f":"BOEKHOUDING!H75","v":0},0,0,69,null,null,null,null,null,null,null,null,null,null,{"$error":"#N/A"},{"$f":"VLOOKUP($V$6,INDIRECT(U75):$J$501,5,FALSE)","v":{"$error":"#N/A"}},"","",""]
[70,{"$f":"IF('.'!D76=0,\"\",IF(BOEKHOUDING!C76=\"\",\"diverse\",BOEKHOUDING!C76))","v":""},{"$f":"BOEKHOUDING!D76","v":0},{"$f":"SUM(BOEKHOUDING!E76:G76)","v":0},"",{"$error":"#N/A"},{"$f":"BOEKHOUDING!H76","v":0},0,0,70,null,null,null,null,null,null,null,null,null,null,{"$error":"#N/A"},{"$f":"VLOOKUP($V$6,INDIRECT(U76):$J$501,5,FALSE)","v":{"$error":"#N/A"}},"","",""]
[71,{"$f":"IF('.'!D77=0,\"\",IF(BOEKHOUDING!C77=\"\",\"diverse\",BOEKHOUDING!C77))","v":""},{"$f":"BOEKHOUDING!D77","v":0},{"$f":"SUM(BOEKHOUDING!E77:G77)","v":0},"",{"$error":"#N/A"},{"$f":"BOEKHOUDING!H77","v":0},0,0,71,null,null,null,null,null,null,null,null,null,null,{"$error":"#N/A"},{"$f":"VLOOKUP($V$6,INDIRECT(U77):$J$501,5,FALSE)","v":{"$error":"#N/A"}},"","",""]
[72,{"$f":"IF('.'!D78=0,\"\",IF(BOEKHOUDING!C78=\"\",\"diverse\",BOEKHOUDING!C78))","v":""},{"$f":"BOEKHOUDING!D78","v":0},{"$f":"SUM(BOEKHOUDING!E78:G78)","v":0},"",{"$error":"#N/A"},{"$f":"BOEKHOUDING!H78","v":0},0,0,72,null,null,null,null,null,null,null,null,null,null,{"$error":"#N/A"},{"$f":"VLOOKUP($V$6,INDIRECT(U78):$J$501,5,FALSE)","v":{"$error":"#N/A"}},"","",""]
[73,{"$f":"IF('.'!D79=0,\"\",IF(BOEKHOUDING!C79=\"\",\"diverse\",BOEKHOUDING!C79))","v":""},{"$f":"BOEKHOUDING!D79","v":0},{"$f":"SUM(BOEKHOUDING!E79:G79)","v":0},"",{"$error":"#N/A"},{"$f":"BOEKHOUDING!H79","v":0},0,0,73,null,null,null,null,null,null,null,null,null,null,{"$error":"#N/A"},{"$f":"VLOOKUP($V$6,INDIRECT(U79):$J$501,5,FALSE)","v":{"$error":"#N/A"}},"","",""]
[74,{"$f":"IF('.'!D80=0,\"\",IF(BOEKHOUDING!C80=\"\",\"diverse\",BOEKHOUDING!C80))","v":""},{"$f":"BOEKHOUDING!D80","v":0},{"$f":"SUM(BOEKHOUDING!E80:G80)","v":0},"",{"$error":"#N/A"},{"$f":"BOEKHOUDING!H80","v":0},0,0,74,null,null,null,null,null,null,null,null,null,null,{"$error":"#N/A"},{"$f":"VLOOKUP($V$6,INDIRECT(U80):$J$501,5,FALSE)","v":{"$error":"#N/A"}},"","",""]
[75,{"$f":"IF('.'!D81=0,\"\",IF(BOEKHOUDING!C81=\"\",\"diverse\",BOEKHOUDING!C81))","v":""},{"$f":"BOEKHOUDING!D81","v":0},{"$f":"SUM(BOEKHOUDING!E81:G81)","v":0},"",{"$error":"#N/A"},{"$f":"BOEKHOUDING!H81","v":0},0,0,75,null,null,null,null,null,null,null,null,null,null,{"$error":"#N/A"},{"$f":"VLOOKUP($V$6,INDIRECT(U81):$J$501,5,FALSE)","v":{"$error":"#N/A"}},{"$f":"IF(ISNUMBER($V82)=TRUE,INDIRECT(ADDRESS($V82+6,W$5)),\"\")","v":""},{"$f":"IF(ISNUMBER($V82)=TRUE,INDIRECT(ADDRESS($V82+6,X$5)),\"\")","v":""},{"$f":"IF(ISNUMBER($V82)=TRUE,-INDIRECT(ADDRESS($V82+6,Y$5)),\"\")","v":""}]
[76,{"$f":"IF('.'!D82=0,\"\",IF(BOEKHOUDING!C82=\"\",\"diverse\",BOEKHOUDING!C82))","v":""},{"$f":"BOEKHOUDING!D82","v":0},{"$f":"SUM(BOEKHOUDING!E82:G82)","v":0},"",{"$error":"#N/A"},{"$f":"BOEKHOUDING!H82","v":0},0,0,76,null,null,null,null,null,null,null,null,null,null,{"$error":"#N/A"},{"$f":"VLOOKUP($V$6,INDIRECT(U82):$J$501,5,FALSE)","v":{"$error":"#N/A"}},"","",""]
[77,{"$f":"IF('.'!D83=0,\"\",IF(BOEKHOUDING!C83=\"\",\"diverse\",BOEKHOUDING!C83))","v":""},{"$f":"BOEKHOUDING!D83","v":0},{"$f":"SUM(BOEKHOUDING!E83:G83)","v":0},"",{"$error":"#N/A"},{"$f":"BOEKHOUDING!H83","v":0},0,0,77,null,null,null,null,null,null,null,null,null,null,{"$error":"#N/A"},{"$f":"VLOOKUP($V$6,INDIRECT(U83):$J$501,5,FALSE)","v":{"$error":"#N/A"}},"","",""]
[78,{"$f":"IF('.'!D84=0,\"\",IF(BOEKHOUDING!C84=\"\",\"diverse\",BOEKHOUDING!C84))","v":""},{"$f":"BOEKHOUDING!D84","v":0},{"$f":"SUM(BOEKHOUDING!E84:G84)","v":0},"",{"$error":"#N/A"},{"$f":"BOEKHOUDING!H84","v":0},0,0,78,null,null,null,null,null,null,null,null,null,null,{"$error":"#N/A"},{"$f":"VLOOKUP($V$6,INDIRECT(U84):$J$501,5,FALSE)","v":{"$error":"#N/A"}},"","",""]
[79,{"$f":"IF('.'!D85=0,\"\",IF(BOEKHOUDING!C85=\"\",\"diverse\",BOEKHOUDING!C85))","v":""},{"$f":"BOEKHOUDING!D85","v":0},{"$f":"SUM(BOEKHOUDING!E85:G85)","v":0},"",{"$error":"#N/A"},{"$f":"BOEKHOUDING!H85","v":0},0,0,79,null,null,null,null,null,null,null,null,null,null,{"$error":"#N/A"},{"$f":"VLOOKUP($V$6,INDIRECT(U85):$J$501,5,FALSE)","v":{"$error":"#N/A"}},"","",""]
[80,{"$f":"IF('.'!D86=0,\"\",IF(BOEKHOUDING!C86=\"\",\"diverse\",BOEKHOUDING!C86))","v":""},{"$f":"BOEKHOUDING!D86","v":0},{"$f":"SUM(BOEKHOUDING!E86:G86)","v":0},"",{"$error":"#N/A"},{"$f":"BOEKHOUDING!H86","v":0},0,0,80,null,null,null,null,null,null,null,null,null,null,{"$error":"#N/A"},{"$f":"VLOOKUP($V$6,INDIRECT(U86):$J$501,5,FALSE)","v":{"$error":"#N/A"}},"","",""]
[81,{"$f":"IF('.'!D87=0,\"\",IF(BOEKHOUDING!C87=\"\",\"diverse\",BOEKHOUDING!C87))","v":""},{"$f":"BOEKHOUDING!D87","v":0},{"$f":"SUM(BOEKHOUDING!E87:G87)","v":0},"",{"$error":"#N/A"},{"$f":"BOEKHOUDING!H87","v":0},0,0,81,null,null,null,null,null,null,null,null,null,null,{"$error":"#N/A"},{"$f":"VLOOKUP($V$6,INDIRECT(U87):$J$501,5,FALSE)","v":{"$error":"#N/A"}},"","",""]
[82,{"$f":"IF('.'!D88=0,\"\",IF(BOEKHOUDING!C88=\"\",\"diverse\",BOEKHOUDING!C88))","v":""},{"$f":"BOEKHOUDING!D88","v":0},{"$f":"SUM(BOEKHOUDING!E88:G88)","v":0},"",{"$error":"#N/A"},{"$f":"BOEKHOUDING!H88","v":0},0,0,82,null,null,null,null,null,null,null,null,null,null,{"$error":"#N/A"},{"$f":"VLOOKUP($V$6,INDIRECT(U88):$J$501,5,FALSE)","v":{"$error":"#N/A"}},"","",""]
[83,{"$f":"IF('.'!D89=0,\"\",IF(BOEKHOUDING!C89=\"\",\"diverse\",BOEKHOUDING!C89))","v":""},{"$f":"BOEKHOUDING!D89","v":0},{"$f":"SUM(BOEKHOUDING!E89:G89)","v":0},"",{"$error":"#N/A"},{"$f":"BOEKHOUDING!H89","v":0},0,0,83,null,null,null,null,null,null,null,null,null,null,{"$error":"#N/A"},{"$f":"VLOOKUP($V$6,INDIRECT(U89):$J$501,5,FALSE)","v":{"$error":"#N/A"}},"","",""]
[84,{"$f":"IF('.'!D90=0,\"\",IF(BOEKHOUDING!C90=\"\",\"diverse\",BOEKHOUDING!C90))","v":""},{"$f":"BOEKHOUDING!D90","v":0},{"$f":"SUM(BOEKHOUDING!E90:G90)","v":0},"",{"$error":"#N/A"},{"$f":"BOEKHOUDING!H90","v":0},0,0,84,null,null,null,null,null,null,null,null,null,null,{"$error":"#N/A"},{"$f":"VLOOKUP($V$6,INDIRECT(U90):$J$501,5,FALSE)","v":{"$error":"#N/A"}},"","",""]
[85,{"$f":"IF('.'!D91=0,\"\",IF(BOEKHOUDING!C91=\"\",\"diverse\",BOEKHOUDING!C91))","v":""},{"$f":"BOEKHOUDING!D91","v":0},{"$f":"SUM(BOEKHOUDING!E91:G91)","v":0},"",{"$error":"#N/A"},{"$f":"BOEKHOUDING!H91","v":0},0,0,85,null,null,null,null,null,null,null,null,null,null,{"$error":"#N/A"},{"$f":"VLOOKUP($V$6,INDIRECT(U91):$J$501,5,FALSE)","v":{"$error":"#N/A"}},"","",""]
[86,{"$f":"IF('.'!D92=0,\"\",IF(BOEKHOUDING!C92=\"\",\"diverse\",BOEKHOUDING!C92))","v":""},{"$f":"BOEKHOUDING!D92","v":0},{"$f":"SUM(BOEKHOUDING!E92:G92)","v":0},"",{"$error":"#N/A"},{"$f":"BOEKHOUDING!H92","v":0},0,0,86,null,null,null,null,null,null,null,null,null,null,{"$error":"#N/A"},{"$f":"VLOOKUP($V$6,INDIRECT(U92):$J$501,5,FALSE)","v":{"$error":"#N/A"}},"","",""]
[87,{"$f":"IF('.'!D93=0,\"\",IF(BOEKHOUDING!C93=\"\",\"diverse\",BOEKHOUDING!C93))","v":""},{"$f":"BOEKHOUDING!D93","v":0},{"$f":"SUM(BOEKHOUDING!E93:G93)","v":0},"",{"$error":"#N/A"},{"$f":"BOEKHOUDING!H93","v":0},0,0,87,null,null,null,null,null,null,null,null,null,null,{"$error":"#N/A"},{"$f":"VLOOKUP($V$6,INDIRECT(U93):$J$501,5,FALSE)","v":{"$error":"#N/A"}},"","",""]
[88,{"$f":"IF('.'!D94=0,\"\",IF(BOEKHOUDING!C94=\"\",\"diverse\",BOEKHOUDING!C94))","v":""},{"$f":"BOEKHOUDING!D94","v":0},{"$f":"SUM(BOEKHOUDING!E94:G94)","v":0},"",{"$error":"#N/A"},{"$f":"BOEKHOUDING!H94","v":0},0,0,88,null,null,null,null,null,null,null,null,null,null,{"$error":"#N/A"},{"$f":"VLOOKUP($V$6,INDIRECT(U94):$J$501,5,FALSE)","v":{"$error":"#N/A"}},"","",""]
[89,{"$f":"IF('.'!D95=0,\"\",IF(BOEKHOUDING!C95=\"\",\"diverse\",BOEKHOUDING!C95))","v":""},{"$f":"BOEKHOUDING!D95","v":0},{"$f":"SUM(BOEKHOUDING!E95:G95)","v":0},"",{"$error":"#N/A"},{"$f":"BOEKHOUDING!H95","v":0},0,0,89,null,null,null,null,null,null,null,null,null,null,{"$error":"#N/A"},{"$f":"VLOOKUP($V$6,INDIRECT(U95):$J$501,5,FALSE)","v":{"$error":"#N/A"}},"","",""]
[90,{"$f":"IF('.'!D96=0,\"\",IF(BOEKHOUDING!C96=\"\",\"diverse\",BOEKHOUDING!C96))","v":""},{"$f":"BOEKHOUDING!D96","v":0},{"$f":"SUM(BOEKHOUDING!E96:G96)","v":0},"",{"$error":"#N/A"},{"$f":"BOEKHOUDING!H96","v":0},0,0,90,null,null,null,null,null,null,null,null,null,null,{"$error":"#N/A"},{"$f":"VLOOKUP($V$6,INDIRECT(U96):$J$501,5,FALSE)","v":{"$error":"#N/A"}},"","",""]
[91,{"$f":"IF('.'!D97=0,\"\",IF(BOEKHOUDING!C97=\"\",\"diverse\",BOEKHOUDING!C97))","v":""},{"$f":"BOEKHOUDING!D97","v":0},{"$f":"SUM(BOEKHOUDING!E97:G97)","v":0},"",{"$f":"VLOOKUP(G97,$S$8:$T$27,2,FALSE)","v":{"$error":"#N/A"}},{"$f":"BOEKHOUDING!H97","v":0},0,0,91,null,null,null,null,null,null,null,null,null,null,{"$error":"#N/A"},{"$f":"VLOOKUP($V$6,INDIRECT(U97):$J$501,5,FALSE)","v":{"$error":"#N/A"}},"","",""]
[92,{"$f":"IF('.'!D98=0,\"\",IF(BOEKHOUDING!C98=\"\",\"diverse\",BOEKHOUDING!C98))","v":""},{"$f":"BOEKHOUDING!D98","v":0},{"$f":"SUM(BOEKHOUDING!E98:G98)","v":0},"",{"$error":"#N/A"},{"$f":"BOEKHOUDING!H98","v":0},0,0,92,null,null,null,null,null,null,null,null,null,null,{"$error":"#N/A"},{"$f":"VLOOKUP($V$6,INDIRECT(U98):$J$501,5,FALSE)","v":{"$error":"#N/A"}},"","",""]
[93,{"$f":"IF('.'!D99=0,\"\",IF(BOEKHOUDING!C99=\"\",\"diverse\",BOEKHOUDING!C99))","v":""},{"$f":"BOEKHOUDING!D99","v":0},{"$f":"SUM(BOEKHOUDING!E99:G99)","v":0},"",{"$error":"#N/A"},{"$f":"BOEKHOUDING!H99","v":0},0,0,93,null,null,null,null,null,null,null,null,null,null,{"$error":"#N/A"},{"$f":"VLOOKUP($V$6,INDIRECT(U99):$J$501,5,FALSE)","v":{"$error":"#N/A"}},"","",""]
[94,{"$f":"IF('.'!D100=0,\"\",IF(BOEKHOUDING!C100=\"\",\"diverse\",BOEKHOUDING!C100))","v":""},{"$f":"BOEKHOUDING!D100","v":0},{"$f":"SUM(BOEKHOUDING!E100:G100)","v":0},"",{"$error":"#N/A"},{"$f":"BOEKHOUDING!H100","v":0},0,0,94,null,null,null,null,null,null,null,null,null,null,{"$error":"#N/A"},{"$f":"VLOOKUP($V$6,INDIRECT(U100):$J$501,5,FALSE)","v":{"$error":"#N/A"}},"","",""]
[95,{"$f":"IF('.'!D101=0,\"\",IF(BOEKHOUDING!C101=\"\",\"diverse\",BOEKHOUDING!C101))","v":""},{"$f":"BOEKHOUDING!D101","v":0},{"$f":"SUM(BOEKHOUDING!E101:G101)","v":0},"",{"$error":"#N/A"},{"$f":"BOEKHOUDING!H101","v":0},0,0,95,null,null,null,null,null,null,null,null,null,null,{"$error":"#N/A"},{"$f":"VLOOKUP($V$6,INDIRECT(U101):$J$501,5,FALSE)","v":{"$error":"#N/A"}},"","",""]
[96,{"$f":"IF('.'!D102=0,\"\",IF(BOEKHOUDING!C102=\"\",\"diverse\",BOEKHOUDING!C102))","v":""},{"$f":"BOEKHOUDING!D102","v":0},{"$f":"SUM(BOEKHOUDING!E102:G102)","v":0},"",{"$error":"#N/A"},{"$f":"BOEKHOUDING!H102","v":0},0,0,96,null,null,null,null,null,null,null,null,null,null,{"$error":"#N/A"},{"$f":"VLOOKUP($V$6,INDIRECT(U102):$J$501,5,FALSE)","v":{"$error":"#N/A"}},"","",""]
[97,{"$f":"IF('.'!D103=0,\"\",IF(BOEKHOUDING!C103=\"\",\"diverse\",BOEKHOUDING!C103))","v":""},{"$f":"BOEKHOUDING!D103","v":0},{"$f":"SUM(BOEKHOUDING!E103:G103)","v":0},"",{"$error":"#N/A"},{"$f":"BOEKHOUDING!H103","v":0},0,0,97,null,null,null,null,null,null,null,null,null,null,{"$error":"#N/A"},{"$f":"VLOOKUP($V$6,INDIRECT(U103):$J$501,5,FALSE)","v":{"$error":"#N/A"}},"","",""]
[98,{"$f":"IF('.'!D104=0,\"\",IF(BOEKHOUDING!C104=\"\",\"diverse\",BOEKHOUDING!C104))","v":""},{"$f":"BOEKHOUDING!D104","v":0},{"$f":"SUM(BOEKHOUDING!E104:G104)","v":0},"",{"$error":"#N/A"},{"$f":"BOEKHOUDING!H104","v":0},0,0,98,null,null,null,null,null,null,null,null,null,null,{"$error":"#N/A"},{"$f":"VLOOKUP($V$6,INDIRECT(U104):$J$501,5,FALSE)","v":{"$error":"#N/A"}},"","",""]
[99,{"$f":"IF('.'!D105=0,\"\",IF(BOEKHOUDING!C105=\"\",\"diverse\",BOEKHOUDING!C105))","v":""},{"$f":"BOEKHOUDING!D105","v":0},{"$f":"SUM(BOEKHOUDING!E105:G105)","v":0},"",{"$error":"#N/A"},{"$f":"BOEKHOUDING!H105","v":0},0,0,99,null,null,null,null,null,null,null,null,null,null,{"$error":"#N/A"},{"$f":"VLOOKUP($V$6,INDIRECT(U105):$J$501,5,FALSE)","v":{"$error":"#N/A"}},"","",""]
[100,{"$f":"IF('.'!D106=0,\"\",IF(BOEKHOUDING!C106=\"\",\"diverse\",BOEKHOUDING!C106))","v":""},{"$f":"BOEKHOUDING!D106","v":0},{"$f":"SUM(BOEKHOUDING!E106:G106)","v":0},"",{"$error":"#N/A"},{"$f":"BOEKHOUDING!H106","v":0},0,0,100,null,null,null,null,null,null,null,null,null,null,{"$error":"#N/A"},{"$f":"VLOOKUP($V$6,INDIRECT(U106):$J$501,5,FALSE)","v":{"$error":"#N/A"}},"","",""]
[101,{"$f":"IF('.'!D107=0,\"\",IF(BOEKHOUDING!C107=\"\",\"diverse\",BOEKHOUDING!C107))","v":""},{"$f":"BOEKHOUDING!D107","v":0},{"$f":"SUM(BOEKHOUDING!E107:G107)","v":0},"",{"$error":"#N/A"},{"$f":"BOEKHOUDING!H107","v":0},0,0,101,null,null,null,null,null,null,null,null,null,null,{"$error":"#N/A"},{"$f":"VLOOKUP($V$6,INDIRECT(U107):$J$501,5,FALSE)","v":{"$error":"#N/A"}},"","",""]
[102,{"$f":"IF('.'!D108=0,\"\",IF(BOEKHOUDING!C108=\"\",\"diverse\",BOEKHOUDING!C108))","v":""},{"$f":"BOEKHOUDING!D108","v":0},{"$f":"SUM(BOEKHOUDING!E108:G108)","v":0},"",{"$error":"#N/A"},{"$f":"BOEKHOUDING!H108","v":0},0,0,102,null,null,null,null,null,null,null,null,null,null,{"$error":"#N/A"},{"$f":"VLOOKUP($V$6,INDIRECT(U108):$J$501,5,FALSE)","v":{"$error":"#N/A"}},"","",""]
[103,{"$f":"IF('.'!D109=0,\"\",IF(BOEKHOUDING!C109=\"\",\"diverse\",BOEKHOUDING!C109))","v":""},{"$f":"BOEKHOUDING!D109","v":0},{"$f":"SUM(BOEKHOUDING!E109:G109)","v":0},"",{"$error":"#N/A"},{"$f":"BOEKHOUDING!H109","v":0},0,0,103,null,null,null,null,null,null,null,null,null,null,{"$error":"#N/A"},{"$f":"VLOOKUP($V$6,INDIRECT(U109):$J$501,5,FALSE)","v":{"$error":"#N/A"}},"","",""]
[104,{"$f":"IF('.'!D110=0,\"\",IF(BOEKHOUDING!C110=\"\",\"diverse\",BOEKHOUDING!C110))","v":""},{"$f":"BOEKHOUDING!D110","v":0},{"$f":"SUM(BOEKHOUDING!E110:G110)","v":0},"",{"$error":"#N/A"},{"$f":"BOEKHOUDING!H110","v":0},0,0,104,null,null,null,null,null,null,null,null,null,null,{"$error":"#N/A"},{"$f":"VLOOKUP($V$6,INDIRECT(U110):$J$501,5,FALSE)","v":{"$error":"#N/A"}},"","",""]
[105,{"$f":"IF('.'!D111=0,\"\",IF(BOEKHOUDING!C111=\"\",\"diverse\",BOEKHOUDING!C111))","v":""},{"$f":"BOEKHOUDING!D111","v":0},{"$f":"SUM(BOEKHOUDING!E111:G111)","v":0},"",{"$error":"#N/A"},{"$f":"BOEKHOUDING!H111","v":0},0,0,105,null,null,null,null,null,null,null,null,null,null,{"$error":"#N/A"},{"$f":"VLOOKUP($V$6,INDIRECT(U111):$J$501,5,FALSE)","v":{"$error":"#N/A"}},"","",""]
[106,{"$f":"IF('.'!D112=0,\"\",IF(BOEKHOUDING!C112=\"\",\"diverse\",BOEKHOUDING!C112))","v":""},{"$f":"BOEKHOUDING!D112","v":0},{"$f":"SUM(BOEKHOUDING!E112:G112)","v":0},"",{"$error":"#N/A"},{"$f":"BOEKHOUDING!H112","v":0},0,0,106,null,null,null,null,null,null,null,null,null,null,{"$error":"#N/A"},{"$f":"VLOOKUP($V$6,INDIRECT(U112):$J$501,5,FALSE)","v":{"$error":"#N/A"}},"","",""]
[107,{"$f":"IF('.'!D113=0,\"\",IF(BOEKHOUDING!C113=\"\",\"diverse\",BOEKHOUDING!C113))","v":""},{"$f":"BOEKHOUDING!D113","v":0},{"$f":"SUM(BOEKHOUDING!E113:G113)","v":0},"",{"$error":"#N/A"},{"$f":"BOEKHOUDING!H113","v":0},0,0,107,null,null,null,null,null,null,null,null,null,null,{"$error":"#N/A"},{"$f":"VLOOKUP($V$6,INDIRECT(U113):$J$501,5,FALSE)","v":{"$error":"#N/A"}},"","",""]
[108,{"$f":"IF('.'!D114=0,\"\",IF(BOEKHOUDING!C114=\"\",\"diverse\",BOEKHOUDING!C114))","v":""},{"$f":"BOEKHOUDING!D114","v":0},{"$f":"SUM(BOEKHOUDING!E114:G114)","v":0},"",{"$error":"#N/A"},{"$f":"BOEKHOUDING!H114","v":0},0,0,108,null,null,null,null,null,null,null,null,null,null,{"$error":"#N/A"},{"$f":"VLOOKUP($V$6,INDIRECT(U114):$J$501,5,FALSE)","v":{"$error":"#N/A"}},"","",""]
[109,{"$f":"IF('.'!D115=0,\"\",IF(BOEKHOUDING!C115=\"\",\"diverse\",BOEKHOUDING!C115))","v":""},{"$f":"BOEKHOUDING!D115","v":0},{"$f":"SUM(BOEKHOUDING!E115:G115)","v":0},"",{"$error":"#N/A"},{"$f":"BOEKHOUDING!H115","v":0},0,0,109,null,null,null,null,null,null,null,null,null,null,{"$error":"#N/A"},{"$f":"VLOOKUP($V$6,INDIRECT(U115):$J$501,5,FALSE)","v":{"$error":"#N/A"}},"","",""]
[110,{"$f":"IF('.'!D116=0,\"\",IF(BOEKHOUDING!C116=\"\",\"diverse\",BOEKHOUDING!C116))","v":""},{"$f":"BOEKHOUDING!D116","v":0},{"$f":"SUM(BOEKHOUDING!E116:G116)","v":0},"",{"$error":"#N/A"},{"$f":"BOEKHOUDING!H116","v":0},0,0,110,null,null,null,null,null,null,null,null,null,null,{"$error":"#N/A"},{"$f":"VLOOKUP($V$6,INDIRECT(U116):$J$501,5,FALSE)","v":{"$error":"#N/A"}},"","",""]
[111,{"$f":"IF('.'!D117=0,\"\",IF(BOEKHOUDING!C117=\"\",\"diverse\",BOEKHOUDING!C117))","v":""},{"$f":"BOEKHOUDING!D117","v":0},{"$f":"SUM(BOEKHOUDING!E117:G117)","v":0},"",{"$error":"#N/A"},{"$f":"BOEKHOUDING!H117","v":0},0,0,111,null,null,null,null,null,null,null,null,null,null,{"$error":"#N/A"},{"$f":"VLOOKUP($V$6,INDIRECT(U117):$J$501,5,FALSE)","v":{"$error":"#N/A"}},"","",""]
[112,{"$f":"IF('.'!D118=0,\"\",IF(BOEKHOUDING!C118=\"\",\"diverse\",BOEKHOUDING!C118))","v":""},{"$f":"BOEKHOUDING!D118","v":0},{"$f":"SUM(BOEKHOUDING!E118:G118)","v":0},"",{"$error":"#N/A"},{"$f":"BOEKHOUDING!H118","v":0},0,0,112,null,null,null,null,null,null,null,null,null,null,{"$error":"#N/A"},{"$f":"VLOOKUP($V$6,INDIRECT(U118):$J$501,5,FALSE)","v":{"$error":"#N/A"}},"","",""]
[113,{"$f":"IF('.'!D119=0,\"\",IF(BOEKHOUDING!C119=\"\",\"diverse\",BOEKHOUDING!C119))","v":""},{"$f":"BOEKHOUDING!D119","v":0},{"$f":"SUM(BOEKHOUDING!E119:G119)","v":0},"",{"$error":"#N/A"},{"$f":"BOEKHOUDING!H119","v":0},0,0,113,null,null,null,null,null,null,null,null,null,null,{"$error":"#N/A"},{"$f":"VLOOKUP($V$6,INDIRECT(U119):$J$501,5,FALSE)","v":{"$error":"#N/A"}},"","",""]
[114,{"$f":"IF('.'!D120=0,\"\",IF(BOEKHOUDING!C120=\"\",\"diverse\",BOEKHOUDING!C120))","v":""},{"$f":"BOEKHOUDING!D120","v":0},{"$f":"SUM(BOEKHOUDING!E120:G120)","v":0},"",{"$error":"#N/A"},{"$f":"BOEKHOUDING!H120","v":0},0,0,114,null,null,null,null,null,null,null,null,null,null,{"$error":"#N/A"},{"$f":"VLOOKUP($V$6,INDIRECT(U120):$J$501,5,FALSE)","v":{"$error":"#N/A"}},"","",""]
[115,{"$f":"IF('.'!D121=0,\"\",IF(BOEKHOUDING!C121=\"\",\"diverse\",BOEKHOUDING!C121))","v":""},{"$f":"BOEKHOUDING!D121","v":0},{"$f":"SUM(BOEKHOUDING!E121:G121)","v":0},"",{"$error":"#N/A"},{"$f":"BOEKHOUDING!H121","v":0},0,0,115,null,null,null,null,null,null,null,null,null,null,{"$error":"#N/A"},{"$f":"VLOOKUP($V$6,INDIRECT(U121):$J$501,5,FALSE)","v":{"$error":"#N/A"}},"","",""]
[116,{"$f":"IF('.'!D122=0,\"\",IF(BOEKHOUDING!C122=\"\",\"diverse\",BOEKHOUDING!C122))","v":""},{"$f":"BOEKHOUDING!D122","v":0},{"$f":"SUM(BOEKHOUDING!E122:G122)","v":0},"",{"$error":"#N/A"},{"$f":"BOEKHOUDING!H122","v":0},0,0,116,null,null,null,null,null,null,null,null,null,null,{"$error":"#N/A"},{"$f":"VLOOKUP($V$6,INDIRECT(U122):$J$501,5,FALSE)","v":{"$error":"#N/A"}},"","",""]
[117,{"$f":"IF('.'!D123=0,\"\",IF(BOEKHOUDING!C123=\"\",\"diverse\",BOEKHOUDING!C123))","v":""},{"$f":"BOEKHOUDING!D123","v":0},{"$f":"SUM(BOEKHOUDING!E123:G123)","v":0},"",{"$error":"#N/A"},{"$f":"BOEKHOUDING!H123","v":0},0,0,117,null,null,null,null,null,null,null,null,null,null,{"$error":"#N/A"},{"$f":"VLOOKUP($V$6,INDIRECT(U123):$J$501,5,FALSE)","v":{"$error":"#N/A"}},"","",""]
[118,{"$f":"IF('.'!D124=0,\"\",IF(BOEKHOUDING!C124=\"\",\"diverse\",BOEKHOUDING!C124))","v":""},{"$f":"BOEKHOUDING!D124","v":0},{"$f":"SUM(BOEKHOUDING!E124:G124)","v":0},"",{"$error":"#N/A"},{"$f":"BOEKHOUDING!H124","v":0},0,0,118,null,null,null,null,null,null,null,null,null,null,{"$error":"#N/A"},{"$f":"VLOOKUP($V$6,INDIRECT(U124):$J$501,5,FALSE)","v":{"$error":"#N/A"}},"","",""]
[119,{"$f":"IF('.'!D125=0,\"\",IF(BOEKHOUDING!C125=\"\",\"diverse\",BOEKHOUDING!C125))","v":""},{"$f":"BOEKHOUDING!D125","v":0},{"$f":"SUM(BOEKHOUDING!E125:G125)","v":0},"",{"$error":"#N/A"},{"$f":"BOEKHOUDING!H125","v":0},0,0,119,null,null,null,null,null,null,null,null,null,null,{"$error":"#N/A"},{"$f":"VLOOKUP($V$6,INDIRECT(U125):$J$501,5,FALSE)","v":{"$error":"#N/A"}},"","",""]
[120,{"$f":"IF('.'!D126=0,\"\",IF(BOEKHOUDING!C126=\"\",\"diverse\",BOEKHOUDING!C126))","v":""},{"$f":"BOEKHOUDING!D126","v":0},{"$f":"SUM(BOEKHOUDING!E126:G126)","v":0},"",{"$error":"#N/A"},{"$f":"BOEKHOUDING!H126","v":0},0,0,120,null,null,null,null,null,null,null,null,null,null,{"$error":"#N/A"},{"$f":"VLOOKUP($V$6,INDIRECT(U126):$J$501,5,FALSE)","v":{"$error":"#N/A"}},"","",""]
[121,{"$f":"IF('.'!D127=0,\"\",IF(BOEKHOUDING!C127=\"\",\"diverse\",BOEKHOUDING!C127))","v":""},{"$f":"BOEKHOUDING!D127","v":0},{"$f":"SUM(BOEKHOUDING!E127:G127)","v":0},"",{"$error":"#N/A"},{"$f":"BOEKHOUDING!H127","v":0},0,0,121,null,null,null,null,null,null,null,null,null,null,{"$error":"#N/A"},{"$f":"VLOOKUP($V$6,INDIRECT(U127):$J$501,5,FALSE)","v":{"$error":"#N/A"}},"","",""]
[122,{"$f":"IF('.'!D128=0,\"\",IF(BOEKHOUDING!C128=\"\",\"diverse\",BOEKHOUDING!C128))","v":""},{"$f":"BOEKHOUDING!D128","v":0},{"$f":"SUM(BOEKHOUDING!E128:G128)","v":0},"",{"$error":"#N/A"},{"$f":"BOEKHOUDING!H128","v":0},0,0,122,null,null,null,null,null,null,null,null,null,null,{"$error":"#N/A"},{"$f":"VLOOKUP($V$6,INDIRECT(U128):$J$501,5,FALSE)","v":{"$error":"#N/A"}},"","",""]
[123,{"$f":"IF('.'!D129=0,\"\",IF(BOEKHOUDING!C129=\"\",\"diverse\",BOEKHOUDING!C129))","v":""},{"$f":"BOEKHOUDING!D129","v":0},{"$f":"SUM(BOEKHOUDING!E129:G129)","v":0},"",{"$error":"#N/A"},{"$f":"BOEKHOUDING!H129","v":0},0,0,123,null,null,null,null,null,null,null,null,null,null,{"$error":"#N/A"},{"$f":"VLOOKUP($V$6,INDIRECT(U129):$J$501,5,FALSE)","v":{"$error":"#N/A"}},"","",""]
[124,{"$f":"IF('.'!D130=0,\"\",IF(BOEKHOUDING!C130=\"\",\"diverse\",BOEKHOUDING!C130))","v":""},{"$f":"BOEKHOUDING!D130","v":0},{"$f":"SUM(BOEKHOUDING!E130:G130)","v":0},"",{"$error":"#N/A"},{"$f":"BOEKHOUDING!H130","v":0},0,0,124,null,null,null,null,null,null,null,null,null,null,{"$error":"#N/A"},{"$f":"VLOOKUP($V$6,INDIRECT(U130):$J$501,5,FALSE)","v":{"$error":"#N/A"}},"","",""]
[125,{"$f":"IF('.'!D131=0,\"\",IF(BOEKHOUDING!C131=\"\",\"diverse\",BOEKHOUDING!C131))","v":""},{"$f":"BOEKHOUDING!D131","v":0},{"$f":"SUM(BOEKHOUDING!E131:G131)","v":0},"",{"$error":"#N/A"},{"$f":"BOEKHOUDING!H131","v":0},0,0,125,null,null,null,null,null,null,null,null,null,null,{"$error":"#N/A"},{"$f":"VLOOKUP($V$6,INDIRECT(U131):$J$501,5,FALSE)","v":{"$error":"#N/A"}},"","",""]
[126,{"$f":"IF('.'!D132=0,\"\",IF(BOEKHOUDING!C132=\"\",\"diverse\",BOEKHOUDING!C132))","v":""},{"$f":"BOEKHOUDING!D132","v":0},{"$f":"SUM(BOEKHOUDING!E132:G132)","v":0},"",{"$error":"#N/A"},{"$f":"BOEKHOUDING!H132","v":0},0,0,126,null,null,null,null,null,null,null,null,null,null,{"$error":"#N/A"},{"$f":"VLOOKUP($V$6,INDIRECT(U132):$J$501,5,FALSE)","v":{"$error":"#N/A"}},"","",""]
[127,{"$f":"IF('.'!D133=0,\"\",IF(BOEKHOUDING!C133=\"\",\"diverse\",BOEKHOUDING!C133))","v":""},{"$f":"BOEKHOUDING!D133","v":0},{"$f":"SUM(BOEKHOUDING!E133:G133)","v":0},"",{"$error":"#N/A"},{"$f":"BOEKHOUDING!H133","v":0},0,0,127,null,null,null,null,null,null,null,null,null,null,{"$error":"#N/A"},{"$f":"VLOOKUP($V$6,INDIRECT(U133):$J$501,5,FALSE)","v":{"$error":"#N/A"}},"","",""]
[128,{"$f":"IF('.'!D134=0,\"\",IF(BOEKHOUDING!C134=\"\",\"diverse\",BOEKHOUDING!C134))","v":""},{"$f":"BOEKHOUDING!D134","v":0},{"$f":"SUM(BOEKHOUDING!E134:G134)","v":0},"",{"$error":"#N/A"},{"$f":"BOEKHOUDING!H134","v":0},0,0,128,null,null,null,null,null,null,null,null,null,null,{"$error":"#N/A"},{"$f":"VLOOKUP($V$6,INDIRECT(U134):$J$501,5,FALSE)","v":{"$error":"#N/A"}},"","",""]
[129,{"$f":"IF('.'!D135=0,\"\",IF(BOEKHOUDING!C135=\"\",\"diverse\",BOEKHOUDING!C135))","v":""},{"$f":"BOEKHOUDING!D135","v":0},{"$f":"SUM(BOEKHOUDING!E135:G135)","v":0},"",{"$error":"#N/A"},{"$f":"BOEKHOUDING!H135","v":0},0,0,129,null,null,null,null,null,null,null,null,null,null,{"$error":"#N/A"},{"$f":"VLOOKUP($V$6,INDIRECT(U135):$J$501,5,FALSE)","v":{"$error":"#N/A"}},"","",""]
[130,{"$f":"IF('.'!D136=0,\"\",IF(BOEKHOUDING!C136=\"\",\"diverse\",BOEKHOUDING!C136))","v":""},{"$f":"BOEKHOUDING!D136","v":0},{"$f":"SUM(BOEKHOUDING!E136:G136)","v":0},{"$f":"IF(D136=0,\"\",IF(D136<0,$O$1,$O$2))","v":""},{"$error":"#N/A"},{"$f":"BOEKHOUDING!H136","v":0},{"$f":"IF(G136=0,0,IF(E136=F136,0,$M$7))","v":0},{"$f":"IF(H136=1,A136,0)","v":0},{"$f":"A136","v":130},null,null,null,null,null,null,null,null,null,null,{"$error":"#N/A"},{"$f":"VLOOKUP($V$6,INDIRECT(U136):$J$501,5,FALSE)","v":{"$error":"#N/A"}},"","",""]
[131,{"$f":"IF('.'!D137=0,\"\",IF(BOEKHOUDING!C137=\"\",\"diverse\",BOEKHOUDING!C137))","v":""},{"$f":"BOEKHOUDING!D137","v":0},{"$f":"SUM(BOEKHOUDING!E137:G137)","v":0},"",{"$f":"VLOOKUP(G137,$S$8:$T$27,2,FALSE)","v":{"$error":"#N/A"}},{"$f":"BOEKHOUDING!H137","v":0},0,0,131,null,null,null,null,null,null,null,null,null,null,{"$error":"#N/A"},{"$f":"VLOOKUP($V$6,INDIRECT(U137):$J$501,5,FALSE)","v":{"$error":"#N/A"}},"","",""]
[132,{"$f":"IF('.'!D138=0,\"\",IF(BOEKHOUDING!C138=\"\",\"diverse\",BOEKHOUDING!C138))","v":""},{"$f":"BOEKHOUDING!D138","v":0},{"$f":"SUM(BOEKHOUDING!E138:G138)","v":0},"",{"$error":"#N/A"},{"$f":"BOEKHOUDING!H138","v":0},0,0,132,null,null,null,null,null,null,null,null,null,null,{"$f":"ADDRESS(V137+7,6,4,,)","v":{"$error":"#N/A"}},{"$f":"VLOOKUP($V$6,INDIRECT(U138):$J$501,5,FALSE)","v":{"$error":"#N/A"}},"","",""]
[133,{"$f":"IF('.'!D139=0,\"\",IF(BOEKHOUDING!C139=\"\",\"diverse\",BOEKHOUDING!C139))","v":""},{"$f":"BOEKHOUDING!D139","v":0},{"$f":"SUM(BOEKHOUDING!E139:G139)","v":0},"",{"$error":"#N/A"},{"$f":"BOEKHOUDING!H139","v":0},0,0,133,null,null,null,null,null,null,null,null,null,null,{"$error":"#N/A"},{"$f":"VLOOKUP($V$6,INDIRECT(U139):$J$501,5,FALSE)","v":{"$error":"#N/A"}},"","",""]
[134,{"$f":"IF('.'!D140=0,\"\",IF(BOEKHOUDING!C140=\"\",\"diverse\",BOEKHOUDING!C140))","v":""},{"$f":"BOEKHOUDING!D140","v":0},{"$f":"SUM(BOEKHOUDING!E140:G140)","v":0},"",{"$error":"#N/A"},{"$f":"BOEKHOUDING!H140","v":0},0,0,134,null,null,null,null,null,null,null,null,null,null,{"$error":"#N/A"},{"$f":"VLOOKUP($V$6,INDIRECT(U140):$J$501,5,FALSE)","v":{"$error":"#N/A"}},"","",""]
[135,{"$f":"IF('.'!D141=0,\"\",IF(BOEKHOUDING!C141=\"\",\"diverse\",BOEKHOUDING!C141))","v":""},{"$f":"BOEKHOUDING!D141","v":0},{"$f":"SUM(BOEKHOUDING!E141:G141)","v":0},"",{"$error":"#N/A"},{"$f":"BOEKHOUDING!H141","v":0},0,0,135,null,null,null,null,null,null,null,null,null,null,{"$error":"#N/A"},{"$f":"VLOOKUP($V$6,INDIRECT(U141):$J$501,5,FALSE)","v":{"$error":"#N/A"}},"","",""]
[136,{"$f":"IF('.'!D142=0,\"\",IF(BOEKHOUDING!C142=\"\",\"diverse\",BOEKHOUDING!C142))","v":""},{"$f":"BOEKHOUDING!D142","v":0},{"$f":"SUM(BOEKHOUDING!E142:G142)","v":0},"",{"$error":"#N/A"},{"$f":"BOEKHOUDING!H142","v":0},0,0,136,null,null,null,null,null,null,null,null,null,null,{"$error":"#N/A"},{"$f":"VLOOKUP($V$6,INDIRECT(U142):$J$501,5,FALSE)","v":{"$error":"#N/A"}},"","",""]
[137,{"$f":"IF('.'!D143=0,\"\",IF(BOEKHOUDING!C143=\"\",\"diverse\",BOEKHOUDING!C143))","v":""},{"$f":"BOEKHOUDING!D143","v":0},{"$f":"SUM(BOEKHOUDING!E143:G143)","v":0},"",{"$error":"#N/A"},{"$f":"BOEKHOUDING!H143","v":0},0,0,137,null,null,null,null,null,null,null,null,null,null,{"$error":"#N/A"},{"$f":"VLOOKUP($V$6,INDIRECT(U143):$J$501,5,FALSE)","v":{"$error":"#N/A"}},"","",""]
[138,{"$f":"IF('.'!D144=0,\"\",IF(BOEKHOUDING!C144=\"\",\"diverse\",BOEKHOUDING!C144))","v":""},{"$f":"BOEKHOUDING!D144","v":0},{"$f":"SUM(BOEKHOUDING!E144:G144)","v":0},"",{"$error":"#N/A"},{"$f":"BOEKHOUDING!H144","v":0},0,0,138,null,null,null,null,null,null,null,null,null,null,{"$error":"#N/A"},{"$f":"VLOOKUP($V$6,INDIRECT(U144):$J$501,5,FALSE)","v":{"$error":"#N/A"}},"","",""]
[139,{"$f":"IF('.'!D145=0,\"\",IF(BOEKHOUDING!C145=\"\",\"diverse\",BOEKHOUDING!C145))","v":""},{"$f":"BOEKHOUDING!D145","v":0},{"$f":"SUM(BOEKHOUDING!E145:G145)","v":0},"",{"$error":"#N/A"},{"$f":"BOEKHOUDING!H145","v":0},0,0,139,null,null,null,null,null,null,null,null,null,null,{"$error":"#N/A"},{"$f":"VLOOKUP($V$6,INDIRECT(U145):$J$501,5,FALSE)","v":{"$error":"#N/A"}},{"$f":"IF(ISNUMBER($V146)=TRUE,INDIRECT(ADDRESS($V146+6,W$5)),\"\")","v":""},{"$f":"IF(ISNUMBER($V146)=TRUE,INDIRECT(ADDRESS($V146+6,X$5)),\"\")","v":""},{"$f":"IF(ISNUMBER($V146)=TRUE,-INDIRECT(ADDRESS($V146+6,Y$5)),\"\")","v":""}]
[140,{"$f":"IF('.'!D146=0,\"\",IF(BOEKHOUDING!C146=\"\",\"diverse\",BOEKHOUDING!C146))","v":""},{"$f":"BOEKHOUDING!D146","v":0},{"$f":"SUM(BOEKHOUDING!E146:G146)","v":0},"",{"$error":"#N/A"},{"$f":"BOEKHOUDING!H146","v":0},0,0,140,null,null,null,null,null,null,null,null,null,null,{"$error":"#N/A"},{"$f":"VLOOKUP($V$6,INDIRECT(U146):$J$501,5,FALSE)","v":{"$error":"#N/A"}},"","",""]
[141,{"$f":"IF('.'!D147=0,\"\",IF(BOEKHOUDING!C147=\"\",\"diverse\",BOEKHOUDING!C147))","v":""},{"$f":"BOEKHOUDING!D147","v":0},{"$f":"SUM(BOEKHOUDING!E147:G147)","v":0},"",{"$error":"#N/A"},{"$f":"BOEKHOUDING!H147","v":0},0,0,141,null,null,null,null,null,null,null,null,null,null,{"$error":"#N/A"},{"$f":"VLOOKUP($V$6,INDIRECT(U147):$J$501,5,FALSE)","v":{"$error":"#N/A"}},"","",""]
[142,{"$f":"IF('.'!D148=0,\"\",IF(BOEKHOUDING!C148=\"\",\"diverse\",BOEKHOUDING!C148))","v":""},{"$f":"BOEKHOUDING!D148","v":0},{"$f":"SUM(BOEKHOUDING!E148:G148)","v":0},"",{"$error":"#N/A"},{"$f":"BOEKHOUDING!H148","v":0},0,0,142,null,null,null,null,null,null,null,null,null,null,{"$error":"#N/A"},{"$f":"VLOOKUP($V$6,INDIRECT(U148):$J$501,5,FALSE)","v":{"$error":"#N/A"}},"","",""]
[143,{"$f":"IF('.'!D149=0,\"\",IF(BOEKHOUDING!C149=\"\",\"diverse\",BOEKHOUDING!C149))","v":""},{"$f":"BOEKHOUDING!D149","v":0},{"$f":"SUM(BOEKHOUDING!E149:G149)","v":0},"",{"$error":"#N/A"},{"$f":"BOEKHOUDING!H149","v":0},0,0,143,null,null,null,null,null,null,null,null,null,null,{"$error":"#N/A"},{"$f":"VLOOKUP($V$6,INDIRECT(U149):$J$501,5,FALSE)","v":{"$error":"#N/A"}},"","",""]
[144,{"$f":"IF('.'!D150=0,\"\",IF(BOEKHOUDING!C150=\"\",\"diverse\",BOEKHOUDING!C150))","v":""},{"$f":"BOEKHOUDING!D150","v":0},{"$f":"SUM(BOEKHOUDING!E150:G150)","v":0},"",{"$error":"#N/A"},{"$f":"BOEKHOUDING!H150","v":0},0,0,144,null,null,null,null,null,null,null,null,null,null,{"$error":"#N/A"},{"$f":"VLOOKUP($V$6,INDIRECT(U150):$J$501,5,FALSE)","v":{"$error":"#N/A"}},"","",""]
[145,{"$f":"IF('.'!D151=0,\"\",IF(BOEKHOUDING!C151=\"\",\"diverse\",BOEKHOUDING!C151))","v":""},{"$f":"BOEKHOUDING!D151","v":0},{"$f":"SUM(BOEKHOUDING!E151:G151)","v":0},"",{"$error":"#N/A"},{"$f":"BOEKHOUDING!H151","v":0},0,0,145,null,null,null,null,null,null,null,null,null,null,{"$error":"#N/A"},{"$f":"VLOOKUP($V$6,INDIRECT(U151):$J$501,5,FALSE)","v":{"$error":"#N/A"}},"","",""]
[146,{"$f":"IF('.'!D152=0,\"\",IF(BOEKHOUDING!C152=\"\",\"diverse\",BOEKHOUDING!C152))","v":""},{"$f":"BOEKHOUDING!D152","v":0},{"$f":"SUM(BOEKHOUDING!E152:G152)","v":0},"",{"$error":"#N/A"},{"$f":"BOEKHOUDING!H152","v":0},0,0,146,null,null,null,null,null,null,null,null,null,null,{"$error":"#N/A"},{"$f":"VLOOKUP($V$6,INDIRECT(U152):$J$501,5,FALSE)","v":{"$error":"#N/A"}},"","",""]
[147,{"$f":"IF('.'!D153=0,\"\",IF(BOEKHOUDING!C153=\"\",\"diverse\",BOEKHOUDING!C153))","v":""},{"$f":"BOEKHOUDING!D153","v":0},{"$f":"SUM(BOEKHOUDING!E153:G153)","v":0},"",{"$error":"#N/A"},{"$f":"BOEKHOUDING!H153","v":0},0,0,147,null,null,null,null,null,null,null,null,null,null,{"$error":"#N/A"},{"$f":"VLOOKUP($V$6,INDIRECT(U153):$J$501,5,FALSE)","v":{"$error":"#N/A"}},"","",""]
[148,{"$f":"IF('.'!D154=0,\"\",IF(BOEKHOUDING!C154=\"\",\"diverse\",BOEKHOUDING!C154))","v":""},{"$f":"BOEKHOUDING!D154","v":0},{"$f":"SUM(BOEKHOUDING!E154:G154)","v":0},"",{"$error":"#N/A"},{"$f":"BOEKHOUDING!H154","v":0},0,0,148,null,null,null,null,null,null,null,null,null,null,{"$error":"#N/A"},{"$f":"VLOOKUP($V$6,INDIRECT(U154):$J$501,5,FALSE)","v":{"$error":"#N/A"}},"","",""]
[149,{"$f":"IF('.'!D155=0,\"\",IF(BOEKHOUDING!C155=\"\",\"diverse\",BOEKHOUDING!C155))","v":""},{"$f":"BOEKHOUDING!D155","v":0},{"$f":"SUM(BOEKHOUDING!E155:G155)","v":0},"",{"$error":"#N/A"},{"$f":"BOEKHOUDING!H155","v":0},0,0,149,null,null,null,null,null,null,null,null,null,null,{"$error":"#N/A"},{"$f":"VLOOKUP($V$6,INDIRECT(U155):$J$501,5,FALSE)","v":{"$error":"#N/A"}},"","",""]
[150,{"$f":"IF('.'!D156=0,\"\",IF(BOEKHOUDING!C156=\"\",\"diverse\",BOEKHOUDING!C156))","v":""},{"$f":"BOEKHOUDING!D156","v":0},{"$f":"SUM(BOEKHOUDING!E156:G156)","v":0},"",{"$error":"#N/A"},{"$f":"BOEKHOUDING!H156","v":0},0,0,150,null,null,null,null,null,null,null,null,null,null,{"$error":"#N/A"},{"$f":"VLOOKUP($V$6,INDIRECT(U156):$J$501,5,FALSE)","v":{"$error":"#N/A"}},"","",""]
[151,{"$f":"IF('.'!D157=0,\"\",IF(BOEKHOUDING!C157=\"\",\"diverse\",BOEKHOUDING!C157))","v":""},{"$f":"BOEKHOUDING!D157","v":0},{"$f":"SUM(BOEKHOUDING!E157:G157)","v":0},"",{"$error":"#N/A"},{"$f":"BOEKHOUDING!H157","v":0},0,0,151,null,null,null,null,null,null,null,null,null,null,{"$error":"#N/A"},{"$f":"VLOOKUP($V$6,INDIRECT(U157):$J$501,5,FALSE)","v":{"$error":"#N/A"}},"","",""]
[152,{"$f":"IF('.'!D158=0,\"\",IF(BOEKHOUDING!C158=\"\",\"diverse\",BOEKHOUDING!C158))","v":""},{"$f":"BOEKHOUDING!D158","v":0},{"$f":"SUM(BOEKHOUDING!E158:G158)","v":0},"",{"$error":"#N/A"},{"$f":"BOEKHOUDING!H158","v":0},0,0,152,null,null,null,null,null,null,null,null,null,null,{"$error":"#N/A"},{"$f":"VLOOKUP($V$6,INDIRECT(U158):$J$501,5,FALSE)","v":{"$error":"#N/A"}},"","",""]
[153,{"$f":"IF('.'!D159=0,\"\",IF(BOEKHOUDING!C159=\"\",\"diverse\",BOEKHOUDING!C159))","v":""},{"$f":"BOEKHOUDING!D159","v":0},{"$f":"SUM(BOEKHOUDING!E159:G159)","v":0},"",{"$error":"#N/A"},{"$f":"BOEKHOUDING!H159","v":0},0,0,153,null,null,null,null,null,null,null,null,null,null,{"$error":"#N/A"},{"$f":"VLOOKUP($V$6,INDIRECT(U159):$J$501,5,FALSE)","v":{"$error":"#N/A"}},"","",""]
[154,{"$f":"IF('.'!D160=0,\"\",IF(BOEKHOUDING!C160=\"\",\"diverse\",BOEKHOUDING!C160))","v":""},{"$f":"BOEKHOUDING!D160","v":0},{"$f":"SUM(BOEKHOUDING!E160:G160)","v":0},"",{"$error":"#N/A"},{"$f":"BOEKHOUDING!H160","v":0},0,0,154,null,null,null,null,null,null,null,null,null,null,{"$error":"#N/A"},{"$f":"VLOOKUP($V$6,INDIRECT(U160):$J$501,5,FALSE)","v":{"$error":"#N/A"}},"","",""]
[155,{"$f":"IF('.'!D161=0,\"\",IF(BOEKHOUDING!C161=\"\",\"diverse\",BOEKHOUDING!C161))","v":""},{"$f":"BOEKHOUDING!D161","v":0},{"$f":"SUM(BOEKHOUDING!E161:G161)","v":0},"",{"$error":"#N/A"},{"$f":"BOEKHOUDING!H161","v":0},0,0,155,null,null,null,null,null,null,null,null,null,null,{"$error":"#N/A"},{"$f":"VLOOKUP($V$6,INDIRECT(U161):$J$501,5,FALSE)","v":{"$error":"#N/A"}},"","",""]
[156,{"$f":"IF('.'!D162=0,\"\",IF(BOEKHOUDING!C162=\"\",\"diverse\",BOEKHOUDING!C162))","v":""},{"$f":"BOEKHOUDING!D162","v":0},{"$f":"SUM(BOEKHOUDING!E162:G162)","v":0},"",{"$error":"#N/A"},{"$f":"BOEKHOUDING!H162","v":0},0,0,156,null,null,null,null,null,null,null,null,null,null,{"$error":"#N/A"},{"$f":"VLOOKUP($V$6,INDIRECT(U162):$J$501,5,FALSE)","v":{"$error":"#N/A"}},"","",""]
[157,{"$f":"IF('.'!D163=0,\"\",IF(BOEKHOUDING!C163=\"\",\"diverse\",BOEKHOUDING!C163))","v":""},{"$f":"BOEKHOUDING!D163","v":0},{"$f":"SUM(BOEKHOUDING!E163:G163)","v":0},"",{"$error":"#N/A"},{"$f":"BOEKHOUDING!H163","v":0},0,0,157,null,null,null,null,null,null,null,null,null,null,{"$error":"#N/A"},{"$f":"VLOOKUP($V$6,INDIRECT(U163):$J$501,5,FALSE)","v":{"$error":"#N/A"}},"","",""]
[158,{"$f":"IF('.'!D164=0,\"\",IF(BOEKHOUDING!C164=\"\",\"diverse\",BOEKHOUDING!C164))","v":""},{"$f":"BOEKHOUDING!D164","v":0},{"$f":"SUM(BOEKHOUDING!E164:G164)","v":0},"",{"$error":"#N/A"},{"$f":"BOEKHOUDING!H164","v":0},0,0,158,null,null,null,null,null,null,null,null,null,null,{"$error":"#N/A"},{"$f":"VLOOKUP($V$6,INDIRECT(U164):$J$501,5,FALSE)","v":{"$error":"#N/A"}},"","",""]
[159,{"$f":"IF('.'!D165=0,\"\",IF(BOEKHOUDING!C165=\"\",\"diverse\",BOEKHOUDING!C165))","v":""},{"$f":"BOEKHOUDING!D165","v":0},{"$f":"SUM(BOEKHOUDING!E165:G165)","v":0},"",{"$error":"#N/A"},{"$f":"BOEKHOUDING!H165","v":0},0,0,159,null,null,null,null,null,null,null,null,null,null,{"$error":"#N/A"},{"$f":"VLOOKUP($V$6,INDIRECT(U165):$J$501,5,FALSE)","v":{"$error":"#N/A"}},"","",""]
[160,{"$f":"IF('.'!D166=0,\"\",IF(BOEKHOUDING!C166=\"\",\"diverse\",BOEKHOUDING!C166))","v":""},{"$f":"BOEKHOUDING!D166","v":0},{"$f":"SUM(BOEKHOUDING!E166:G166)","v":0},"",{"$error":"#N/A"},{"$f":"BOEKHOUDING!H166","v":0},0,0,160,null,null,null,null,null,null,null,null,null,null,{"$error":"#N/A"},{"$f":"VLOOKUP($V$6,INDIRECT(U166):$J$501,5,FALSE)","v":{"$error":"#N/A"}},"","",""]
[161,{"$f":"IF('.'!D167=0,\"\",IF(BOEKHOUDING!C167=\"\",\"diverse\",BOEKHOUDING!C167))","v":""},{"$f":"BOEKHOUDING!D167","v":0},{"$f":"SUM(BOEKHOUDING!E167:G167)","v":0},"",{"$error":"#N/A"},{"$f":"BOEKHOUDING!H167","v":0},0,0,161,null,null,null,null,null,null,null,null,null,null,{"$error":"#N/A"},{"$f":"VLOOKUP($V$6,INDIRECT(U167):$J$501,5,FALSE)","v":{"$error":"#N/A"}},"","",""]
[162,{"$f":"IF('.'!D168=0,\"\",IF(BOEKHOUDING!C168=\"\",\"diverse\",BOEKHOUDING!C168))","v":""},{"$f":"BOEKHOUDING!D168","v":0},{"$f":"SUM(BOEKHOUDING!E168:G168)","v":0},"",{"$error":"#N/A"},{"$f":"BOEKHOUDING!H168","v":0},0,0,162,null,null,null,null,null,null,null,null,null,null,{"$error":"#N/A"},{"$f":"VLOOKUP($V$6,INDIRECT(U168):$J$501,5,FALSE)","v":{"$error":"#N/A"}},"","",""]
[163,{"$f":"IF('.'!D169=0,\"\",IF(BOEKHOUDING!C169=\"\",\"diverse\",BOEKHOUDING!C169))","v":""},{"$f":"BOEKHOUDING!D169","v":0},{"$f":"SUM(BOEKHOUDING!E169:G169)","v":0},"",{"$error":"#N/A"},{"$f":"BOEKHOUDING!H169","v":0},0,0,163,null,null,null,null,null,null,null,null,null,null,{"$error":"#N/A"},{"$f":"VLOOKUP($V$6,INDIRECT(U169):$J$501,5,FALSE)","v":{"$error":"#N/A"}},"","",""]
[164,{"$f":"IF('.'!D170=0,\"\",IF(BOEKHOUDING!C170=\"\",\"diverse\",BOEKHOUDING!C170))","v":""},{"$f":"BOEKHOUDING!D170","v":0},{"$f":"SUM(BOEKHOUDING!E170:G170)","v":0},"",{"$error":"#N/A"},{"$f":"BOEKHOUDING!H170","v":0},0,0,164,null,null,null,null,null,null,null,null,null,null,{"$error":"#N/A"},{"$f":"VLOOKUP($V$6,INDIRECT(U170):$J$501,5,FALSE)","v":{"$error":"#N/A"}},"","",""]
[165,{"$f":"IF('.'!D171=0,\"\",IF(BOEKHOUDING!C171=\"\",\"diverse\",BOEKHOUDING!C171))","v":""},{"$f":"BOEKHOUDING!D171","v":0},{"$f":"SUM(BOEKHOUDING!E171:G171)","v":0},"",{"$error":"#N/A"},{"$f":"BOEKHOUDING!H171","v":0},0,0,165,null,null,null,null,null,null,null,null,null,null,{"$error":"#N/A"},{"$f":"VLOOKUP($V$6,INDIRECT(U171):$J$501,5,FALSE)","v":{"$error":"#N/A"}},"","",""]
[166,{"$f":"IF('.'!D172=0,\"\",IF(BOEKHOUDING!C172=\"\",\"diverse\",BOEKHOUDING!C172))","v":""},{"$f":"BOEKHOUDING!D172","v":0},{"$f":"SUM(BOEKHOUDING!E172:G172)","v":0},"",{"$error":"#N/A"},{"$f":"BOEKHOUDING!H172","v":0},0,0,166,null,null,null,null,null,null,null,null,null,null,{"$error":"#N/A"},{"$f":"VLOOKUP($V$6,INDIRECT(U172):$J$501,5,FALSE)","v":{"$error":"#N/A"}},"","",""]
[167,{"$f":"IF('.'!D173=0,\"\",IF(BOEKHOUDING!C173=\"\",\"diverse\",BOEKHOUDING!C173))","v":""},{"$f":"BOEKHOUDING!D173","v":0},{"$f":"SUM(BOEKHOUDING!E173:G173)","v":0},"",{"$error":"#N/A"},{"$f":"BOEKHOUDING!H173","v":0},0,0,167,null,null,null,null,null,null,null,null,null,null,{"$error":"#N/A"},{"$f":"VLOOKUP($V$6,INDIRECT(U173):$J$501,5,FALSE)","v":{"$error":"#N/A"}},"","",""]
[168,{"$f":"IF('.'!D174=0,\"\",IF(BOEKHOUDING!C174=\"\",\"diverse\",BOEKHOUDING!C174))","v":""},{"$f":"BOEKHOUDING!D174","v":0},{"$f":"SUM(BOEKHOUDING!E174:G174)","v":0},"",{"$error":"#N/A"},{"$f":"BOEKHOUDING!H174","v":0},0,0,168,null,null,null,null,null,null,null,null,null,null,{"$error":"#N/A"},{"$f":"VLOOKUP($V$6,INDIRECT(U174):$J$501,5,FALSE)","v":{"$error":"#N/A"}},"","",""]
[169,{"$f":"IF('.'!D175=0,\"\",IF(BOEKHOUDING!C175=\"\",\"diverse\",BOEKHOUDING!C175))","v":""},{"$f":"BOEKHOUDING!D175","v":0},{"$f":"SUM(BOEKHOUDING!E175:G175)","v":0},"",{"$error":"#N/A"},{"$f":"BOEKHOUDING!H175","v":0},0,0,169,null,null,null,null,null,null,null,null,null,null,{"$error":"#N/A"},{"$f":"VLOOKUP($V$6,INDIRECT(U175):$J$501,5,FALSE)","v":{"$error":"#N/A"}},"","",""]
[170,{"$f":"IF('.'!D176=0,\"\",IF(BOEKHOUDING!C176=\"\",\"diverse\",BOEKHOUDING!C176))","v":""},{"$f":"BOEKHOUDING!D176","v":0},{"$f":"SUM(BOEKHOUDING!E176:G176)","v":0},"",{"$error":"#N/A"},{"$f":"BOEKHOUDING!H176","v":0},0,0,170,null,null,null,null,null,null,null,null,null,null,{"$error":"#N/A"},{"$f":"VLOOKUP($V$6,INDIRECT(U176):$J$501,5,FALSE)","v":{"$error":"#N/A"}},"","",""]
[171,{"$f":"IF('.'!D177=0,\"\",IF(BOEKHOUDING!C177=\"\",\"diverse\",BOEKHOUDING!C177))","v":""},{"$f":"BOEKHOUDING!D177","v":0},{"$f":"SUM(BOEKHOUDING!E177:G177)","v":0},"",{"$error":"#N/A"},{"$f":"BOEKHOUDING!H177","v":0},0,0,171,null,null,null,null,null,null,null,null,null,null,{"$error":"#N/A"},{"$f":"VLOOKUP($V$6,INDIRECT(U177):$J$501,5,FALSE)","v":{"$error":"#N/A"}},"","",""]
[172,{"$f":"IF('.'!D178=0,\"\",IF(BOEKHOUDING!C178=\"\",\"diverse\",BOEKHOUDING!C178))","v":""},{"$f":"BOEKHOUDING!D178","v":0},{"$f":"SUM(BOEKHOUDING!E178:G178)","v":0},"",{"$error":"#N/A"},{"$f":"BOEKHOUDING!H178","v":0},0,0,172,null,null,null,null,null,null,null,null,null,null,{"$error":"#N/A"},{"$f":"VLOOKUP($V$6,INDIRECT(U178):$J$501,5,FALSE)","v":{"$error":"#N/A"}},"","",""]
[173,{"$f":"IF('.'!D179=0,\"\",IF(BOEKHOUDING!C179=\"\",\"diverse\",BOEKHOUDING!C179))","v":""},{"$f":"BOEKHOUDING!D179","v":0},{"$f":"SUM(BOEKHOUDING!E179:G179)","v":0},"",{"$error":"#N/A"},{"$f":"BOEKHOUDING!H179","v":0},0,0,173,null,null,null,null,null,null,null,null,null,null,{"$error":"#N/A"},{"$f":"VLOOKUP($V$6,INDIRECT(U179):$J$501,5,FALSE)","v":{"$error":"#N/A"}},"","",""]
[174,{"$f":"IF('.'!D180=0,\"\",IF(BOEKHOUDING!C180=\"\",\"diverse\",BOEKHOUDING!C180))","v":""},{"$f":"BOEKHOUDING!D180","v":0},{"$f":"SUM(BOEKHOUDING!E180:G180)","v":0},"",{"$error":"#N/A"},{"$f":"BOEKHOUDING!H180","v":0},0,0,174,null,null,null,null,null,null,null,null,null,null,{"$error":"#N/A"},{"$f":"VLOOKUP($V$6,INDIRECT(U180):$J$501,5,FALSE)","v":{"$error":"#N/A"}},"","",""]
[175,{"$f":"IF('.'!D181=0,\"\",IF(BOEKHOUDING!C181=\"\",\"diverse\",BOEKHOUDING!C181))","v":""},{"$f":"BOEKHOUDING!D181","v":0},{"$f":"SUM(BOEKHOUDING!E181:G181)","v":0},"",{"$error":"#N/A"},{"$f":"BOEKHOUDING!H181","v":0},0,0,175,null,null,null,null,null,null,null,null,null,null,{"$error":"#N/A"},{"$f":"VLOOKUP($V$6,INDIRECT(U181):$J$501,5,FALSE)","v":{"$error":"#N/A"}},"","",""]
[176,{"$f":"IF('.'!D182=0,\"\",IF(BOEKHOUDING!C182=\"\",\"diverse\",BOEKHOUDING!C182))","v":""},{"$f":"BOEKHOUDING!D182","v":0},{"$f":"SUM(BOEKHOUDING!E182:G182)","v":0},"",{"$error":"#N/A"},{"$f":"BOEKHOUDING!H182","v":0},0,0,176,null,null,null,null,null,null,null,null,null,null,{"$error":"#N/A"},{"$f":"VLOOKUP($V$6,INDIRECT(U182):$J$501,5,FALSE)","v":{"$error":"#N/A"}},"","",""]
[177,{"$f":"IF('.'!D183=0,\"\",IF(BOEKHOUDING!C183=\"\",\"diverse\",BOEKHOUDING!C183))","v":""},{"$f":"BOEKHOUDING!D183","v":0},{"$f":"SUM(BOEKHOUDING!E183:G183)","v":0},"",{"$error":"#N/A"},{"$f":"BOEKHOUDING!H183","v":0},0,0,177,null,null,null,null,null,null,null,null,null,null,{"$error":"#N/A"},{"$f":"VLOOKUP($V$6,INDIRECT(U183):$J$501,5,FALSE)","v":{"$error":"#N/A"}},"","",""]
[178,{"$f":"IF('.'!D184=0,\"\",IF(BOEKHOUDING!C184=\"\",\"diverse\",BOEKHOUDING!C184))","v":""},{"$f":"BOEKHOUDING!D184","v":0},{"$f":"SUM(BOEKHOUDING!E184:G184)","v":0},"",{"$error":"#N/A"},{"$f":"BOEKHOUDING!H184","v":0},0,0,178,null,null,null,null,null,null,null,null,null,null,{"$error":"#N/A"},{"$f":"VLOOKUP($V$6,INDIRECT(U184):$J$501,5,FALSE)","v":{"$error":"#N/A"}},"","",""]
[179,{"$f":"IF('.'!D185=0,\"\",IF(BOEKHOUDING!C185=\"\",\"diverse\",BOEKHOUDING!C185))","v":""},{"$f":"BOEKHOUDING!D185","v":0},{"$f":"SUM(BOEKHOUDING!E185:G185)","v":0},"",{"$error":"#N/A"},{"$f":"BOEKHOUDING!H185","v":0},0,0,179,null,null,null,null,null,null,null,null,null,null,{"$error":"#N/A"},{"$f":"VLOOKUP($V$6,INDIRECT(U185):$J$501,5,FALSE)","v":{"$error":"#N/A"}},"","",""]
[180,{"$f":"IF('.'!D186=0,\"\",IF(BOEKHOUDING!C186=\"\",\"diverse\",BOEKHOUDING!C186))","v":""},{"$f":"BOEKHOUDING!D186","v":0},{"$f":"SUM(BOEKHOUDING!E186:G186)","v":0},"",{"$error":"#N/A"},{"$f":"BOEKHOUDING!H186","v":0},0,0,180,null,null,null,null,null,null,null,null,null,null,{"$error":"#N/A"},{"$f":"VLOOKUP($V$6,INDIRECT(U186):$J$501,5,FALSE)","v":{"$error":"#N/A"}},"","",""]
[181,{"$f":"IF('.'!D187=0,\"\",IF(BOEKHOUDING!C187=\"\",\"diverse\",BOEKHOUDING!C187))","v":""},{"$f":"BOEKHOUDING!D187","v":0},{"$f":"SUM(BOEKHOUDING!E187:G187)","v":0},"",{"$error":"#N/A"},{"$f":"BOEKHOUDING!H187","v":0},0,0,181,null,null,null,null,null,null,null,null,null,null,{"$error":"#N/A"},{"$f":"VLOOKUP($V$6,INDIRECT(U187):$J$501,5,FALSE)","v":{"$error":"#N/A"}},"","",""]
[182,{"$f":"IF('.'!D188=0,\"\",IF(BOEKHOUDING!C188=\"\",\"diverse\",BOEKHOUDING!C188))","v":""},{"$f":"BOEKHOUDING!D188","v":0},{"$f":"SUM(BOEKHOUDING!E188:G188)","v":0},"",{"$error":"#N/A"},{"$f":"BOEKHOUDING!H188","v":0},0,0,182,null,null,null,null,null,null,null,null,null,null,{"$error":"#N/A"},{"$f":"VLOOKUP($V$6,INDIRECT(U188):$J$501,5,FALSE)","v":{"$error":"#N/A"}},"","",""]
[183,{"$f":"IF('.'!D189=0,\"\",IF(BOEKHOUDING!C189=\"\",\"diverse\",BOEKHOUDING!C189))","v":""},{"$f":"BOEKHOUDING!D189","v":0},{"$f":"SUM(BOEKHOUDING!E189:G189)","v":0},"",{"$error":"#N/A"},{"$f":"BOEKHOUDING!H189","v":0},0,0,183,null,null,null,null,null,null,null,null,null,null,{"$error":"#N/A"},{"$f":"VLOOKUP($V$6,INDIRECT(U189):$J$501,5,FALSE)","v":{"$error":"#N/A"}},"","",""]
[184,{"$f":"IF('.'!D190=0,\"\",IF(BOEKHOUDING!C190=\"\",\"diverse\",BOEKHOUDING!C190))","v":""},{"$f":"BOEKHOUDING!D190","v":0},{"$f":"SUM(BOEKHOUDING!E190:G190)","v":0},"",{"$error":"#N/A"},{"$f":"BOEKHOUDING!H190","v":0},0,0,184,null,null,null,null,null,null,null,null,null,null,{"$error":"#N/A"},{"$f":"VLOOKUP($V$6,INDIRECT(U190):$J$501,5,FALSE)","v":{"$error":"#N/A"}},"","",""]
[185,{"$f":"IF('.'!D191=0,\"\",IF(BOEKHOUDING!C191=\"\",\"diverse\",BOEKHOUDING!C191))","v":""},{"$f":"BOEKHOUDING!D191","v":0},{"$f":"SUM(BOEKHOUDING!E191:G191)","v":0},"",{"$error":"#N/A"},{"$f":"BOEKHOUDING!H191","v":0},0,0,185,null,null,null,null,null,null,null,null,null,null,{"$error":"#N/A"},{"$f":"VLOOKUP($V$6,INDIRECT(U191):$J$501,5,FALSE)","v":{"$error":"#N/A"}},"","",""]
[186,{"$f":"IF('.'!D192=0,\"\",IF(BOEKHOUDING!C192=\"\",\"diverse\",BOEKHOUDING!C192))","v":""},{"$f":"BOEKHOUDING!D192","v":0},{"$f":"SUM(BOEKHOUDING!E192:G192)","v":0},"",{"$error":"#N/A"},{"$f":"BOEKHOUDING!H192","v":0},0,0,186,null,null,null,null,null,null,null,null,null,null,{"$error":"#N/A"},{"$f":"VLOOKUP($V$6,INDIRECT(U192):$J$501,5,FALSE)","v":{"$error":"#N/A"}},"","",""]
[187,{"$f":"IF('.'!D193=0,\"\",IF(BOEKHOUDING!C193=\"\",\"diverse\",BOEKHOUDING!C193))","v":""},{"$f":"BOEKHOUDING!D193","v":0},{"$f":"SUM(BOEKHOUDING!E193:G193)","v":0},"",{"$error":"#N/A"},{"$f":"BOEKHOUDING!H193","v":0},0,0,187,null,null,null,null,null,null,null,null,null,null,{"$error":"#N/A"},{"$f":"VLOOKUP($V$6,INDIRECT(U193):$J$501,5,FALSE)","v":{"$error":"#N/A"}},"","",""]
[188,{"$f":"IF('.'!D194=0,\"\",IF(BOEKHOUDING!C194=\"\",\"diverse\",BOEKHOUDING!C194))","v":""},{"$f":"BOEKHOUDING!D194","v":0},{"$f":"SUM(BOEKHOUDING!E194:G194)","v":0},"",{"$error":"#N/A"},{"$f":"BOEKHOUDING!H194","v":0},0,0,188,null,null,null,null,null,null,null,null,null,null,{"$error":"#N/A"},{"$f":"VLOOKUP($V$6,INDIRECT(U194):$J$501,5,FALSE)","v":{"$error":"#N/A"}},"","",""]
[189,{"$f":"IF('.'!D195=0,\"\",IF(BOEKHOUDING!C195=\"\",\"diverse\",BOEKHOUDING!C195))","v":""},{"$f":"BOEKHOUDING!D195","v":0},{"$f":"SUM(BOEKHOUDING!E195:G195)","v":0},"",{"$error":"#N/A"},{"$f":"BOEKHOUDING!H195","v":0},0,0,189,null,null,null,null,null,null,null,null,null,null,{"$error":"#N/A"},{"$f":"VLOOKUP($V$6,INDIRECT(U195):$J$501,5,FALSE)","v":{"$error":"#N/A"}},"","",""]
[190,{"$f":"IF('.'!D196=0,\"\",IF(BOEKHOUDING!C196=\"\",\"diverse\",BOEKHOUDING!C196))","v":""},{"$f":"BOEKHOUDING!D196","v":0},{"$f":"SUM(BOEKHOUDING!E196:G196)","v":0},"",{"$error":"#N/A"},{"$f":"BOEKHOUDING!H196","v":0},0,0,190,null,null,null,null,null,null,null,null,null,null,{"$error":"#N/A"},{"$f":"VLOOKUP($V$6,INDIRECT(U196):$J$501,5,FALSE)","v":{"$error":"#N/A"}},"","",""]
[191,{"$f":"IF('.'!D197=0,\"\",IF(BOEKHOUDING!C197=\"\",\"diverse\",BOEKHOUDING!C197))","v":""},{"$f":"BOEKHOUDING!D197","v":0},{"$f":"SUM(BOEKHOUDING!E197:G197)","v":0},"",{"$error":"#N/A"},{"$f":"BOEKHOUDING!H197","v":0},0,0,191,null,null,null,null,null,null,null,null,null,null,{"$error":"#N/A"},{"$f":"VLOOKUP($V$6,INDIRECT(U197):$J$501,5,FALSE)","v":{"$error":"#N/A"}},"","",""]
[192,{"$f":"IF('.'!D198=0,\"\",IF(BOEKHOUDING!C198=\"\",\"diverse\",BOEKHOUDING!C198))","v":""},{"$f":"BOEKHOUDING!D198","v":0},{"$f":"SUM(BOEKHOUDING!E198:G198)","v":0},"",{"$error":"#N/A"},{"$f":"BOEKHOUDING!H198","v":0},0,0,192,null,null,null,null,null,null,null,null,null,null,{"$error":"#N/A"},{"$f":"VLOOKUP($V$6,INDIRECT(U198):$J$501,5,FALSE)","v":{"$error":"#N/A"}},"","",""]
[193,{"$f":"IF('.'!D199=0,\"\",IF(BOEKHOUDING!C199=\"\",\"diverse\",BOEKHOUDING!C199))","v":""},{"$f":"BOEKHOUDING!D199","v":0},{"$f":"SUM(BOEKHOUDING!E199:G199)","v":0},"",{"$error":"#N/A"},{"$f":"BOEKHOUDING!H199","v":0},0,0,193,null,null,null,null,null,null,null,null,null,null,{"$error":"#N/A"},{"$f":"VLOOKUP($V$6,INDIRECT(U199):$J$501,5,FALSE)","v":{"$error":"#N/A"}},"","",""]
[194,{"$f":"IF('.'!D200=0,\"\",IF(BOEKHOUDING!C200=\"\",\"diverse\",BOEKHOUDING!C200))","v":""},{"$f":"BOEKHOUDING!D200","v":0},{"$f":"SUM(BOEKHOUDING!E200:G200)","v":0},{"$f":"IF(D200=0,\"\",IF(D200<0,$O$1,$O$2))","v":""},{"$error":"#N/A"},{"$f":"BOEKHOUDING!H200","v":0},{"$f":"IF(G200=0,0,IF(E200=F200,0,$M$7))","v":0},{"$f":"IF(H200=1,A200,0)","v":0},{"$f":"A200","v":194},null,null,null,null,null,null,null,null,null,null,{"$error":"#N/A"},{"$f":"VLOOKUP($V$6,INDIRECT(U200):$J$501,5,FALSE)","v":{"$error":"#N/A"}},"","",""]
[195,{"$f":"IF('.'!D201=0,\"\",IF(BOEKHOUDING!C201=\"\",\"diverse\",BOEKHOUDING!C201))","v":""},{"$f":"BOEKHOUDING!D201","v":0},{"$f":"SUM(BOEKHOUDING!E201:G201)","v":0},"",{"$f":"VLOOKUP(G201,$S$8:$T$27,2,FALSE)","v":{"$error":"#N/A"}},{"$f":"BOEKHOUDING!H201","v":0},0,0,195,null,null,null,null,null,null,null,null,null,null,{"$error":"#N/A"},{"$f":"VLOOKUP($V$6,INDIRECT(U201):$J$501,5,FALSE)","v":{"$error":"#N/A"}},"","",""]
[196,{"$f":"IF('.'!D202=0,\"\",IF(BOEKHOUDING!C202=\"\",\"diverse\",BOEKHOUDING!C202))","v":""},{"$f":"BOEKHOUDING!D202","v":0},{"$f":"SUM(BOEKHOUDING!E202:G202)","v":0},"",{"$error":"#N/A"},{"$f":"BOEKHOUDING!H202","v":0},0,0,196,null,null,null,null,null,null,null,null,null,null,{"$f":"ADDRESS(V201+7,6,4,,)","v":{"$error":"#N/A"}},{"$f":"VLOOKUP($V$6,INDIRECT(U202):$J$501,5,FALSE)","v":{"$error":"#N/A"}},"","",""]
[197,{"$f":"IF('.'!D203=0,\"\",IF(BOEKHOUDING!C203=\"\",\"diverse\",BOEKHOUDING!C203))","v":""},{"$f":"BOEKHOUDING!D203","v":0},{"$f":"SUM(BOEKHOUDING!E203:G203)","v":0},"",{"$error":"#N/A"},{"$f":"BOEKHOUDING!H203","v":0},0,0,197,null,null,null,null,null,null,null,null,null,null,{"$error":"#N/A"},{"$f":"VLOOKUP($V$6,INDIRECT(U203):$J$501,5,FALSE)","v":{"$error":"#N/A"}},"","",""]
[198,{"$f":"IF('.'!D204=0,\"\",IF(BOEKHOUDING!C204=\"\",\"diverse\",BOEKHOUDING!C204))","v":""},{"$f":"BOEKHOUDING!D204","v":0},{"$f":"SUM(BOEKHOUDING!E204:G204)","v":0},"",{"$error":"#N/A"},{"$f":"BOEKHOUDING!H204","v":0},0,0,198,null,null,null,null,null,null,null,null,null,null,{"$error":"#N/A"},{"$f":"VLOOKUP($V$6,INDIRECT(U204):$J$501,5,FALSE)","v":{"$error":"#N/A"}},"","",""]
[199,{"$f":"IF('.'!D205=0,\"\",IF(BOEKHOUDING!C205=\"\",\"diverse\",BOEKHOUDING!C205))","v":""},{"$f":"BOEKHOUDING!D205","v":0},{"$f":"SUM(BOEKHOUDING!E205:G205)","v":0},"",{"$error":"#N/A"},{"$f":"BOEKHOUDING!H205","v":0},0,0,199,null,null,null,null,null,null,null,null,null,null,{"$error":"#N/A"},{"$f":"VLOOKUP($V$6,INDIRECT(U205):$J$501,5,FALSE)","v":{"$error":"#N/A"}},"","",""]
[200,{"$f":"IF('.'!D206=0,\"\",IF(BOEKHOUDING!C206=\"\",\"diverse\",BOEKHOUDING!C206))","v":""},{"$f":"BOEKHOUDING!D206","v":0},{"$f":"SUM(BOEKHOUDING!E206:G206)","v":0},"",{"$error":"#N/A"},{"$f":"BOEKHOUDING!H206","v":0},0,0,200,null,null,null,null,null,null,null,null,null,null,{"$error":"#N/A"},{"$f":"VLOOKUP($V$6,INDIRECT(U206):$J$501,5,FALSE)","v":{"$error":"#N/A"}},"","",""]
[201,{"$f":"IF('.'!D207=0,\"\",IF(BOEKHOUDING!C207=\"\",\"diverse\",BOEKHOUDING!C207))","v":""},{"$f":"BOEKHOUDING!D207","v":0},{"$f":"SUM(BOEKHOUDING!E207:G207)","v":0},"",{"$error":"#N/A"},{"$f":"BOEKHOUDING!H207","v":0},0,0,201,null,null,null,null,null,null,null,null,null,null,{"$error":"#N/A"},{"$f":"VLOOKUP($V$6,INDIRECT(U207):$J$501,5,FALSE)","v":{"$error":"#N/A"}},"","",""]
[202,{"$f":"IF('.'!D208=0,\"\",IF(BOEKHOUDING!C208=\"\",\"diverse\",BOEKHOUDING!C208))","v":""},{"$f":"BOEKHOUDING!D208","v":0},{"$f":"SUM(BOEKHOUDING!E208:G208)","v":0},"",{"$error":"#N/A"},{"$f":"BOEKHOUDING!H208","v":0},0,0,202,null,null,null,null,null,null,null,null,null,null,{"$error":"#N/A"},{"$f":"VLOOKUP($V$6,INDIRECT(U208):$J$501,5,FALSE)","v":{"$error":"#N/A"}},"","",""]
[203,{"$f":"IF('.'!D209=0,\"\",IF(BOEKHOUDING!C209=\"\",\"diverse\",BOEKHOUDING!C209))","v":""},{"$f":"BOEKHOUDING!D209","v":0},{"$f":"SUM(BOEKHOUDING!E209:G209)","v":0},"",{"$error":"#N/A"},{"$f":"BOEKHOUDING!H209","v":0},0,0,203,null,null,null,null,null,null,null,null,null,null,{"$error":"#N/A"},{"$f":"VLOOKUP($V$6,INDIRECT(U209):$J$501,5,FALSE)","v":{"$error":"#N/A"}},{"$f":"IF(ISNUMBER($V210)=TRUE,INDIRECT(ADDRESS($V210+6,W$5)),\"\")","v":""},{"$f":"IF(ISNUMBER($V210)=TRUE,INDIRECT(ADDRESS($V210+6,X$5)),\"\")","v":""},{"$f":"IF(ISNUMBER($V210)=TRUE,-INDIRECT(ADDRESS($V210+6,Y$5)),\"\")","v":""}]
[204,{"$f":"IF('.'!D210=0,\"\",IF(BOEKHOUDING!C210=\"\",\"diverse\",BOEKHOUDING!C210))","v":""},{"$f":"BOEKHOUDING!D210","v":0},{"$f":"SUM(BOEKHOUDING!E210:G210)","v":0},"",{"$error":"#N/A"},{"$f":"BOEKHOUDING!H210","v":0},0,0,204,null,null,null,null,null,null,null,null,null,null,{"$error":"#N/A"},{"$f":"VLOOKUP($V$6,INDIRECT(U210):$J$501,5,FALSE)","v":{"$error":"#N/A"}},"","",""]
[205,{"$f":"IF('.'!D211=0,\"\",IF(BOEKHOUDING!C211=\"\",\"diverse\",BOEKHOUDING!C211))","v":""},{"$f":"BOEKHOUDING!D211","v":0},{"$f":"SUM(BOEKHOUDING!E211:G211)","v":0},"",{"$error":"#N/A"},{"$f":"BOEKHOUDING!H211","v":0},0,0,205,null,null,null,null,null,null,null,null,null,null,{"$error":"#N/A"},{"$f":"VLOOKUP($V$6,INDIRECT(U211):$J$501,5,FALSE)","v":{"$error":"#N/A"}},"","",""]
[206,{"$f":"IF('.'!D212=0,\"\",IF(BOEKHOUDING!C212=\"\",\"diverse\",BOEKHOUDING!C212))","v":""},{"$f":"BOEKHOUDING!D212","v":0},{"$f":"SUM(BOEKHOUDING!E212:G212)","v":0},"",{"$error":"#N/A"},{"$f":"BOEKHOUDING!H212","v":0},0,0,206,null,null,null,null,null,null,null,null,null,null,{"$error":"#N/A"},{"$f":"VLOOKUP($V$6,INDIRECT(U212):$J$501,5,FALSE)","v":{"$error":"#N/A"}},"","",""]
[207,{"$f":"IF('.'!D213=0,\"\",IF(BOEKHOUDING!C213=\"\",\"diverse\",BOEKHOUDING!C213))","v":""},{"$f":"BOEKHOUDING!D213","v":0},{"$f":"SUM(BOEKHOUDING!E213:G213)","v":0},"",{"$error":"#N/A"},{"$f":"BOEKHOUDING!H213","v":0},0,0,207,null,null,null,null,null,null,null,null,null,null,{"$error":"#N/A"},{"$f":"VLOOKUP($V$6,INDIRECT(U213):$J$501,5,FALSE)","v":{"$error":"#N/A"}},"","",""]
[208,{"$f":"IF('.'!D214=0,\"\",IF(BOEKHOUDING!C214=\"\",\"diverse\",BOEKHOUDING!C214))","v":""},{"$f":"BOEKHOUDING!D214","v":0},{"$f":"SUM(BOEKHOUDING!E214:G214)","v":0},"",{"$error":"#N/A"},{"$f":"BOEKHOUDING!H214","v":0},0,0,208,null,null,null,null,null,null,null,null,null,null,{"$error":"#N/A"},{"$f":"VLOOKUP($V$6,INDIRECT(U214):$J$501,5,FALSE)","v":{"$error":"#N/A"}},"","",""]
[209,{"$f":"IF('.'!D215=0,\"\",IF(BOEKHOUDING!C215=\"\",\"diverse\",BOEKHOUDING!C215))","v":""},{"$f":"BOEKHOUDING!D215","v":0},{"$f":"SUM(BOEKHOUDING!E215:G215)","v":0},"",{"$error":"#N/A"},{"$f":"BOEKHOUDING!H215","v":0},0,0,209,null,null,null,null,null,null,null,null,null,null,{"$error":"#N/A"},{"$f":"VLOOKUP($V$6,INDIRECT(U215):$J$501,5,FALSE)","v":{"$error":"#N/A"}},"","",""]
[210,{"$f":"IF('.'!D216=0,\"\",IF(BOEKHOUDING!C216=\"\",\"diverse\",BOEKHOUDING!C216))","v":""},{"$f":"BOEKHOUDING!D216","v":0},{"$f":"SUM(BOEKHOUDING!E216:G216)","v":0},"",{"$error":"#N/A"},{"$f":"BOEKHOUDING!H216","v":0},0,0,210,null,null,null,null,null,null,null,null,null,null,{"$error":"#N/A"},{"$f":"VLOOKUP($V$6,INDIRECT(U216):$J$501,5,FALSE)","v":{"$error":"#N/A"}},"","",""]
[211,{"$f":"IF('.'!D217=0,\"\",IF(BOEKHOUDING!C217=\"\",\"diverse\",BOEKHOUDING!C217))","v":""},{"$f":"BOEKHOUDING!D217","v":0},{"$f":"SUM(BOEKHOUDING!E217:G217)","v":0},"",{"$error":"#N/A"},{"$f":"BOEKHOUDING!H217","v":0},0,0,211,null,null,null,null,null,null,null,null,null,null,{"$error":"#N/A"},{"$f":"VLOOKUP($V$6,INDIRECT(U217):$J$501,5,FALSE)","v":{"$error":"#N/A"}},"","",""]
[212,{"$f":"IF('.'!D218=0,\"\",IF(BOEKHOUDING!C218=\"\",\"diverse\",BOEKHOUDING!C218))","v":""},{"$f":"BOEKHOUDING!D218","v":0},{"$f":"SUM(BOEKHOUDING!E218:G218)","v":0},"",{"$error":"#N/A"},{"$f":"BOEKHOUDING!H218","v":0},0,0,212,null,null,null,null,null,null,null,null,null,null,{"$error":"#N/A"},{"$f":"VLOOKUP($V$6,INDIRECT(U218):$J$501,5,FALSE)","v":{"$error":"#N/A"}},"","",""]
[213,{"$f":"IF('.'!D219=0,\"\",IF(BOEKHOUDING!C219=\"\",\"diverse\",BOEKHOUDING!C219))","v":""},{"$f":"BOEKHOUDING!D219","v":0},{"$f":"SUM(BOEKHOUDING!E219:G219)","v":0},"",{"$error":"#N/A"},{"$f":"BOEKHOUDING!H219","v":0},0,0,213,null,null,null,null,null,null,null,null,null,null,{"$error":"#N/A"},{"$f":"VLOOKUP($V$6,INDIRECT(U219):$J$501,5,FALSE)","v":{"$error":"#N/A"}},"","",""]
[214,{"$f":"IF('.'!D220=0,\"\",IF(BOEKHOUDING!C220=\"\",\"diverse\",BOEKHOUDING!C220))","v":""},{"$f":"BOEKHOUDING!D220","v":0},{"$f":"SUM(BOEKHOUDING!E220:G220)","v":0},"",{"$error":"#N/A"},{"$f":"BOEKHOUDING!H220","v":0},0,0,214,null,null,null,null,null,null,null,null,null,null,{"$error":"#N/A"},{"$f":"VLOOKUP($V$6,INDIRECT(U220):$J$501,5,FALSE)","v":{"$error":"#N/A"}},"","",""]
[215,{"$f":"IF('.'!D221=0,\"\",IF(BOEKHOUDING!C221=\"\",\"diverse\",BOEKHOUDING!C221))","v":""},{"$f":"BOEKHOUDING!D221","v":0},{"$f":"SUM(BOEKHOUDING!E221:G221)","v":0},"",{"$error":"#N/A"},{"$f":"BOEKHOUDING!H221","v":0},0,0,215,null,null,null,null,null,null,null,null,null,null,{"$error":"#N/A"},{"$f":"VLOOKUP($V$6,INDIRECT(U221):$J$501,5,FALSE)","v":{"$error":"#N/A"}},"","",""]
[216,{"$f":"IF('.'!D222=0,\"\",IF(BOEKHOUDING!C222=\"\",\"diverse\",BOEKHOUDING!C222))","v":""},{"$f":"BOEKHOUDING!D222","v":0},{"$f":"SUM(BOEKHOUDING!E222:G222)","v":0},"",{"$error":"#N/A"},{"$f":"BOEKHOUDING!H222","v":0},0,0,216,null,null,null,null,null,null,null,null,null,null,{"$error":"#N/A"},{"$f":"VLOOKUP($V$6,INDIRECT(U222):$J$501,5,FALSE)","v":{"$error":"#N/A"}},"","",""]
[217,{"$f":"IF('.'!D223=0,\"\",IF(BOEKHOUDING!C223=\"\",\"diverse\",BOEKHOUDING!C223))","v":""},{"$f":"BOEKHOUDING!D223","v":0},{"$f":"SUM(BOEKHOUDING!E223:G223)","v":0},"",{"$error":"#N/A"},{"$f":"BOEKHOUDING!H223","v":0},0,0,217,null,null,null,null,null,null,null,null,null,null,{"$error":"#N/A"},{"$f":"VLOOKUP($V$6,INDIRECT(U223):$J$501,5,FALSE)","v":{"$error":"#N/A"}},"","",""]
[218,{"$f":"IF('.'!D224=0,\"\",IF(BOEKHOUDING!C224=\"\",\"diverse\",BOEKHOUDING!C224))","v":""},{"$f":"BOEKHOUDING!D224","v":0},{"$f":"SUM(BOEKHOUDING!E224:G224)","v":0},"",{"$error":"#N/A"},{"$f":"BOEKHOUDING!H224","v":0},0,0,218,null,null,null,null,null,null,null,null,null,null,{"$error":"#N/A"},{"$f":"VLOOKUP($V$6,INDIRECT(U224):$J$501,5,FALSE)","v":{"$error":"#N/A"}},"","",""]
[219,{"$f":"IF('.'!D225=0,\"\",IF(BOEKHOUDING!C225=\"\",\"diverse\",BOEKHOUDING!C225))","v":""},{"$f":"BOEKHOUDING!D225","v":0},{"$f":"SUM(BOEKHOUDING!E225:G225)","v":0},"",{"$error":"#N/A"},{"$f":"BOEKHOUDING!H225","v":0},0,0,219,null,null,null,null,null,null,null,null,null,null,{"$error":"#N/A"},{"$f":"VLOOKUP($V$6,INDIRECT(U225):$J$501,5,FALSE)","v":{"$error":"#N/A"}},"","",""]
[220,{"$f":"IF('.'!D226=0,\"\",IF(BOEKHOUDING!C226=\"\",\"diverse\",BOEKHOUDING!C226))","v":""},{"$f":"BOEKHOUDING!D226","v":0},{"$f":"SUM(BOEKHOUDING!E226:G226)","v":0},"",{"$error":"#N/A"},{"$f":"BOEKHOUDING!H226","v":0},0,0,220,null,null,null,null,null,null,null,null,null,null,{"$error":"#N/A"},{"$f":"VLOOKUP($V$6,INDIRECT(U226):$J$501,5,FALSE)","v":{"$error":"#N/A"}},"","",""]
[221,{"$f":"IF('.'!D227=0,\"\",IF(BOEKHOUDING!C227=\"\",\"diverse\",BOEKHOUDING!C227))","v":""},{"$f":"BOEKHOUDING!D227","v":0},{"$f":"SUM(BOEKHOUDING!E227:G227)","v":0},"",{"$error":"#N/A"},{"$f":"BOEKHOUDING!H227","v":0},0,0,221,null,null,null,null,null,null,null,null,null,null,{"$error":"#N/A"},{"$f":"VLOOKUP($V$6,INDIRECT(U227):$J$501,5,FALSE)","v":{"$error":"#N/A"}},"","",""]
[222,{"$f":"IF('.'!D228=0,\"\",IF(BOEKHOUDING!C228=\"\",\"diverse\",BOEKHOUDING!C228))","v":""},{"$f":"BOEKHOUDING!D228","v":0},{"$f":"SUM(BOEKHOUDING!E228:G228)","v":0},"",{"$error":"#N/A"},{"$f":"BOEKHOUDING!H228","v":0},0,0,222,null,null,null,null,null,null,null,null,null,null,{"$error":"#N/A"},{"$f":"VLOOKUP($V$6,INDIRECT(U228):$J$501,5,FALSE)","v":{"$error":"#N/A"}},"","",""]
[223,{"$f":"IF('.'!D229=0,\"\",IF(BOEKHOUDING!C229=\"\",\"diverse\",BOEKHOUDING!C229))","v":""},{"$f":"BOEKHOUDING!D229","v":0},{"$f":"SUM(BOEKHOUDING!E229:G229)","v":0},"",{"$error":"#N/A"},{"$f":"BOEKHOUDING!H229","v":0},0,0,223,null,null,null,null,null,null,null,null,null,null,{"$error":"#N/A"},{"$f":"VLOOKUP($V$6,INDIRECT(U229):$J$501,5,FALSE)","v":{"$error":"#N/A"}},"","",""]
[224,{"$f":"IF('.'!D230=0,\"\",IF(BOEKHOUDING!C230=\"\",\"diverse\",BOEKHOUDING!C230))","v":""},{"$f":"BOEKHOUDING!D230","v":0},{"$f":"SUM(BOEKHOUDING!E230:G230)","v":0},"",{"$error":"#N/A"},{"$f":"BOEKHOUDING!H230","v":0},0,0,224,null,null,null,null,null,null,null,null,null,null,{"$error":"#N/A"},{"$f":"VLOOKUP($V$6,INDIRECT(U230):$J$501,5,FALSE)","v":{"$error":"#N/A"}},"","",""]
[225,{"$f":"IF('.'!D231=0,\"\",IF(BOEKHOUDING!C231=\"\",\"diverse\",BOEKHOUDING!C231))","v":""},{"$f":"BOEKHOUDING!D231","v":0},{"$f":"SUM(BOEKHOUDING!E231:G231)","v":0},"",{"$error":"#N/A"},{"$f":"BOEKHOUDING!H231","v":0},0,0,225,null,null,null,null,null,null,null,null,null,null,{"$error":"#N/A"},{"$f":"VLOOKUP($V$6,INDIRECT(U231):$J$501,5,FALSE)","v":{"$error":"#N/A"}},"","",""]
[226,{"$f":"IF('.'!D232=0,\"\",IF(BOEKHOUDING!C232=\"\",\"diverse\",BOEKHOUDING!C232))","v":""},{"$f":"BOEKHOUDING!D232","v":0},{"$f":"SUM(BOEKHOUDING!E232:G232)","v":0},"",{"$error":"#N/A"},{"$f":"BOEKHOUDING!H232","v":0},0,0,226,null,null,null,null,null,null,null,null,null,null,{"$error":"#N/A"},{"$f":"VLOOKUP($V$6,INDIRECT(U232):$J$501,5,FALSE)","v":{"$error":"#N/A"}},"","",""]
[227,{"$f":"IF('.'!D233=0,\"\",IF(BOEKHOUDING!C233=\"\",\"diverse\",BOEKHOUDING!C233))","v":""},{"$f":"BOEKHOUDING!D233","v":0},{"$f":"SUM(BOEKHOUDING!E233:G233)","v":0},"",{"$error":"#N/A"},{"$f":"BOEKHOUDING!H233","v":0},0,0,227,null,null,null,null,null,null,null,null,null,null,{"$error":"#N/A"},{"$f":"VLOOKUP($V$6,INDIRECT(U233):$J$501,5,FALSE)","v":{"$error":"#N/A"}},"","",""]
[228,{"$f":"IF('.'!D234=0,\"\",IF(BOEKHOUDING!C234=\"\",\"diverse\",BOEKHOUDING!C234))","v":""},{"$f":"BOEKHOUDING!D234","v":0},{"$f":"SUM(BOEKHOUDING!E234:G234)","v":0},"",{"$error":"#N/A"},{"$f":"BOEKHOUDING!H234","v":0},0,0,228,null,null,null,null,null,null,null,null,null,null,{"$error":"#N/A"},{"$f":"VLOOKUP($V$6,INDIRECT(U234):$J$501,5,FALSE)","v":{"$error":"#N/A"}},"","",""]
[229,{"$f":"IF('.'!D235=0,\"\",IF(BOEKHOUDING!C235=\"\",\"diverse\",BOEKHOUDING!C235))","v":""},{"$f":"BOEKHOUDING!D235","v":0},{"$f":"SUM(BOEKHOUDING!E235:G235)","v":0},"",{"$error":"#N/A"},{"$f":"BOEKHOUDING!H235","v":0},0,0,229,null,null,null,null,null,null,null,null,null,null,{"$error":"#N/A"},{"$f":"VLOOKUP($V$6,INDIRECT(U235):$J$501,5,FALSE)","v":{"$error":"#N/A"}},"","",""]
[230,{"$f":"IF('.'!D236=0,\"\",IF(BOEKHOUDING!C236=\"\",\"diverse\",BOEKHOUDING!C236))","v":""},{"$f":"BOEKHOUDING!D236","v":0},{"$f":"SUM(BOEKHOUDING!E236:G236)","v":0},"",{"$error":"#N/A"},{"$f":"BOEKHOUDING!H236","v":0},0,0,230,null,null,null,null,null,null,null,null,null,null,{"$error":"#N/A"},{"$f":"VLOOKUP($V$6,INDIRECT(U236):$J$501,5,FALSE)","v":{"$error":"#N/A"}},"","",""]
[231,{"$f":"IF('.'!D237=0,\"\",IF(BOEKHOUDING!C237=\"\",\"diverse\",BOEKHOUDING!C237))","v":""},{"$f":"BOEKHOUDING!D237","v":0},{"$f":"SUM(BOEKHOUDING!E237:G237)","v":0},"",{"$error":"#N/A"},{"$f":"BOEKHOUDING!H237","v":0},0,0,231,null,null,null,null,null,null,null,null,null,null,{"$error":"#N/A"},{"$f":"VLOOKUP($V$6,INDIRECT(U237):$J$501,5,FALSE)","v":{"$error":"#N/A"}},"","",""]
[232,{"$f":"IF('.'!D238=0,\"\",IF(BOEKHOUDING!C238=\"\",\"diverse\",BOEKHOUDING!C238))","v":""},{"$f":"BOEKHOUDING!D238","v":0},{"$f":"SUM(BOEKHOUDING!E238:G238)","v":0},"",{"$error":"#N/A"},{"$f":"BOEKHOUDING!H238","v":0},0,0,232,null,null,null,null,null,null,null,null,null,null,{"$error":"#N/A"},{"$f":"VLOOKUP($V$6,INDIRECT(U238):$J$501,5,FALSE)","v":{"$error":"#N/A"}},"","",""]
[233,{"$f":"IF('.'!D239=0,\"\",IF(BOEKHOUDING!C239=\"\",\"diverse\",BOEKHOUDING!C239))","v":""},{"$f":"BOEKHOUDING!D239","v":0},{"$f":"SUM(BOEKHOUDING!E239:G239)","v":0},"",{"$error":"#N/A"},{"$f":"BOEKHOUDING!H239","v":0},0,0,233,null,null,null,null,null,null,null,null,null,null,{"$error":"#N/A"},{"$f":"VLOOKUP($V$6,INDIRECT(U239):$J$501,5,FALSE)","v":{"$error":"#N/A"}},"","",""]
[234,{"$f":"IF('.'!D240=0,\"\",IF(BOEKHOUDING!C240=\"\",\"diverse\",BOEKHOUDING!C240))","v":""},{"$f":"BOEKHOUDING!D240","v":0},{"$f":"SUM(BOEKHOUDING!E240:G240)","v":0},"",{"$error":"#N/A"},{"$f":"BOEKHOUDING!H240","v":0},0,0,234,null,null,null,null,null,null,null,null,null,null,{"$error":"#N/A"},{"$f":"VLOOKUP($V$6,INDIRECT(U240):$J$501,5,FALSE)","v":{"$error":"#N/A"}},"","",""]
[235,{"$f":"IF('.'!D241=0,\"\",IF(BOEKHOUDING!C241=\"\",\"diverse\",BOEKHOUDING!C241))","v":""},{"$f":"BOEKHOUDING!D241","v":0},{"$f":"SUM(BOEKHOUDING!E241:G241)","v":0},"",{"$error":"#N/A"},{"$f":"BOEKHOUDING!H241","v":0},0,0,235,null,null,null,null,null,null,null,null,null,null,{"$error":"#N/A"},{"$f":"VLOOKUP($V$6,INDIRECT(U241):$J$501,5,FALSE)","v":{"$error":"#N/A"}},"","",""]
[236,{"$f":"IF('.'!D242=0,\"\",IF(BOEKHOUDING!C242=\"\",\"diverse\",BOEKHOUDING!C242))","v":""},{"$f":"BOEKHOUDING!D242","v":0},{"$f":"SUM(BOEKHOUDING!E242:G242)","v":0},"",{"$error":"#N/A"},{"$f":"BOEKHOUDING!H242","v":0},0,0,236,null,null,null,null,null,null,null,null,null,null,{"$error":"#N/A"},{"$f":"VLOOKUP($V$6,INDIRECT(U242):$J$501,5,FALSE)","v":{"$error":"#N/A"}},"","",""]
[237,{"$f":"IF('.'!D243=0,\"\",IF(BOEKHOUDING!C243=\"\",\"diverse\",BOEKHOUDING!C243))","v":""},{"$f":"BOEKHOUDING!D243","v":0},{"$f":"SUM(BOEKHOUDING!E243:G243)","v":0},"",{"$error":"#N/A"},{"$f":"BOEKHOUDING!H243","v":0},0,0,237,null,null,null,null,null,null,null,null,null,null,{"$error":"#N/A"},{"$f":"VLOOKUP($V$6,INDIRECT(U243):$J$501,5,FALSE)","v":{"$error":"#N/A"}},"","",""]
[238,{"$f":"IF('.'!D244=0,\"\",IF(BOEKHOUDING!C244=\"\",\"diverse\",BOEKHOUDING!C244))","v":""},{"$f":"BOEKHOUDING!D244","v":0},{"$f":"SUM(BOEKHOUDING!E244:G244)","v":0},"",{"$error":"#N/A"},{"$f":"BOEKHOUDING!H244","v":0},0,0,238,null,null,null,null,null,null,null,null,null,null,{"$error":"#N/A"},{"$f":"VLOOKUP($V$6,INDIRECT(U244):$J$501,5,FALSE)","v":{"$error":"#N/A"}},"","",""]
[239,{"$f":"IF('.'!D245=0,\"\",IF(BOEKHOUDING!C245=\"\",\"diverse\",BOEKHOUDING!C245))","v":""},{"$f":"BOEKHOUDING!D245","v":0},{"$f":"SUM(BOEKHOUDING!E245:G245)","v":0},"",{"$error":"#N/A"},{"$f":"BOEKHOUDING!H245","v":0},0,0,239,null,null,null,null,null,null,null,null,null,null,{"$error":"#N/A"},{"$f":"VLOOKUP($V$6,INDIRECT(U245):$J$501,5,FALSE)","v":{"$error":"#N/A"}},"","",""]
[240,{"$f":"IF('.'!D246=0,\"\",IF(BOEKHOUDING!C246=\"\",\"diverse\",BOEKHOUDING!C246))","v":""},{"$f":"BOEKHOUDING!D246","v":0},{"$f":"SUM(BOEKHOUDING!E246:G246)","v":0},"",{"$error":"#N/A"},{"$f":"BOEKHOUDING!H246","v":0},0,0,240,null,null,null,null,null,null,null,null,null,null,{"$error":"#N/A"},{"$f":"VLOOKUP($V$6,INDIRECT(U246):$J$501,5,FALSE)","v":{"$error":"#N/A"}},"","",""]
[241,{"$f":"IF('.'!D247=0,\"\",IF(BOEKHOUDING!C247=\"\",\"diverse\",BOEKHOUDING!C247))","v":""},{"$f":"BOEKHOUDING!D247","v":0},{"$f":"SUM(BOEKHOUDING!E247:G247)","v":0},"",{"$error":"#N/A"},{"$f":"BOEKHOUDING!H247","v":0},0,0,241,null,null,null,null,null,null,null,null,null,null,{"$error":"#N/A"},{"$f":"VLOOKUP($V$6,INDIRECT(U247):$J$501,5,FALSE)","v":{"$error":"#N/A"}},"","",""]
[242,{"$f":"IF('.'!D248=0,\"\",IF(BOEKHOUDING!C248=\"\",\"diverse\",BOEKHOUDING!C248))","v":""},{"$f":"BOEKHOUDING!D248","v":0},{"$f":"SUM(BOEKHOUDING!E248:G248)","v":0},"",{"$error":"#N/A"},{"$f":"BOEKHOUDING!H248","v":0},0,0,242,null,null,null,null,null,null,null,null,null,null,{"$error":"#N/A"},{"$f":"VLOOKUP($V$6,INDIRECT(U248):$J$501,5,FALSE)","v":{"$error":"#N/A"}},"","",""]
[243,{"$f":"IF('.'!D249=0,\"\",IF(BOEKHOUDING!C249=\"\",\"diverse\",BOEKHOUDING!C249))","v":""},{"$f":"BOEKHOUDING!D249","v":0},{"$f":"SUM(BOEKHOUDING!E249:G249)","v":0},"",{"$error":"#N/A"},{"$f":"BOEKHOUDING!H249","v":0},0,0,243,null,null,null,null,null,null,null,null,null,null,{"$error":"#N/A"},{"$f":"VLOOKUP($V$6,INDIRECT(U249):$J$501,5,FALSE)","v":{"$error":"#N/A"}},"","",""]
[244,{"$f":"IF('.'!D250=0,\"\",IF(BOEKHOUDING!C250=\"\",\"diverse\",BOEKHOUDING!C250))","v":""},{"$f":"BOEKHOUDING!D250","v":0},{"$f":"SUM(BOEKHOUDING!E250:G250)","v":0},"",{"$error":"#N/A"},{"$f":"BOEKHOUDING!H250","v":0},0,0,244,null,null,null,null,null,null,null,null,null,null,{"$error":"#N/A"},{"$f":"VLOOKUP($V$6,INDIRECT(U250):$J$501,5,FALSE)","v":{"$error":"#N/A"}},"","",""]
[245,{"$f":"IF('.'!D251=0,\"\",IF(BOEKHOUDING!C251=\"\",\"diverse\",BOEKHOUDING!C251))","v":""},{"$f":"BOEKHOUDING!D251","v":0},{"$f":"SUM(BOEKHOUDING!E251:G251)","v":0},"",{"$error":"#N/A"},{"$f":"BOEKHOUDING!H251","v":0},0,0,245,null,null,null,null,null,null,null,null,null,null,{"$error":"#N/A"},{"$f":"VLOOKUP($V$6,INDIRECT(U251):$J$501,5,FALSE)","v":{"$error":"#N/A"}},"","",""]
[246,{"$f":"IF('.'!D252=0,\"\",IF(BOEKHOUDING!C252=\"\",\"diverse\",BOEKHOUDING!C252))","v":""},{"$f":"BOEKHOUDING!D252","v":0},{"$f":"SUM(BOEKHOUDING!E252:G252)","v":0},"",{"$error":"#N/A"},{"$f":"BOEKHOUDING!H252","v":0},0,0,246,null,null,null,null,null,null,null,null,null,null,{"$error":"#N/A"},{"$f":"VLOOKUP($V$6,INDIRECT(U252):$J$501,5,FALSE)","v":{"$error":"#N/A"}},"","",""]
[247,{"$f":"IF('.'!D253=0,\"\",IF(BOEKHOUDING!C253=\"\",\"diverse\",BOEKHOUDING!C253))","v":""},{"$f":"BOEKHOUDING!D253","v":0},{"$f":"SUM(BOEKHOUDING!E253:G253)","v":0},"",{"$error":"#N/A"},{"$f":"BOEKHOUDING!H253","v":0},0,0,247,null,null,null,null,null,null,null,null,null,null,{"$error":"#N/A"},{"$f":"VLOOKUP($V$6,INDIRECT(U253):$J$501,5,FALSE)","v":{"$error":"#N/A"}},"","",""]
[248,{"$f":"IF('.'!D254=0,\"\",IF(BOEKHOUDING!C254=\"\",\"diverse\",BOEKHOUDING!C254))","v":""},{"$f":"BOEKHOUDING!D254","v":0},{"$f":"SUM(BOEKHOUDING!E254:G254)","v":0},"",{"$error":"#N/A"},{"$f":"BOEKHOUDING!H254","v":0},0,0,248,null,null,null,null,null,null,null,null,null,null,{"$error":"#N/A"},{"$f":"VLOOKUP($V$6,INDIRECT(U254):$J$501,5,FALSE)","v":{"$error":"#N/A"}},"","",""]
[249,{"$f":"IF('.'!D255=0,\"\",IF(BOEKHOUDING!C255=\"\",\"diverse\",BOEKHOUDING!C255))","v":""},{"$f":"BOEKHOUDING!D255","v":0},{"$f":"SUM(BOEKHOUDING!E255:G255)","v":0},"",{"$error":"#N/A"},{"$f":"BOEKHOUDING!H255","v":0},0,0,249,null,null,null,null,null,null,null,null,null,null,{"$error":"#N/A"},{"$f":"VLOOKUP($V$6,INDIRECT(U255):$J$501,5,FALSE)","v":{"$error":"#N/A"}},"","",""]
[250,{"$f":"IF('.'!D256=0,\"\",IF(BOEKHOUDING!C256=\"\",\"diverse\",BOEKHOUDING!C256))","v":""},{"$f":"BOEKHOUDING!D256","v":0},{"$f":"SUM(BOEKHOUDING!E256:G256)","v":0},"",{"$error":"#N/A"},{"$f":"BOEKHOUDING!H256","v":0},0,0,250,null,null,null,null,null,null,null,null,null,null,{"$error":"#N/A"},{"$f":"VLOOKUP($V$6,INDIRECT(U256):$J$501,5,FALSE)","v":{"$error":"#N/A"}},"","",""]
[251,{"$f":"IF('.'!D257=0,\"\",IF(BOEKHOUDING!C257=\"\",\"diverse\",BOEKHOUDING!C257))","v":""},{"$f":"BOEKHOUDING!D257","v":0},{"$f":"SUM(BOEKHOUDING!E257:G257)","v":0},"",{"$error":"#N/A"},{"$f":"BOEKHOUDING!H257","v":0},0,0,251,null,null,null,null,null,null,null,null,null,null,{"$error":"#N/A"},{"$f":"VLOOKUP($V$6,INDIRECT(U257):$J$501,5,FALSE)","v":{"$error":"#N/A"}},"","",""]
[252,{"$f":"IF('.'!D258=0,\"\",IF(BOEKHOUDING!C258=\"\",\"diverse\",BOEKHOUDING!C258))","v":""},{"$f":"BOEKHOUDING!D258","v":0},{"$f":"SUM(BOEKHOUDING!E258:G258)","v":0},"",{"$error":"#N/A"},{"$f":"BOEKHOUDING!H258","v":0},0,0,252,null,null,null,null,null,null,null,null,null,null,{"$error":"#N/A"},{"$f":"VLOOKUP($V$6,INDIRECT(U258):$J$501,5,FALSE)","v":{"$error":"#N/A"}},"","",""]
[253,{"$f":"IF('.'!D259=0,\"\",IF(BOEKHOUDING!C259=\"\",\"diverse\",BOEKHOUDING!C259))","v":""},{"$f":"BOEKHOUDING!D259","v":0},{"$f":"SUM(BOEKHOUDING!E259:G259)","v":0},"",{"$error":"#N/A"},{"$f":"BOEKHOUDING!H259","v":0},0,0,253,null,null,null,null,null,null,null,null,null,null,{"$error":"#N/A"},{"$f":"VLOOKUP($V$6,INDIRECT(U259):$J$501,5,FALSE)","v":{"$error":"#N/A"}},"","",""]
[254,{"$f":"IF('.'!D260=0,\"\",IF(BOEKHOUDING!C260=\"\",\"diverse\",BOEKHOUDING!C260))","v":""},{"$f":"BOEKHOUDING!D260","v":0},{"$f":"SUM(BOEKHOUDING!E260:G260)","v":0},"",{"$error":"#N/A"},{"$f":"BOEKHOUDING!H260","v":0},0,0,254,null,null,null,null,null,null,null,null,null,null,{"$error":"#N/A"},{"$f":"VLOOKUP($V$6,INDIRECT(U260):$J$501,5,FALSE)","v":{"$error":"#N/A"}},"","",""]
[255,{"$f":"IF('.'!D261=0,\"\",IF(BOEKHOUDING!C261=\"\",\"diverse\",BOEKHOUDING!C261))","v":""},{"$f":"BOEKHOUDING!D261","v":0},{"$f":"SUM(BOEKHOUDING!E261:G261)","v":0},"",{"$error":"#N/A"},{"$f":"BOEKHOUDING!H261","v":0},0,0,255,null,null,null,null,null,null,null,null,null,null,{"$error":"#N/A"},{"$f":"VLOOKUP($V$6,INDIRECT(U261):$J$501,5,FALSE)","v":{"$error":"#N/A"}},"","",""]
[256,{"$f":"IF('.'!D262=0,\"\",IF(BOEKHOUDING!C262=\"\",\"diverse\",BOEKHOUDING!C262))","v":""},{"$f":"BOEKHOUDING!D262","v":0},{"$f":"SUM(BOEKHOUDING!E262:G262)","v":0},"",{"$error":"#N/A"},{"$f":"BOEKHOUDING!H262","v":0},0,0,256,null,null,null,null,null,null,null,null,null,null,{"$error":"#N/A"},{"$f":"VLOOKUP($V$6,INDIRECT(U262):$J$501,5,FALSE)","v":{"$error":"#N/A"}},"","",""]
[257,{"$f":"IF('.'!D263=0,\"\",IF(BOEKHOUDING!C263=\"\",\"diverse\",BOEKHOUDING!C263))","v":""},{"$f":"BOEKHOUDING!D263","v":0},{"$f":"SUM(BOEKHOUDING!E263:G263)","v":0},"",{"$error":"#N/A"},{"$f":"BOEKHOUDING!H263","v":0},0,0,257,null,null,null,null,null,null,null,null,null,null,{"$error":"#N/A"},{"$f":"VLOOKUP($V$6,INDIRECT(U263):$J$501,5,FALSE)","v":{"$error":"#N/A"}},"","",""]
[258,{"$f":"IF('.'!D264=0,\"\",IF(BOEKHOUDING!C264=\"\",\"diverse\",BOEKHOUDING!C264))","v":""},{"$f":"BOEKHOUDING!D264","v":0},{"$f":"SUM(BOEKHOUDING!E264:G264)","v":0},{"$f":"IF(D264=0,\"\",IF(D264<0,$O$1,$O$2))","v":""},{"$error":"#N/A"},{"$f":"BOEKHOUDING!H264","v":0},{"$f":"IF(G264=0,0,IF(E264=F264,0,$M$7))","v":0},{"$f":"IF(H264=1,A264,0)","v":0},{"$f":"A264","v":258},null,null,null,null,null,null,null,null,null,null,{"$error":"#N/A"},{"$f":"VLOOKUP($V$6,INDIRECT(U264):$J$501,5,FALSE)","v":{"$error":"#N/A"}},"","",""]
[259,{"$f":"IF('.'!D265=0,\"\",IF(BOEKHOUDING!C265=\"\",\"diverse\",BOEKHOUDING!C265))","v":""},{"$f":"BOEKHOUDING!D265","v":0},{"$f":"SUM(BOEKHOUDING!E265:G265)","v":0},"",{"$f":"VLOOKUP(G265,$S$8:$T$27,2,FALSE)","v":{"$error":"#N/A"}},{"$f":"BOEKHOUDING!H265","v":0},0,0,259,null,null,null,null,null,null,null,null,null,null,{"$error":"#N/A"},{"$f":"VLOOKUP($V$6,INDIRECT(U265):$J$501,5,FALSE)","v":{"$error":"#N/A"}},"","",""]
[260,{"$f":"IF('.'!D266=0,\"\",IF(BOEKHOUDING!C266=\"\",\"diverse\",BOEKHOUDING!C266))","v":""},{"$f":"BOEKHOUDING!D266","v":0},{"$f":"SUM(BOEKHOUDING!E266:G266)","v":0},"",{"$error":"#N/A"},{"$f":"BOEKHOUDING!H266","v":0},0,0,260,null,null,null,null,null,null,null,null,null,null,{"$f":"ADDRESS(V265+7,6,4,,)","v":{"$error":"#N/A"}},{"$f":"VLOOKUP($V$6,INDIRECT(U266):$J$501,5,FALSE)","v":{"$error":"#N/A"}},"","",""]
[261,{"$f":"IF('.'!D267=0,\"\",IF(BOEKHOUDING!C267=\"\",\"diverse\",BOEKHOUDING!C267))","v":""},{"$f":"BOEKHOUDING!D267","v":0},{"$f":"SUM(BOEKHOUDING!E267:G267)","v":0},"",{"$error":"#N/A"},{"$f":"BOEKHOUDING!H267","v":0},0,0,261,null,null,null,null,null,null,null,null,null,null,{"$error":"#N/A"},{"$f":"VLOOKUP($V$6,INDIRECT(U267):$J$501,5,FALSE)","v":{"$error":"#N/A"}},"","",""]
[262,{"$f":"IF('.'!D268=0,\"\",IF(BOEKHOUDING!C268=\"\",\"diverse\",BOEKHOUDING!C268))","v":""},{"$f":"BOEKHOUDING!D268","v":0},{"$f":"SUM(BOEKHOUDING!E268:G268)","v":0},"",{"$error":"#N/A"},{"$f":"BOEKHOUDING!H268","v":0},0,0,262,null,null,null,null,null,null,null,null,null,null,{"$error":"#N/A"},{"$f":"VLOOKUP($V$6,INDIRECT(U268):$J$501,5,FALSE)","v":{"$error":"#N/A"}},"","",""]
[263,{"$f":"IF('.'!D269=0,\"\",IF(BOEKHOUDING!C269=\"\",\"diverse\",BOEKHOUDING!C269))","v":""},{"$f":"BOEKHOUDING!D269","v":0},{"$f":"SUM(BOEKHOUDING!E269:G269)","v":0},"",{"$error":"#N/A"},{"$f":"BOEKHOUDING!H269","v":0},0,0,263,null,null,null,null,null,null,null,null,null,null,{"$error":"#N/A"},{"$f":"VLOOKUP($V$6,INDIRECT(U269):$J$501,5,FALSE)","v":{"$error":"#N/A"}},"","",""]
[264,{"$f":"IF('.'!D270=0,\"\",IF(BOEKHOUDING!C270=\"\",\"diverse\",BOEKHOUDING!C270))","v":""},{"$f":"BOEKHOUDING!D270","v":0},{"$f":"SUM(BOEKHOUDING!E270:G270)","v":0},"",{"$error":"#N/A"},{"$f":"BOEKHOUDING!H270","v":0},0,0,264,null,null,null,null,null,null,null,null,null,null,{"$error":"#N/A"},{"$f":"VLOOKUP($V$6,INDIRECT(U270):$J$501,5,FALSE)","v":{"$error":"#N/A"}},"","",""]
[265,{"$f":"IF('.'!D271=0,\"\",IF(BOEKHOUDING!C271=\"\",\"diverse\",BOEKHOUDING!C271))","v":""},{"$f":"BOEKHOUDING!D271","v":0},{"$f":"SUM(BOEKHOUDING!E271:G271)","v":0},"",{"$error":"#N/A"},{"$f":"BOEKHOUDING!H271","v":0},0,0,265,null,null,null,null,null,null,null,null,null,null,{"$error":"#N/A"},{"$f":"VLOOKUP($V$6,INDIRECT(U271):$J$501,5,FALSE)","v":{"$error":"#N/A"}},"","",""]
[266,{"$f":"IF('.'!D272=0,\"\",IF(BOEKHOUDING!C272=\"\",\"diverse\",BOEKHOUDING!C272))","v":""},{"$f":"BOEKHOUDING!D272","v":0},{"$f":"SUM(BOEKHOUDING!E272:G272)","v":0},"",{"$error":"#N/A"},{"$f":"BOEKHOUDING!H272","v":0},0,0,266,null,null,null,null,null,null,null,null,null,null,{"$error":"#N/A"},{"$f":"VLOOKUP($V$6,INDIRECT(U272):$J$501,5,FALSE)","v":{"$error":"#N/A"}},"","",""]
[267,{"$f":"IF('.'!D273=0,\"\",IF(BOEKHOUDING!C273=\"\",\"diverse\",BOEKHOUDING!C273))","v":""},{"$f":"BOEKHOUDING!D273","v":0},{"$f":"SUM(BOEKHOUDING!E273:G273)","v":0},"",{"$error":"#N/A"},{"$f":"BOEKHOUDING!H273","v":0},0,0,267,null,null,null,null,null,null,null,null,null,null,{"$error":"#N/A"},{"$f":"VLOOKUP($V$6,INDIRECT(U273):$J$501,5,FALSE)","v":{"$error":"#N/A"}},{"$f":"IF(ISNUMBER($V274)=TRUE,INDIRECT(ADDRESS($V274+6,W$5)),\"\")","v":""},{"$f":"IF(ISNUMBER($V274)=TRUE,INDIRECT(ADDRESS($V274+6,X$5)),\"\")","v":""},{"$f":"IF(ISNUMBER($V274)=TRUE,-INDIRECT(ADDRESS($V274+6,Y$5)),\"\")","v":""}]
[268,{"$f":"IF('.'!D274=0,\"\",IF(BOEKHOUDING!C274=\"\",\"diverse\",BOEKHOUDING!C274))","v":""},{"$f":"BOEKHOUDING!D274","v":0},{"$f":"SUM(BOEKHOUDING!E274:G274)","v":0},"",{"$error":"#N/A"},{"$f":"BOEKHOUDING!H274","v":0},0,0,268,null,null,null,null,null,null,null,null,null,null,{"$error":"#N/A"},{"$f":"VLOOKUP($V$6,INDIRECT(U274):$J$501,5,FALSE)","v":{"$error":"#N/A"}},"","",""]
[269,{"$f":"IF('.'!D275=0,\"\",IF(BOEKHOUDING!C275=\"\",\"diverse\",BOEKHOUDING!C275))","v":""},{"$f":"BOEKHOUDING!D275","v":0},{"$f":"SUM(BOEKHOUDING!E275:G275)","v":0},"",{"$error":"#N/A"},{"$f":"BOEKHOUDING!H275","v":0},0,0,269,null,null,null,null,null,null,null,null,null,null,{"$error":"#N/A"},{"$f":"VLOOKUP($V$6,INDIRECT(U275):$J$501,5,FALSE)","v":{"$error":"#N/A"}},"","",""]
[270,{"$f":"IF('.'!D276=0,\"\",IF(BOEKHOUDING!C276=\"\",\"diverse\",BOEKHOUDING!C276))","v":""},{"$f":"BOEKHOUDING!D276","v":0},{"$f":"SUM(BOEKHOUDING!E276:G276)","v":0},"",{"$error":"#N/A"},{"$f":"BOEKHOUDING!H276","v":0},0,0,270,null,null,null,null,null,null,null,null,null,null,{"$error":"#N/A"},{"$f":"VLOOKUP($V$6,INDIRECT(U276):$J$501,5,FALSE)","v":{"$error":"#N/A"}},"","",""]
[271,{"$f":"IF('.'!D277=0,\"\",IF(BOEKHOUDING!C277=\"\",\"diverse\",BOEKHOUDING!C277))","v":""},{"$f":"BOEKHOUDING!D277","v":0},{"$f":"SUM(BOEKHOUDING!E277:G277)","v":0},"",{"$error":"#N/A"},{"$f":"BOEKHOUDING!H277","v":0},0,0,271,null,null,null,null,null,null,null,null,null,null,{"$error":"#N/A"},{"$f":"VLOOKUP($V$6,INDIRECT(U277):$J$501,5,FALSE)","v":{"$error":"#N/A"}},"","",""]
[272,{"$f":"IF('.'!D278=0,\"\",IF(BOEKHOUDING!C278=\"\",\"diverse\",BOEKHOUDING!C278))","v":""},{"$f":"BOEKHOUDING!D278","v":0},{"$f":"SUM(BOEKHOUDING!E278:G278)","v":0},"",{"$error":"#N/A"},{"$f":"BOEKHOUDING!H278","v":0},0,0,272,null,null,null,null,null,null,null,null,null,null,{"$error":"#N/A"},{"$f":"VLOOKUP($V$6,INDIRECT(U278):$J$501,5,FALSE)","v":{"$error":"#N/A"}},"","",""]
[273,{"$f":"IF('.'!D279=0,\"\",IF(BOEKHOUDING!C279=\"\",\"diverse\",BOEKHOUDING!C279))","v":""},{"$f":"BOEKHOUDING!D279","v":0},{"$f":"SUM(BOEKHOUDING!E279:G279)","v":0},"",{"$error":"#N/A"},{"$f":"BOEKHOUDING!H279","v":0},0,0,273,null,null,null,null,null,null,null,null,null,null,{"$error":"#N/A"},{"$f":"VLOOKUP($V$6,INDIRECT(U279):$J$501,5,FALSE)","v":{"$error":"#N/A"}},"","",""]
[274,{"$f":"IF('.'!D280=0,\"\",IF(BOEKHOUDING!C280=\"\",\"diverse\",BOEKHOUDING!C280))","v":""},{"$f":"BOEKHOUDING!D280","v":0},{"$f":"SUM(BOEKHOUDING!E280:G280)","v":0},"",{"$error":"#N/A"},{"$f":"BOEKHOUDING!H280","v":0},0,0,274,null,null,null,null,null,null,null,null,null,null,{"$error":"#N/A"},{"$f":"VLOOKUP($V$6,INDIRECT(U280):$J$501,5,FALSE)","v":{"$error":"#N/A"}},"","",""]
[275,{"$f":"IF('.'!D281=0,\"\",IF(BOEKHOUDING!C281=\"\",\"diverse\",BOEKHOUDING!C281))","v":""},{"$f":"BOEKHOUDING!D281","v":0},{"$f":"SUM(BOEKHOUDING!E281:G281)","v":0},"",{"$error":"#N/A"},{"$f":"BOEKHOUDING!H281","v":0},0,0,275,null,null,null,null,null,null,null,null,null,null,{"$error":"#N/A"},{"$f":"VLOOKUP($V$6,INDIRECT(U281):$J$501,5,FALSE)","v":{"$error":"#N/A"}},"","",""]
[276,{"$f":"IF('.'!D282=0,\"\",IF(BOEKHOUDING!C282=\"\",\"diverse\",BOEKHOUDING!C282))","v":""},{"$f":"BOEKHOUDING!D282","v":0},{"$f":"SUM(BOEKHOUDING!E282:G282)","v":0},"",{"$error":"#N/A"},{"$f":"BOEKHOUDING!H282","v":0},0,0,276,null,null,null,null,null,null,null,null,null,null,{"$error":"#N/A"},{"$f":"VLOOKUP($V$6,INDIRECT(U282):$J$501,5,FALSE)","v":{"$error":"#N/A"}},"","",""]
[277,{"$f":"IF('.'!D283=0,\"\",IF(BOEKHOUDING!C283=\"\",\"diverse\",BOEKHOUDING!C283))","v":""},{"$f":"BOEKHOUDING!D283","v":0},{"$f":"SUM(BOEKHOUDING!E283:G283)","v":0},"",{"$error":"#N/A"},{"$f":"BOEKHOUDING!H283","v":0},0,0,277,null,null,null,null,null,null,null,null,null,null,{"$error":"#N/A"},{"$f":"VLOOKUP($V$6,INDIRECT(U283):$J$501,5,FALSE)","v":{"$error":"#N/A"}},"","",""]
[278,{"$f":"IF('.'!D284=0,\"\",IF(BOEKHOUDING!C284=\"\",\"diverse\",BOEKHOUDING!C284))","v":""},{"$f":"BOEKHOUDING!D284","v":0},{"$f":"SUM(BOEKHOUDING!E284:G284)","v":0},"",{"$error":"#N/A"},{"$f":"BOEKHOUDING!H284","v":0},0,0,278,null,null,null,null,null,null,null,null,null,null,{"$error":"#N/A"},{"$f":"VLOOKUP($V$6,INDIRECT(U284):$J$501,5,FALSE)","v":{"$error":"#N/A"}},"","",""]
[279,{"$f":"IF('.'!D285=0,\"\",IF(BOEKHOUDING!C285=\"\",\"diverse\",BOEKHOUDING!C285))","v":""},{"$f":"BOEKHOUDING!D285","v":0},{"$f":"SUM(BOEKHOUDING!E285:G285)","v":0},"",{"$error":"#N/A"},{"$f":"BOEKHOUDING!H285","v":0},0,0,279,null,null,null,null,null,null,null,null,null,null,{"$error":"#N/A"},{"$f":"VLOOKUP($V$6,INDIRECT(U285):$J$501,5,FALSE)","v":{"$error":"#N/A"}},"","",""]
[280,{"$f":"IF('.'!D286=0,\"\",IF(BOEKHOUDING!C286=\"\",\"diverse\",BOEKHOUDING!C286))","v":""},{"$f":"BOEKHOUDING!D286","v":0},{"$f":"SUM(BOEKHOUDING!E286:G286)","v":0},"",{"$error":"#N/A"},{"$f":"BOEKHOUDING!H286","v":0},0,0,280,null,null,null,null,null,null,null,null,null,null,{"$error":"#N/A"},{"$f":"VLOOKUP($V$6,INDIRECT(U286):$J$501,5,FALSE)","v":{"$error":"#N/A"}},"","",""]
[281,{"$f":"IF('.'!D287=0,\"\",IF(BOEKHOUDING!C287=\"\",\"diverse\",BOEKHOUDING!C287))","v":""},{"$f":"BOEKHOUDING!D287","v":0},{"$f":"SUM(BOEKHOUDING!E287:G287)","v":0},"",{"$error":"#N/A"},{"$f":"BOEKHOUDING!H287","v":0},0,0,281,null,null,null,null,null,null,null,null,null,null,{"$error":"#N/A"},{"$f":"VLOOKUP($V$6,INDIRECT(U287):$J$501,5,FALSE)","v":{"$error":"#N/A"}},"","",""]
[282,{"$f":"IF('.'!D288=0,\"\",IF(BOEKHOUDING!C288=\"\",\"diverse\",BOEKHOUDING!C288))","v":""},{"$f":"BOEKHOUDING!D288","v":0},{"$f":"SUM(BOEKHOUDING!E288:G288)","v":0},"",{"$error":"#N/A"},{"$f":"BOEKHOUDING!H288","v":0},0,0,282,null,null,null,null,null,null,null,null,null,null,{"$error":"#N/A"},{"$f":"VLOOKUP($V$6,INDIRECT(U288):$J$501,5,FALSE)","v":{"$error":"#N/A"}},"","",""]
[283,{"$f":"IF('.'!D289=0,\"\",IF(BOEKHOUDING!C289=\"\",\"diverse\",BOEKHOUDING!C289))","v":""},{"$f":"BOEKHOUDING!D289","v":0},{"$f":"SUM(BOEKHOUDING!E289:G289)","v":0},"",{"$error":"#N/A"},{"$f":"BOEKHOUDING!H289","v":0},0,0,283,null,null,null,null,null,null,null,null,null,null,{"$error":"#N/A"},{"$f":"VLOOKUP($V$6,INDIRECT(U289):$J$501,5,FALSE)","v":{"$error":"#N/A"}},"","",""]
[284,{"$f":"IF('.'!D290=0,\"\",IF(BOEKHOUDING!C290=\"\",\"diverse\",BOEKHOUDING!C290))","v":""},{"$f":"BOEKHOUDING!D290","v":0},{"$f":"SUM(BOEKHOUDING!E290:G290)","v":0},"",{"$error":"#N/A"},{"$f":"BOEKHOUDING!H290","v":0},0,0,284,null,null,null,null,null,null,null,null,null,null,{"$error":"#N/A"},{"$f":"VLOOKUP($V$6,INDIRECT(U290):$J$501,5,FALSE)","v":{"$error":"#N/A"}},"","",""]
[285,{"$f":"IF('.'!D291=0,\"\",IF(BOEKHOUDING!C291=\"\",\"diverse\",BOEKHOUDING!C291))","v":""},{"$f":"BOEKHOUDING!D291","v":0},{"$f":"SUM(BOEKHOUDING!E291:G291)","v":0},"",{"$error":"#N/A"},{"$f":"BOEKHOUDING!H291","v":0},0,0,285,null,null,null,null,null,null,null,null,null,null,{"$error":"#N/A"},{"$f":"VLOOKUP($V$6,INDIRECT(U291):$J$501,5,FALSE)","v":{"$error":"#N/A"}},"","",""]
[286,{"$f":"IF('.'!D292=0,\"\",IF(BOEKHOUDING!C292=\"\",\"diverse\",BOEKHOUDING!C292))","v":""},{"$f":"BOEKHOUDING!D292","v":0},{"$f":"SUM(BOEKHOUDING!E292:G292)","v":0},"",{"$error":"#N/A"},{"$f":"BOEKHOUDING!H292","v":0},0,0,286,null,null,null,null,null,null,null,null,null,null,{"$error":"#N/A"},{"$f":"VLOOKUP($V$6,INDIRECT(U292):$J$501,5,FALSE)","v":{"$error":"#N/A"}},"","",""]
[287,{"$f":"IF('.'!D293=0,\"\",IF(BOEKHOUDING!C293=\"\",\"diverse\",BOEKHOUDING!C293))","v":""},{"$f":"BOEKHOUDING!D293","v":0},{"$f":"SUM(BOEKHOUDING!E293:G293)","v":0},"",{"$error":"#N/A"},{"$f":"BOEKHOUDING!H293","v":0},0,0,287,null,null,null,null,null,null,null,null,null,null,{"$error":"#N/A"},{"$f":"VLOOKUP($V$6,INDIRECT(U293):$J$501,5,FALSE)","v":{"$error":"#N/A"}},"","",""]
[288,{"$f":"IF('.'!D294=0,\"\",IF(BOEKHOUDING!C294=\"\",\"diverse\",BOEKHOUDING!C294))","v":""},{"$f":"BOEKHOUDING!D294","v":0},{"$f":"SUM(BOEKHOUDING!E294:G294)","v":0},"",{"$error":"#N/A"},{"$f":"BOEKHOUDING!H294","v":0},0,0,288,null,null,null,null,null,null,null,null,null,null,{"$error":"#N/A"},{"$f":"VLOOKUP($V$6,INDIRECT(U294):$J$501,5,FALSE)","v":{"$error":"#N/A"}},"","",""]
[289,{"$f":"IF('.'!D295=0,\"\",IF(BOEKHOUDING!C295=\"\",\"diverse\",BOEKHOUDING!C295))","v":""},{"$f":"BOEKHOUDING!D295","v":0},{"$f":"SUM(BOEKHOUDING!E295:G295)","v":0},"",{"$error":"#N/A"},{"$f":"BOEKHOUDING!H295","v":0},0,0,289,null,null,null,null,null,null,null,null,null,null,{"$error":"#N/A"},{"$f":"VLOOKUP($V$6,INDIRECT(U295):$J$501,5,FALSE)","v":{"$error":"#N/A"}},"","",""]
[290,{"$f":"IF('.'!D296=0,\"\",IF(BOEKHOUDING!C296=\"\",\"diverse\",BOEKHOUDING!C296))","v":""},{"$f":"BOEKHOUDING!D296","v":0},{"$f":"SUM(BOEKHOUDING!E296:G296)","v":0},"",{"$error":"#N/A"},{"$f":"BOEKHOUDING!H296","v":0},0,0,290,null,null,null,null,null,null,null,null,null,null,{"$error":"#N/A"},{"$f":"VLOOKUP($V$6,INDIRECT(U296):$J$501,5,FALSE)","v":{"$error":"#N/A"}},"","",""]
[291,{"$f":"IF('.'!D297=0,\"\",IF(BOEKHOUDING!C297=\"\",\"diverse\",BOEKHOUDING!C297))","v":""},{"$f":"BOEKHOUDING!D297","v":0},{"$f":"SUM(BOEKHOUDING!E297:G297)","v":0},"",{"$error":"#N/A"},{"$f":"BOEKHOUDING!H297","v":0},0,0,291,null,null,null,null,null,null,null,null,null,null,{"$error":"#N/A"},{"$f":"VLOOKUP($V$6,INDIRECT(U297):$J$501,5,FALSE)","v":{"$error":"#N/A"}},"","",""]
[292,{"$f":"IF('.'!D298=0,\"\",IF(BOEKHOUDING!C298=\"\",\"diverse\",BOEKHOUDING!C298))","v":""},{"$f":"BOEKHOUDING!D298","v":0},{"$f":"SUM(BOEKHOUDING!E298:G298)","v":0},"",{"$error":"#N/A"},{"$f":"BOEKHOUDING!H298","v":0},0,0,292,null,null,null,null,null,null,null,null,null,null,{"$error":"#N/A"},{"$f":"VLOOKUP($V$6,INDIRECT(U298):$J$501,5,FALSE)","v":{"$error":"#N/A"}},"","",""]
[293,{"$f":"IF('.'!D299=0,\"\",IF(BOEKHOUDING!C299=\"\",\"diverse\",BOEKHOUDING!C299))","v":""},{"$f":"BOEKHOUDING!D299","v":0},{"$f":"SUM(BOEKHOUDING!E299:G299)","v":0},"",{"$error":"#N/A"},{"$f":"BOEKHOUDING!H299","v":0},0,0,293,null,null,null,null,null,null,null,null,null,null,{"$error":"#N/A"},{"$f":"VLOOKUP($V$6,INDIRECT(U299):$J$501,5,FALSE)","v":{"$error":"#N/A"}},"","",""]
[294,{"$f":"IF('.'!D300=0,\"\",IF(BOEKHOUDING!C300=\"\",\"diverse\",BOEKHOUDING!C300))","v":""},{"$f":"BOEKHOUDING!D300","v":0},{"$f":"SUM(BOEKHOUDING!E300:G300)","v":0},"",{"$error":"#N/A"},{"$f":"BOEKHOUDING!H300","v":0},0,0,294,null,null,null,null,null,null,null,null,null,null,{"$error":"#N/A"},{"$f":"VLOOKUP($V$6,INDIRECT(U300):$J$501,5,FALSE)","v":{"$error":"#N/A"}},"","",""]
[295,{"$f":"IF('.'!D301=0,\"\",IF(BOEKHOUDING!C301=\"\",\"diverse\",BOEKHOUDING!C301))","v":""},{"$f":"BOEKHOUDING!D301","v":0},{"$f":"SUM(BOEKHOUDING!E301:G301)","v":0},"",{"$error":"#N/A"},{"$f":"BOEKHOUDING!H301","v":0},0,0,295,null,null,null,null,null,null,null,null,null,null,{"$error":"#N/A"},{"$f":"VLOOKUP($V$6,INDIRECT(U301):$J$501,5,FALSE)","v":{"$error":"#N/A"}},"","",""]
[296,{"$f":"IF('.'!D302=0,\"\",IF(BOEKHOUDING!C302=\"\",\"diverse\",BOEKHOUDING!C302))","v":""},{"$f":"BOEKHOUDING!D302","v":0},{"$f":"SUM(BOEKHOUDING!E302:G302)","v":0},"",{"$error":"#N/A"},{"$f":"BOEKHOUDING!H302","v":0},0,0,296,null,null,null,null,null,null,null,null,null,null,{"$error":"#N/A"},{"$f":"VLOOKUP($V$6,INDIRECT(U302):$J$501,5,FALSE)","v":{"$error":"#N/A"}},"","",""]
[297,{"$f":"IF('.'!D303=0,\"\",IF(BOEKHOUDING!C303=\"\",\"diverse\",BOEKHOUDING!C303))","v":""},{"$f":"BOEKHOUDING!D303","v":0},{"$f":"SUM(BOEKHOUDING!E303:G303)","v":0},"",{"$error":"#N/A"},{"$f":"BOEKHOUDING!H303","v":0},0,0,297,null,null,null,null,null,null,null,null,null,null,{"$error":"#N/A"},{"$f":"VLOOKUP($V$6,INDIRECT(U303):$J$501,5,FALSE)","v":{"$error":"#N/A"}},"","",""]
[298,{"$f":"IF('.'!D304=0,\"\",IF(BOEKHOUDING!C304=\"\",\"diverse\",BOEKHOUDING!C304))","v":""},{"$f":"BOEKHOUDING!D304","v":0},{"$f":"SUM(BOEKHOUDING!E304:G304)","v":0},"",{"$error":"#N/A"},{"$f":"BOEKHOUDING!H304","v":0},0,0,298,null,null,null,null,null,null,null,null,null,null,{"$error":"#N/A"},{"$f":"VLOOKUP($V$6,INDIRECT(U304):$J$501,5,FALSE)","v":{"$error":"#N/A"}},"","",""]
[299,{"$f":"IF('.'!D305=0,\"\",IF(BOEKHOUDING!C305=\"\",\"diverse\",BOEKHOUDING!C305))","v":""},{"$f":"BOEKHOUDING!D305","v":0},{"$f":"SUM(BOEKHOUDING!E305:G305)","v":0},"",{"$error":"#N/A"},{"$f":"BOEKHOUDING!H305","v":0},0,0,299,null,null,null,null,null,null,null,null,null,null,{"$error":"#N/A"},{"$f":"VLOOKUP($V$6,INDIRECT(U305):$J$501,5,FALSE)","v":{"$error":"#N/A"}},"","",""]
[300,{"$f":"IF('.'!D306=0,\"\",IF(BOEKHOUDING!C306=\"\",\"diverse\",BOEKHOUDING!C306))","v":""},{"$f":"BOEKHOUDING!D306","v":0},{"$f":"SUM(BOEKHOUDING!E306:G306)","v":0},"",{"$error":"#N/A"},{"$f":"BOEKHOUDING!H306","v":0},0,0,300,null,null,null,null,null,null,null,null,null,null,{"$error":"#N/A"},{"$f":"VLOOKUP($V$6,INDIRECT(U306):$J$501,5,FALSE)","v":{"$error":"#N/A"}},"","",""]
[301,{"$f":"IF('.'!D307=0,\"\",IF(BOEKHOUDING!C307=\"\",\"diverse\",BOEKHOUDING!C307))","v":""},{"$f":"BOEKHOUDING!D307","v":0},{"$f":"SUM(BOEKHOUDING!E307:G307)","v":0},"",{"$error":"#N/A"},{"$f":"BOEKHOUDING!H307","v":0},0,0,301,null,null,null,null,null,null,null,null,null,null,{"$error":"#N/A"},{"$f":"VLOOKUP($V$6,INDIRECT(U307):$J$501,5,FALSE)","v":{"$error":"#N/A"}},"","",""]
[302,{"$f":"IF('.'!D308=0,\"\",IF(BOEKHOUDING!C308=\"\",\"diverse\",BOEKHOUDING!C308))","v":""},{"$f":"BOEKHOUDING!D308","v":0},{"$f":"SUM(BOEKHOUDING!E308:G308)","v":0},"",{"$error":"#N/A"},{"$f":"BOEKHOUDING!H308","v":0},0,0,302,null,null,null,null,null,null,null,null,null,null,{"$error":"#N/A"},{"$f":"VLOOKUP($V$6,INDIRECT(U308):$J$501,5,FALSE)","v":{"$error":"#N/A"}},"","",""]
[303,{"$f":"IF('.'!D309=0,\"\",IF(BOEKHOUDING!C309=\"\",\"diverse\",BOEKHOUDING!C309))","v":""},{"$f":"BOEKHOUDING!D309","v":0},{"$f":"SUM(BOEKHOUDING!E309:G309)","v":0},"",{"$error":"#N/A"},{"$f":"BOEKHOUDING!H309","v":0},0,0,303,null,null,null,null,null,null,null,null,null,null,{"$error":"#N/A"},{"$f":"VLOOKUP($V$6,INDIRECT(U309):$J$501,5,FALSE)","v":{"$error":"#N/A"}},"","",""]
[304,{"$f":"IF('.'!D310=0,\"\",IF(BOEKHOUDING!C310=\"\",\"diverse\",BOEKHOUDING!C310))","v":""},{"$f":"BOEKHOUDING!D310","v":0},{"$f":"SUM(BOEKHOUDING!E310:G310)","v":0},"",{"$error":"#N/A"},{"$f":"BOEKHOUDING!H310","v":0},0,0,304,null,null,null,null,null,null,null,null,null,null,{"$error":"#N/A"},{"$f":"VLOOKUP($V$6,INDIRECT(U310):$J$501,5,FALSE)","v":{"$error":"#N/A"}},"","",""]
[305,{"$f":"IF('.'!D311=0,\"\",IF(BOEKHOUDING!C311=\"\",\"diverse\",BOEKHOUDING!C311))","v":""},{"$f":"BOEKHOUDING!D311","v":0},{"$f":"SUM(BOEKHOUDING!E311:G311)","v":0},"",{"$error":"#N/A"},{"$f":"BOEKHOUDING!H311","v":0},0,0,305,null,null,null,null,null,null,null,null,null,null,{"$error":"#N/A"},{"$f":"VLOOKUP($V$6,INDIRECT(U311):$J$501,5,FALSE)","v":{"$error":"#N/A"}},"","",""]
[306,{"$f":"IF('.'!D312=0,\"\",IF(BOEKHOUDING!C312=\"\",\"diverse\",BOEKHOUDING!C312))","v":""},{"$f":"BOEKHOUDING!D312","v":0},{"$f":"SUM(BOEKHOUDING!E312:G312)","v":0},"",{"$error":"#N/A"},{"$f":"BOEKHOUDING!H312","v":0},0,0,306,null,null,null,null,null,null,null,null,null,null,{"$error":"#N/A"},{"$f":"VLOOKUP($V$6,INDIRECT(U312):$J$501,5,FALSE)","v":{"$error":"#N/A"}},"","",""]
[307,{"$f":"IF('.'!D313=0,\"\",IF(BOEKHOUDING!C313=\"\",\"diverse\",BOEKHOUDING!C313))","v":""},{"$f":"BOEKHOUDING!D313","v":0},{"$f":"SUM(BOEKHOUDING!E313:G313)","v":0},"",{"$error":"#N/A"},{"$f":"BOEKHOUDING!H313","v":0},0,0,307,null,null,null,null,null,null,null,null,null,null,{"$error":"#N/A"},{"$f":"VLOOKUP($V$6,INDIRECT(U313):$J$501,5,FALSE)","v":{"$error":"#N/A"}},"","",""]
[308,{"$f":"IF('.'!D314=0,\"\",IF(BOEKHOUDING!C314=\"\",\"diverse\",BOEKHOUDING!C314))","v":""},{"$f":"BOEKHOUDING!D314","v":0},{"$f":"SUM(BOEKHOUDING!E314:G314)","v":0},"",{"$error":"#N/A"},{"$f":"BOEKHOUDING!H314","v":0},0,0,308,null,null,null,null,null,null,null,null,null,null,{"$error":"#N/A"},{"$f":"VLOOKUP($V$6,INDIRECT(U314):$J$501,5,FALSE)","v":{"$error":"#N/A"}},"","",""]
[309,{"$f":"IF('.'!D315=0,\"\",IF(BOEKHOUDING!C315=\"\",\"diverse\",BOEKHOUDING!C315))","v":""},{"$f":"BOEKHOUDING!D315","v":0},{"$f":"SUM(BOEKHOUDING!E315:G315)","v":0},"",{"$error":"#N/A"},{"$f":"BOEKHOUDING!H315","v":0},0,0,309,null,null,null,null,null,null,null,null,null,null,{"$error":"#N/A"},{"$f":"VLOOKUP($V$6,INDIRECT(U315):$J$501,5,FALSE)","v":{"$error":"#N/A"}},"","",""]
[310,{"$f":"IF('.'!D316=0,\"\",IF(BOEKHOUDING!C316=\"\",\"diverse\",BOEKHOUDING!C316))","v":""},{"$f":"BOEKHOUDING!D316","v":0},{"$f":"SUM(BOEKHOUDING!E316:G316)","v":0},"",{"$error":"#N/A"},{"$f":"BOEKHOUDING!H316","v":0},0,0,310,null,null,null,null,null,null,null,null,null,null,{"$error":"#N/A"},{"$f":"VLOOKUP($V$6,INDIRECT(U316):$J$501,5,FALSE)","v":{"$error":"#N/A"}},"","",""]
[311,{"$f":"IF('.'!D317=0,\"\",IF(BOEKHOUDING!C317=\"\",\"diverse\",BOEKHOUDING!C317))","v":""},{"$f":"BOEKHOUDING!D317","v":0},{"$f":"SUM(BOEKHOUDING!E317:G317)","v":0},"",{"$error":"#N/A"},{"$f":"BOEKHOUDING!H317","v":0},0,0,311,null,null,null,null,null,null,null,null,null,null,{"$error":"#N/A"},{"$f":"VLOOKUP($V$6,INDIRECT(U317):$J$501,5,FALSE)","v":{"$error":"#N/A"}},"","",""]
[312,{"$f":"IF('.'!D318=0,\"\",IF(BOEKHOUDING!C318=\"\",\"diverse\",BOEKHOUDING!C318))","v":""},{"$f":"BOEKHOUDING!D318","v":0},{"$f":"SUM(BOEKHOUDING!E318:G318)","v":0},"",{"$error":"#N/A"},{"$f":"BOEKHOUDING!H318","v":0},0,0,312,null,null,null,null,null,null,null,null,null,null,{"$error":"#N/A"},{"$f":"VLOOKUP($V$6,INDIRECT(U318):$J$501,5,FALSE)","v":{"$error":"#N/A"}},"","",""]
[313,{"$f":"IF('.'!D319=0,\"\",IF(BOEKHOUDING!C319=\"\",\"diverse\",BOEKHOUDING!C319))","v":""},{"$f":"BOEKHOUDING!D319","v":0},{"$f":"SUM(BOEKHOUDING!E319:G319)","v":0},"",{"$error":"#N/A"},{"$f":"BOEKHOUDING!H319","v":0},0,0,313,null,null,null,null,null,null,null,null,null,null,{"$error":"#N/A"},{"$f":"VLOOKUP($V$6,INDIRECT(U319):$J$501,5,FALSE)","v":{"$error":"#N/A"}},"","",""]
[314,{"$f":"IF('.'!D320=0,\"\",IF(BOEKHOUDING!C320=\"\",\"diverse\",BOEKHOUDING!C320))","v":""},{"$f":"BOEKHOUDING!D320","v":0},{"$f":"SUM(BOEKHOUDING!E320:G320)","v":0},"",{"$error":"#N/A"},{"$f":"BOEKHOUDING!H320","v":0},0,0,314,null,null,null,null,null,null,null,null,null,null,{"$error":"#N/A"},{"$f":"VLOOKUP($V$6,INDIRECT(U320):$J$501,5,FALSE)","v":{"$error":"#N/A"}},"","",""]
[315,{"$f":"IF('.'!D321=0,\"\",IF(BOEKHOUDING!C321=\"\",\"diverse\",BOEKHOUDING!C321))","v":""},{"$f":"BOEKHOUDING!D321","v":0},{"$f":"SUM(BOEKHOUDING!E321:G321)","v":0},"",{"$error":"#N/A"},{"$f":"BOEKHOUDING!H321","v":0},0,0,315,null,null,null,null,null,null,null,null,null,null,{"$error":"#N/A"},{"$f":"VLOOKUP($V$6,INDIRECT(U321):$J$501,5,FALSE)","v":{"$error":"#N/A"}},"","",""]
[316,{"$f":"IF('.'!D322=0,\"\",IF(BOEKHOUDING!C322=\"\",\"diverse\",BOEKHOUDING!C322))","v":""},{"$f":"BOEKHOUDING!D322","v":0},{"$f":"SUM(BOEKHOUDING!E322:G322)","v":0},"",{"$error":"#N/A"},{"$f":"BOEKHOUDING!H322","v":0},0,0,316,null,null,null,null,null,null,null,null,null,null,{"$error":"#N/A"},{"$f":"VLOOKUP($V$6,INDIRECT(U322):$J$501,5,FALSE)","v":{"$error":"#N/A"}},"","",""]
[317,{"$f":"IF('.'!D323=0,\"\",IF(BOEKHOUDING!C323=\"\",\"diverse\",BOEKHOUDING!C323))","v":""},{"$f":"BOEKHOUDING!D323","v":0},{"$f":"SUM(BOEKHOUDING!E323:G323)","v":0},"",{"$error":"#N/A"},{"$f":"BOEKHOUDING!H323","v":0},0,0,317,null,null,null,null,null,null,null,null,null,null,{"$error":"#N/A"},{"$f":"VLOOKUP($V$6,INDIRECT(U323):$J$501,5,FALSE)","v":{"$error":"#N/A"}},"","",""]
[318,{"$f":"IF('.'!D324=0,\"\",IF(BOEKHOUDING!C324=\"\",\"diverse\",BOEKHOUDING!C324))","v":""},{"$f":"BOEKHOUDING!D324","v":0},{"$f":"SUM(BOEKHOUDING!E324:G324)","v":0},"",{"$error":"#N/A"},{"$f":"BOEKHOUDING!H324","v":0},0,0,318,null,null,null,null,null,null,null,null,null,null,{"$error":"#N/A"},{"$f":"VLOOKUP($V$6,INDIRECT(U324):$J$501,5,FALSE)","v":{"$error":"#N/A"}},"","",""]
[319,{"$f":"IF('.'!D325=0,\"\",IF(BOEKHOUDING!C325=\"\",\"diverse\",BOEKHOUDING!C325))","v":""},{"$f":"BOEKHOUDING!D325","v":0},{"$f":"SUM(BOEKHOUDING!E325:G325)","v":0},"",{"$error":"#N/A"},{"$f":"BOEKHOUDING!H325","v":0},0,0,319,null,null,null,null,null,null,null,null,null,null,{"$error":"#N/A"},{"$f":"VLOOKUP($V$6,INDIRECT(U325):$J$501,5,FALSE)","v":{"$error":"#N/A"}},"","",""]
[320,{"$f":"IF('.'!D326=0,\"\",IF(BOEKHOUDING!C326=\"\",\"diverse\",BOEKHOUDING!C326))","v":""},{"$f":"BOEKHOUDING!D326","v":0},{"$f":"SUM(BOEKHOUDING!E326:G326)","v":0},"",{"$error":"#N/A"},{"$f":"BOEKHOUDING!H326","v":0},0,0,320,null,null,null,null,null,null,null,null,null,null,{"$error":"#N/A"},{"$f":"VLOOKUP($V$6,INDIRECT(U326):$J$501,5,FALSE)","v":{"$error":"#N/A"}},"","",""]
[321,{"$f":"IF('.'!D327=0,\"\",IF(BOEKHOUDING!C327=\"\",\"diverse\",BOEKHOUDING!C327))","v":""},{"$f":"BOEKHOUDING!D327","v":0},{"$f":"SUM(BOEKHOUDING!E327:G327)","v":0},"",{"$error":"#N/A"},{"$f":"BOEKHOUDING!H327","v":0},0,0,321,null,null,null,null,null,null,null,null,null,null,{"$error":"#N/A"},{"$f":"VLOOKUP($V$6,INDIRECT(U327):$J$501,5,FALSE)","v":{"$error":"#N/A"}},"","",""]
[322,{"$f":"IF('.'!D328=0,\"\",IF(BOEKHOUDING!C328=\"\",\"diverse\",BOEKHOUDING!C328))","v":""},{"$f":"BOEKHOUDING!D328","v":0},{"$f":"SUM(BOEKHOUDING!E328:G328)","v":0},{"$f":"IF(D328=0,\"\",IF(D328<0,$O$1,$O$2))","v":""},{"$error":"#N/A"},{"$f":"BOEKHOUDING!H328","v":0},{"$f":"IF(G328=0,0,IF(E328=F328,0,$M$7))","v":0},{"$f":"IF(H328=1,A328,0)","v":0},{"$f":"A328","v":322},null,null,null,null,null,null,null,null,null,null,{"$error":"#N/A"},{"$f":"VLOOKUP($V$6,INDIRECT(U328):$J$501,5,FALSE)","v":{"$error":"#N/A"}},"","",""]
[323,{"$f":"IF('.'!D329=0,\"\",IF(BOEKHOUDING!C329=\"\",\"diverse\",BOEKHOUDING!C329))","v":""},{"$f":"BOEKHOUDING!D329","v":0},{"$f":"SUM(BOEKHOUDING!E329:G329)","v":0},"",{"$f":"VLOOKUP(G329,$S$8:$T$27,2,FALSE)","v":{"$error":"#N/A"}},{"$f":"BOEKHOUDING!H329","v":0},0,0,323,null,null,null,null,null,null,null,null,null,null,{"$error":"#N/A"},{"$f":"VLOOKUP($V$6,INDIRECT(U329):$J$501,5,FALSE)","v":{"$error":"#N/A"}},"","",""]
[324,{"$f":"IF('.'!D330=0,\"\",IF(BOEKHOUDING!C330=\"\",\"diverse\",BOEKHOUDING!C330))","v":""},{"$f":"BOEKHOUDING!D330","v":0},{"$f":"SUM(BOEKHOUDING!E330:G330)","v":0},"",{"$error":"#N/A"},{"$f":"BOEKHOUDING!H330","v":0},0,0,324,null,null,null,null,null,null,null,null,null,null,{"$f":"ADDRESS(V329+7,6,4,,)","v":{"$error":"#N/A"}},{"$f":"VLOOKUP($V$6,INDIRECT(U330):$J$501,5,FALSE)","v":{"$error":"#N/A"}},"","",""]
[325,{"$f":"IF('.'!D331=0,\"\",IF(BOEKHOUDING!C331=\"\",\"diverse\",BOEKHOUDING!C331))","v":""},{"$f":"BOEKHOUDING!D331","v":0},{"$f":"SUM(BOEKHOUDING!E331:G331)","v":0},"",{"$error":"#N/A"},{"$f":"BOEKHOUDING!H331","v":0},0,0,325,null,null,null,null,null,null,null,null,null,null,{"$error":"#N/A"},{"$f":"VLOOKUP($V$6,INDIRECT(U331):$J$501,5,FALSE)","v":{"$error":"#N/A"}},"","",""]
[326,{"$f":"IF('.'!D332=0,\"\",IF(BOEKHOUDING!C332=\"\",\"diverse\",BOEKHOUDING!C332))","v":""},{"$f":"BOEKHOUDING!D332","v":0},{"$f":"SUM(BOEKHOUDING!E332:G332)","v":0},"",{"$error":"#N/A"},{"$f":"BOEKHOUDING!H332","v":0},0,0,326,null,null,null,null,null,null,null,null,null,null,{"$error":"#N/A"},{"$f":"VLOOKUP($V$6,INDIRECT(U332):$J$501,5,FALSE)","v":{"$error":"#N/A"}},"","",""]
[327,{"$f":"IF('.'!D333=0,\"\",IF(BOEKHOUDING!C333=\"\",\"diverse\",BOEKHOUDING!C333))","v":""},{"$f":"BOEKHOUDING!D333","v":0},{"$f":"SUM(BOEKHOUDING!E333:G333)","v":0},"",{"$error":"#N/A"},{"$f":"BOEKHOUDING!H333","v":0},0,0,327,null,null,null,null,null,null,null,null,null,null,{"$error":"#N/A"},{"$f":"VLOOKUP($V$6,INDIRECT(U333):$J$501,5,FALSE)","v":{"$error":"#N/A"}},"","",""]
[328,{"$f":"IF('.'!D334=0,\"\",IF(BOEKHOUDING!C334=\"\",\"diverse\",BOEKHOUDING!C334))","v":""},{"$f":"BOEKHOUDING!D334","v":0},{"$f":"SUM(BOEKHOUDING!E334:G334)","v":0},"",{"$error":"#N/A"},{"$f":"BOEKHOUDING!H334","v":0},0,0,328,null,null,null,null,null,null,null,null,null,null,{"$error":"#N/A"},{"$f":"VLOOKUP($V$6,INDIRECT(U334):$J$501,5,FALSE)","v":{"$error":"#N/A"}},"","",""]
[329,{"$f":"IF('.'!D335=0,\"\",IF(BOEKHOUDING!C335=\"\",\"diverse\",BOEKHOUDING!C335))","v":""},{"$f":"BOEKHOUDING!D335","v":0},{"$f":"SUM(BOEKHOUDING!E335:G335)","v":0},"",{"$error":"#N/A"},{"$f":"BOEKHOUDING!H335","v":0},0,0,329,null,null,null,null,null,null,null,null,null,null,{"$error":"#N/A"},{"$f":"VLOOKUP($V$6,INDIRECT(U335):$J$501,5,FALSE)","v":{"$error":"#N/A"}},"","",""]
[330,{"$f":"IF('.'!D336=0,\"\",IF(BOEKHOUDING!C336=\"\",\"diverse\",BOEKHOUDING!C336))","v":""},{"$f":"BOEKHOUDING!D336","v":0},{"$f":"SUM(BOEKHOUDING!E336:G336)","v":0},"",{"$error":"#N/A"},{"$f":"BOEKHOUDING!H336","v":0},0,0,330,null,null,null,null,null,null,null,null,null,null,{"$error":"#N/A"},{"$f":"VLOOKUP($V$6,INDIRECT(U336):$J$501,5,FALSE)","v":{"$error":"#N/A"}},"","",""]
[331,{"$f":"IF('.'!D337=0,\"\",IF(BOEKHOUDING!C337=\"\",\"diverse\",BOEKHOUDING!C337))","v":""},{"$f":"BOEKHOUDING!D337","v":0},{"$f":"SUM(BOEKHOUDING!E337:G337)","v":0},"",{"$error":"#N/A"},{"$f":"BOEKHOUDING!H337","v":0},0,0,331,null,null,null,null,null,null,null,null,null,null,{"$error":"#N/A"},{"$f":"VLOOKUP($V$6,INDIRECT(U337):$J$501,5,FALSE)","v":{"$error":"#N/A"}},{"$f":"IF(ISNUMBER($V338)=TRUE,INDIRECT(ADDRESS($V338+6,W$5)),\"\")","v":""},{"$f":"IF(ISNUMBER($V338)=TRUE,INDIRECT(ADDRESS($V338+6,X$5)),\"\")","v":""},{"$f":"IF(ISNUMBER($V338)=TRUE,-INDIRECT(ADDRESS($V338+6,Y$5)),\"\")","v":""}]
[332,{"$f":"IF('.'!D338=0,\"\",IF(BOEKHOUDING!C338=\"\",\"diverse\",BOEKHOUDING!C338))","v":""},{"$f":"BOEKHOUDING!D338","v":0},{"$f":"SUM(BOEKHOUDING!E338:G338)","v":0},"",{"$error":"#N/A"},{"$f":"BOEKHOUDING!H338","v":0},0,0,332,null,null,null,null,null,null,null,null,null,null,{"$error":"#N/A"},{"$f":"VLOOKUP($V$6,INDIRECT(U338):$J$501,5,FALSE)","v":{"$error":"#N/A"}},"","",""]
[333,{"$f":"IF('.'!D339=0,\"\",IF(BOEKHOUDING!C339=\"\",\"diverse\",BOEKHOUDING!C339))","v":""},{"$f":"BOEKHOUDING!D339","v":0},{"$f":"SUM(BOEKHOUDING!E339:G339)","v":0},"",{"$error":"#N/A"},{"$f":"BOEKHOUDING!H339","v":0},0,0,333,null,null,null,null,null,null,null,null,null,null,{"$error":"#N/A"},{"$f":"VLOOKUP($V$6,INDIRECT(U339):$J$501,5,FALSE)","v":{"$error":"#N/A"}},"","",""]
[334,{"$f":"IF('.'!D340=0,\"\",IF(BOEKHOUDING!C340=\"\",\"diverse\",BOEKHOUDING!C340))","v":""},{"$f":"BOEKHOUDING!D340","v":0},{"$f":"SUM(BOEKHOUDING!E340:G340)","v":0},"",{"$error":"#N/A"},{"$f":"BOEKHOUDING!H340","v":0},0,0,334,null,null,null,null,null,null,null,null,null,null,{"$error":"#N/A"},{"$f":"VLOOKUP($V$6,INDIRECT(U340):$J$501,5,FALSE)","v":{"$error":"#N/A"}},"","",""]
[335,{"$f":"IF('.'!D341=0,\"\",IF(BOEKHOUDING!C341=\"\",\"diverse\",BOEKHOUDING!C341))","v":""},{"$f":"BOEKHOUDING!D341","v":0},{"$f":"SUM(BOEKHOUDING!E341:G341)","v":0},"",{"$error":"#N/A"},{"$f":"BOEKHOUDING!H341","v":0},0,0,335,null,null,null,null,null,null,null,null,null,null,{"$error":"#N/A"},{"$f":"VLOOKUP($V$6,INDIRECT(U341):$J$501,5,FALSE)","v":{"$error":"#N/A"}},"","",""]
[336,{"$f":"IF('.'!D342=0,\"\",IF(BOEKHOUDING!C342=\"\",\"diverse\",BOEKHOUDING!C342))","v":""},{"$f":"BOEKHOUDING!D342","v":0},{"$f":"SUM(BOEKHOUDING!E342:G342)","v":0},"",{"$error":"#N/A"},{"$f":"BOEKHOUDING!H342","v":0},0,0,336,null,null,null,null,null,null,null,null,null,null,{"$error":"#N/A"},{"$f":"VLOOKUP($V$6,INDIRECT(U342):$J$501,5,FALSE)","v":{"$error":"#N/A"}},"","",""]
[337,{"$f":"IF('.'!D343=0,\"\",IF(BOEKHOUDING!C343=\"\",\"diverse\",BOEKHOUDING!C343))","v":""},{"$f":"BOEKHOUDING!D343","v":0},{"$f":"SUM(BOEKHOUDING!E343:G343)","v":0},"",{"$error":"#N/A"},{"$f":"BOEKHOUDING!H343","v":0},0,0,337,null,null,null,null,null,null,null,null,null,null,{"$error":"#N/A"},{"$f":"VLOOKUP($V$6,INDIRECT(U343):$J$501,5,FALSE)","v":{"$error":"#N/A"}},"","",""]
[338,{"$f":"IF('.'!D344=0,\"\",IF(BOEKHOUDING!C344=\"\",\"diverse\",BOEKHOUDING!C344))","v":""},{"$f":"BOEKHOUDING!D344","v":0},{"$f":"SUM(BOEKHOUDING!E344:G344)","v":0},"",{"$error":"#N/A"},{"$f":"BOEKHOUDING!H344","v":0},0,0,338,null,null,null,null,null,null,null,null,null,null,{"$error":"#N/A"},{"$f":"VLOOKUP($V$6,INDIRECT(U344):$J$501,5,FALSE)","v":{"$error":"#N/A"}},"","",""]
[339,{"$f":"IF('.'!D345=0,\"\",IF(BOEKHOUDING!C345=\"\",\"diverse\",BOEKHOUDING!C345))","v":""},{"$f":"BOEKHOUDING!D345","v":0},{"$f":"SUM(BOEKHOUDING!E345:G345)","v":0},"",{"$error":"#N/A"},{"$f":"BOEKHOUDING!H345","v":0},0,0,339,null,null,null,null,null,null,null,null,null,null,{"$error":"#N/A"},{"$f":"VLOOKUP($V$6,INDIRECT(U345):$J$501,5,FALSE)","v":{"$error":"#N/A"}},"","",""]
[340,{"$f":"IF('.'!D346=0,\"\",IF(BOEKHOUDING!C346=\"\",\"diverse\",BOEKHOUDING!C346))","v":""},{"$f":"BOEKHOUDING!D346","v":0},{"$f":"SUM(BOEKHOUDING!E346:G346)","v":0},"",{"$error":"#N/A"},{"$f":"BOEKHOUDING!H346","v":0},0,0,340,null,null,null,null,null,null,null,null,null,null,{"$error":"#N/A"},{"$f":"VLOOKUP($V$6,INDIRECT(U346):$J$501,5,FALSE)","v":{"$error":"#N/A"}},"","",""]
[341,{"$f":"IF('.'!D347=0,\"\",IF(BOEKHOUDING!C347=\"\",\"diverse\",BOEKHOUDING!C347))","v":""},{"$f":"BOEKHOUDING!D347","v":0},{"$f":"SUM(BOEKHOUDING!E347:G347)","v":0},"",{"$error":"#N/A"},{"$f":"BOEKHOUDING!H347","v":0},0,0,341,null,null,null,null,null,null,null,null,null,null,{"$error":"#N/A"},{"$f":"VLOOKUP($V$6,INDIRECT(U347):$J$501,5,FALSE)","v":{"$error":"#N/A"}},"","",""]
[342,{"$f":"IF('.'!D348=0,\"\",IF(BOEKHOUDING!C348=\"\",\"diverse\",BOEKHOUDING!C348))","v":""},{"$f":"BOEKHOUDING!D348","v":0},{"$f":"SUM(BOEKHOUDING!E348:G348)","v":0},"",{"$error":"#N/A"},{"$f":"BOEKHOUDING!H348","v":0},0,0,342,null,null,null,null,null,null,null,null,null,null,{"$error":"#N/A"},{"$f":"VLOOKUP($V$6,INDIRECT(U348):$J$501,5,FALSE)","v":{"$error":"#N/A"}},"","",""]
[343,{"$f":"IF('.'!D349=0,\"\",IF(BOEKHOUDING!C349=\"\",\"diverse\",BOEKHOUDING!C349))","v":""},{"$f":"BOEKHOUDING!D349","v":0},{"$f":"SUM(BOEKHOUDING!E349:G349)","v":0},"",{"$error":"#N/A"},{"$f":"BOEKHOUDING!H349","v":0},0,0,343,null,null,null,null,null,null,null,null,null,null,{"$error":"#N/A"},{"$f":"VLOOKUP($V$6,INDIRECT(U349):$J$501,5,FALSE)","v":{"$error":"#N/A"}},"","",""]
[344,{"$f":"IF('.'!D350=0,\"\",IF(BOEKHOUDING!C350=\"\",\"diverse\",BOEKHOUDING!C350))","v":""},{"$f":"BOEKHOUDING!D350","v":0},{"$f":"SUM(BOEKHOUDING!E350:G350)","v":0},"",{"$error":"#N/A"},{"$f":"BOEKHOUDING!H350","v":0},0,0,344,null,null,null,null,null,null,null,null,null,null,{"$error":"#N/A"},{"$f":"VLOOKUP($V$6,INDIRECT(U350):$J$501,5,FALSE)","v":{"$error":"#N/A"}},"","",""]
[345,{"$f":"IF('.'!D351=0,\"\",IF(BOEKHOUDING!C351=\"\",\"diverse\",BOEKHOUDING!C351))","v":""},{"$f":"BOEKHOUDING!D351","v":0},{"$f":"SUM(BOEKHOUDING!E351:G351)","v":0},"",{"$error":"#N/A"},{"$f":"BOEKHOUDING!H351","v":0},0,0,345,null,null,null,null,null,null,null,null,null,null,{"$error":"#N/A"},{"$f":"VLOOKUP($V$6,INDIRECT(U351):$J$501,5,FALSE)","v":{"$error":"#N/A"}},"","",""]
[346,{"$f":"IF('.'!D352=0,\"\",IF(BOEKHOUDING!C352=\"\",\"diverse\",BOEKHOUDING!C352))","v":""},{"$f":"BOEKHOUDING!D352","v":0},{"$f":"SUM(BOEKHOUDING!E352:G352)","v":0},"",{"$error":"#N/A"},{"$f":"BOEKHOUDING!H352","v":0},0,0,346,null,null,null,null,null,null,null,null,null,null,{"$error":"#N/A"},{"$f":"VLOOKUP($V$6,INDIRECT(U352):$J$501,5,FALSE)","v":{"$error":"#N/A"}},"","",""]
[347,{"$f":"IF('.'!D353=0,\"\",IF(BOEKHOUDING!C353=\"\",\"diverse\",BOEKHOUDING!C353))","v":""},{"$f":"BOEKHOUDING!D353","v":0},{"$f":"SUM(BOEKHOUDING!E353:G353)","v":0},"",{"$error":"#N/A"},{"$f":"BOEKHOUDING!H353","v":0},0,0,347,null,null,null,null,null,null,null,null,null,null,{"$error":"#N/A"},{"$f":"VLOOKUP($V$6,INDIRECT(U353):$J$501,5,FALSE)","v":{"$error":"#N/A"}},"","",""]
[348,{"$f":"IF('.'!D354=0,\"\",IF(BOEKHOUDING!C354=\"\",\"diverse\",BOEKHOUDING!C354))","v":""},{"$f":"BOEKHOUDING!D354","v":0},{"$f":"SUM(BOEKHOUDING!E354:G354)","v":0},"",{"$error":"#N/A"},{"$f":"BOEKHOUDING!H354","v":0},0,0,348,null,null,null,null,null,null,null,null,null,null,{"$error":"#N/A"},{"$f":"VLOOKUP($V$6,INDIRECT(U354):$J$501,5,FALSE)","v":{"$error":"#N/A"}},"","",""]
[349,{"$f":"IF('.'!D355=0,\"\",IF(BOEKHOUDING!C355=\"\",\"diverse\",BOEKHOUDING!C355))","v":""},{"$f":"BOEKHOUDING!D355","v":0},{"$f":"SUM(BOEKHOUDING!E355:G355)","v":0},"",{"$error":"#N/A"},{"$f":"BOEKHOUDING!H355","v":0},0,0,349,null,null,null,null,null,null,null,null,null,null,{"$error":"#N/A"},{"$f":"VLOOKUP($V$6,INDIRECT(U355):$J$501,5,FALSE)","v":{"$error":"#N/A"}},"","",""]
[350,{"$f":"IF('.'!D356=0,\"\",IF(BOEKHOUDING!C356=\"\",\"diverse\",BOEKHOUDING!C356))","v":""},{"$f":"BOEKHOUDING!D356","v":0},{"$f":"SUM(BOEKHOUDING!E356:G356)","v":0},"",{"$error":"#N/A"},{"$f":"BOEKHOUDING!H356","v":0},0,0,350,null,null,null,null,null,null,null,null,null,null,{"$error":"#N/A"},{"$f":"VLOOKUP($V$6,INDIRECT(U356):$J$501,5,FALSE)","v":{"$error":"#N/A"}},"","",""]
[351,{"$f":"IF('.'!D357=0,\"\",IF(BOEKHOUDING!C357=\"\",\"diverse\",BOEKHOUDING!C357))","v":""},{"$f":"BOEKHOUDING!D357","v":0},{"$f":"SUM(BOEKHOUDING!E357:G357)","v":0},"",{"$error":"#N/A"},{"$f":"BOEKHOUDING!H357","v":0},0,0,351,null,null,null,null,null,null,null,null,null,null,{"$error":"#N/A"},{"$f":"VLOOKUP($V$6,INDIRECT(U357):$J$501,5,FALSE)","v":{"$error":"#N/A"}},"","",""]
[352,{"$f":"IF('.'!D358=0,\"\",IF(BOEKHOUDING!C358=\"\",\"diverse\",BOEKHOUDING!C358))","v":""},{"$f":"BOEKHOUDING!D358","v":0},{"$f":"SUM(BOEKHOUDING!E358:G358)","v":0},"",{"$error":"#N/A"},{"$f":"BOEKHOUDING!H358","v":0},0,0,352,null,null,null,null,null,null,null,null,null,null,{"$error":"#N/A"},{"$f":"VLOOKUP($V$6,INDIRECT(U358):$J$501,5,FALSE)","v":{"$error":"#N/A"}},"","",""]
[353,{"$f":"IF('.'!D359=0,\"\",IF(BOEKHOUDING!C359=\"\",\"diverse\",BOEKHOUDING!C359))","v":""},{"$f":"BOEKHOUDING!D359","v":0},{"$f":"SUM(BOEKHOUDING!E359:G359)","v":0},"",{"$error":"#N/A"},{"$f":"BOEKHOUDING!H359","v":0},0,0,353,null,null,null,null,null,null,null,null,null,null,{"$error":"#N/A"},{"$f":"VLOOKUP($V$6,INDIRECT(U359):$J$501,5,FALSE)","v":{"$error":"#N/A"}},"","",""]
[354,{"$f":"IF('.'!D360=0,\"\",IF(BOEKHOUDING!C360=\"\",\"diverse\",BOEKHOUDING!C360))","v":""},{"$f":"BOEKHOUDING!D360","v":0},{"$f":"SUM(BOEKHOUDING!E360:G360)","v":0},"",{"$error":"#N/A"},{"$f":"BOEKHOUDING!H360","v":0},0,0,354,null,null,null,null,null,null,null,null,null,null,{"$error":"#N/A"},{"$f":"VLOOKUP($V$6,INDIRECT(U360):$J$501,5,FALSE)","v":{"$error":"#N/A"}},"","",""]
[355,{"$f":"IF('.'!D361=0,\"\",IF(BOEKHOUDING!C361=\"\",\"diverse\",BOEKHOUDING!C361))","v":""},{"$f":"BOEKHOUDING!D361","v":0},{"$f":"SUM(BOEKHOUDING!E361:G361)","v":0},"",{"$error":"#N/A"},{"$f":"BOEKHOUDING!H361","v":0},0,0,355,null,null,null,null,null,null,null,null,null,null,{"$error":"#N/A"},{"$f":"VLOOKUP($V$6,INDIRECT(U361):$J$501,5,FALSE)","v":{"$error":"#N/A"}},"","",""]
[356,{"$f":"IF('.'!D362=0,\"\",IF(BOEKHOUDING!C362=\"\",\"diverse\",BOEKHOUDING!C362))","v":""},{"$f":"BOEKHOUDING!D362","v":0},{"$f":"SUM(BOEKHOUDING!E362:G362)","v":0},"",{"$error":"#N/A"},{"$f":"BOEKHOUDING!H362","v":0},0,0,356,null,null,null,null,null,null,null,null,null,null,{"$error":"#N/A"},{"$f":"VLOOKUP($V$6,INDIRECT(U362):$J$501,5,FALSE)","v":{"$error":"#N/A"}},"","",""]
[357,{"$f":"IF('.'!D363=0,\"\",IF(BOEKHOUDING!C363=\"\",\"diverse\",BOEKHOUDING!C363))","v":""},{"$f":"BOEKHOUDING!D363","v":0},{"$f":"SUM(BOEKHOUDING!E363:G363)","v":0},"",{"$error":"#N/A"},{"$f":"BOEKHOUDING!H363","v":0},0,0,357,null,null,null,null,null,null,null,null,null,null,{"$error":"#N/A"},{"$f":"VLOOKUP($V$6,INDIRECT(U363):$J$501,5,FALSE)","v":{"$error":"#N/A"}},"","",""]
[358,{"$f":"IF('.'!D364=0,\"\",IF(BOEKHOUDING!C364=\"\",\"diverse\",BOEKHOUDING!C364))","v":""},{"$f":"BOEKHOUDING!D364","v":0},{"$f":"SUM(BOEKHOUDING!E364:G364)","v":0},"",{"$error":"#N/A"},{"$f":"BOEKHOUDING!H364","v":0},0,0,358,null,null,null,null,null,null,null,null,null,null,{"$error":"#N/A"},{"$f":"VLOOKUP($V$6,INDIRECT(U364):$J$501,5,FALSE)","v":{"$error":"#N/A"}},"","",""]
[359,{"$f":"IF('.'!D365=0,\"\",IF(BOEKHOUDING!C365=\"\",\"diverse\",BOEKHOUDING!C365))","v":""},{"$f":"BOEKHOUDING!D365","v":0},{"$f":"SUM(BOEKHOUDING!E365:G365)","v":0},"",{"$error":"#N/A"},{"$f":"BOEKHOUDING!H365","v":0},0,0,359,null,null,null,null,null,null,null,null,null,null,{"$error":"#N/A"},{"$f":"VLOOKUP($V$6,INDIRECT(U365):$J$501,5,FALSE)","v":{"$error":"#N/A"}},"","",""]
[360,{"$f":"IF('.'!D366=0,\"\",IF(BOEKHOUDING!C366=\"\",\"diverse\",BOEKHOUDING!C366))","v":""},{"$f":"BOEKHOUDING!D366","v":0},{"$f":"SUM(BOEKHOUDING!E366:G366)","v":0},"",{"$error":"#N/A"},{"$f":"BOEKHOUDING!H366","v":0},0,0,360,null,null,null,null,null,null,null,null,null,null,{"$error":"#N/A"},{"$f":"VLOOKUP($V$6,INDIRECT(U366):$J$501,5,FALSE)","v":{"$error":"#N/A"}},"","",""]
[361,{"$f":"IF('.'!D367=0,\"\",IF(BOEKHOUDING!C367=\"\",\"diverse\",BOEKHOUDING!C367))","v":""},{"$f":"BOEKHOUDING!D367","v":0},{"$f":"SUM(BOEKHOUDING!E367:G367)","v":0},"",{"$error":"#N/A"},{"$f":"BOEKHOUDING!H367","v":0},0,0,361,null,null,null,null,null,null,null,null,null,null,{"$error":"#N/A"},{"$f":"VLOOKUP($V$6,INDIRECT(U367):$J$501,5,FALSE)","v":{"$error":"#N/A"}},"","",""]
[362,{"$f":"IF('.'!D368=0,\"\",IF(BOEKHOUDING!C368=\"\",\"diverse\",BOEKHOUDING!C368))","v":""},{"$f":"BOEKHOUDING!D368","v":0},{"$f":"SUM(BOEKHOUDING!E368:G368)","v":0},"",{"$error":"#N/A"},{"$f":"BOEKHOUDING!H368","v":0},0,0,362,null,null,null,null,null,null,null,null,null,null,{"$error":"#N/A"},{"$f":"VLOOKUP($V$6,INDIRECT(U368):$J$501,5,FALSE)","v":{"$error":"#N/A"}},"","",""]
[363,{"$f":"IF('.'!D369=0,\"\",IF(BOEKHOUDING!C369=\"\",\"diverse\",BOEKHOUDING!C369))","v":""},{"$f":"BOEKHOUDING!D369","v":0},{"$f":"SUM(BOEKHOUDING!E369:G369)","v":0},"",{"$error":"#N/A"},{"$f":"BOEKHOUDING!H369","v":0},0,0,363,null,null,null,null,null,null,null,null,null,null,{"$error":"#N/A"},{"$f":"VLOOKUP($V$6,INDIRECT(U369):$J$501,5,FALSE)","v":{"$error":"#N/A"}},"","",""]
[364,{"$f":"IF('.'!D370=0,\"\",IF(BOEKHOUDING!C370=\"\",\"diverse\",BOEKHOUDING!C370))","v":""},{"$f":"BOEKHOUDING!D370","v":0},{"$f":"SUM(BOEKHOUDING!E370:G370)","v":0},"",{"$error":"#N/A"},{"$f":"BOEKHOUDING!H370","v":0},0,0,364,null,null,null,null,null,null,null,null,null,null,{"$error":"#N/A"},{"$f":"VLOOKUP($V$6,INDIRECT(U370):$J$501,5,FALSE)","v":{"$error":"#N/A"}},"","",""]
[365,{"$f":"IF('.'!D371=0,\"\",IF(BOEKHOUDING!C371=\"\",\"diverse\",BOEKHOUDING!C371))","v":""},{"$f":"BOEKHOUDING!D371","v":0},{"$f":"SUM(BOEKHOUDING!E371:G371)","v":0},"",{"$error":"#N/A"},{"$f":"BOEKHOUDING!H371","v":0},0,0,365,null,null,null,null,null,null,null,null,null,null,{"$error":"#N/A"},{"$f":"VLOOKUP($V$6,INDIRECT(U371):$J$501,5,FALSE)","v":{"$error":"#N/A"}},"","",""]
[366,{"$f":"IF('.'!D372=0,\"\",IF(BOEKHOUDING!C372=\"\",\"diverse\",BOEKHOUDING!C372))","v":""},{"$f":"BOEKHOUDING!D372","v":0},{"$f":"SUM(BOEKHOUDING!E372:G372)","v":0},"",{"$error":"#N/A"},{"$f":"BOEKHOUDING!H372","v":0},0,0,366,null,null,null,null,null,null,null,null,null,null,{"$error":"#N/A"},{"$f":"VLOOKUP($V$6,INDIRECT(U372):$J$501,5,FALSE)","v":{"$error":"#N/A"}},"","",""]
[367,{"$f":"IF('.'!D373=0,\"\",IF(BOEKHOUDING!C373=\"\",\"diverse\",BOEKHOUDING!C373))","v":""},{"$f":"BOEKHOUDING!D373","v":0},{"$f":"SUM(BOEKHOUDING!E373:G373)","v":0},"",{"$error":"#N/A"},{"$f":"BOEKHOUDING!H373","v":0},0,0,367,null,null,null,null,null,null,null,null,null,null,{"$error":"#N/A"},{"$f":"VLOOKUP($V$6,INDIRECT(U373):$J$501,5,FALSE)","v":{"$error":"#N/A"}},"","",""]
[368,{"$f":"IF('.'!D374=0,\"\",IF(BOEKHOUDING!C374=\"\",\"diverse\",BOEKHOUDING!C374))","v":""},{"$f":"BOEKHOUDING!D374","v":0},{"$f":"SUM(BOEKHOUDING!E374:G374)","v":0},"",{"$error":"#N/A"},{"$f":"BOEKHOUDING!H374","v":0},0,0,368,null,null,null,null,null,null,null,null,null,null,{"$error":"#N/A"},{"$f":"VLOOKUP($V$6,INDIRECT(U374):$J$501,5,FALSE)","v":{"$error":"#N/A"}},"","",""]
[369,{"$f":"IF('.'!D375=0,\"\",IF(BOEKHOUDING!C375=\"\",\"diverse\",BOEKHOUDING!C375))","v":""},{"$f":"BOEKHOUDING!D375","v":0},{"$f":"SUM(BOEKHOUDING!E375:G375)","v":0},"",{"$error":"#N/A"},{"$f":"BOEKHOUDING!H375","v":0},0,0,369,null,null,null,null,null,null,null,null,null,null,{"$error":"#N/A"},{"$f":"VLOOKUP($V$6,INDIRECT(U375):$J$501,5,FALSE)","v":{"$error":"#N/A"}},"","",""]
[370,{"$f":"IF('.'!D376=0,\"\",IF(BOEKHOUDING!C376=\"\",\"diverse\",BOEKHOUDING!C376))","v":""},{"$f":"BOEKHOUDING!D376","v":0},{"$f":"SUM(BOEKHOUDING!E376:G376)","v":0},"",{"$error":"#N/A"},{"$f":"BOEKHOUDING!H376","v":0},0,0,370,null,null,null,null,null,null,null,null,null,null,{"$error":"#N/A"},{"$f":"VLOOKUP($V$6,INDIRECT(U376):$J$501,5,FALSE)","v":{"$error":"#N/A"}},"","",""]
[371,{"$f":"IF('.'!D377=0,\"\",IF(BOEKHOUDING!C377=\"\",\"diverse\",BOEKHOUDING!C377))","v":""},{"$f":"BOEKHOUDING!D377","v":0},{"$f":"SUM(BOEKHOUDING!E377:G377)","v":0},"",{"$f":"VLOOKUP(G377,$S$8:$T$24,2,FALSE)","v":{"$error":"#N/A"}},{"$f":"BOEKHOUDING!H377","v":0},0,0,371,null,null,null,null,null,null,null,null,null,null,{"$error":"#N/A"},{"$f":"VLOOKUP($V$6,INDIRECT(U377):$J$501,5,FALSE)","v":{"$error":"#N/A"}},"","",""]
[372,{"$f":"IF('.'!D378=0,\"\",IF(BOEKHOUDING!C378=\"\",\"diverse\",BOEKHOUDING!C378))","v":""},{"$f":"BOEKHOUDING!D378","v":0},{"$f":"SUM(BOEKHOUDING!E378:G378)","v":0},"",{"$error":"#N/A"},{"$f":"BOEKHOUDING!H378","v":0},0,0,372,null,null,null,null,null,null,null,null,null,null,{"$error":"#N/A"},{"$f":"VLOOKUP($V$6,INDIRECT(U378):$J$501,5,FALSE)","v":{"$error":"#N/A"}},"","",""]
[373,{"$f":"IF('.'!D379=0,\"\",IF(BOEKHOUDING!C379=\"\",\"diverse\",BOEKHOUDING!C379))","v":""},{"$f":"BOEKHOUDING!D379","v":0},{"$f":"SUM(BOEKHOUDING!E379:G379)","v":0},"",{"$error":"#N/A"},{"$f":"BOEKHOUDING!H379","v":0},0,0,373,null,null,null,null,null,null,null,null,null,null,{"$error":"#N/A"},{"$f":"VLOOKUP($V$6,INDIRECT(U379):$J$501,5,FALSE)","v":{"$error":"#N/A"}},"","",""]
[374,{"$f":"IF('.'!D380=0,\"\",IF(BOEKHOUDING!C380=\"\",\"diverse\",BOEKHOUDING!C380))","v":""},{"$f":"BOEKHOUDING!D380","v":0},{"$f":"SUM(BOEKHOUDING!E380:G380)","v":0},"",{"$error":"#N/A"},{"$f":"BOEKHOUDING!H380","v":0},0,0,374,null,null,null,null,null,null,null,null,null,null,{"$error":"#N/A"},{"$f":"VLOOKUP($V$6,INDIRECT(U380):$J$501,5,FALSE)","v":{"$error":"#N/A"}},"","",""]
[375,{"$f":"IF('.'!D381=0,\"\",IF(BOEKHOUDING!C381=\"\",\"diverse\",BOEKHOUDING!C381))","v":""},{"$f":"BOEKHOUDING!D381","v":0},{"$f":"SUM(BOEKHOUDING!E381:G381)","v":0},"",{"$error":"#N/A"},{"$f":"BOEKHOUDING!H381","v":0},0,0,375,null,null,null,null,null,null,null,null,null,null,{"$error":"#N/A"},{"$f":"VLOOKUP($V$6,INDIRECT(U381):$J$501,5,FALSE)","v":{"$error":"#N/A"}},"","",""]
[376,{"$f":"IF('.'!D382=0,\"\",IF(BOEKHOUDING!C382=\"\",\"diverse\",BOEKHOUDING!C382))","v":""},{"$f":"BOEKHOUDING!D382","v":0},{"$f":"SUM(BOEKHOUDING!E382:G382)","v":0},"",{"$error":"#N/A"},{"$f":"BOEKHOUDING!H382","v":0},0,0,376,null,null,null,null,null,null,null,null,null,null,{"$error":"#N/A"},{"$f":"VLOOKUP($V$6,INDIRECT(U382):$J$501,5,FALSE)","v":{"$error":"#N/A"}},"","",""]
[377,{"$f":"IF('.'!D383=0,\"\",IF(BOEKHOUDING!C383=\"\",\"diverse\",BOEKHOUDING!C383))","v":""},{"$f":"BOEKHOUDING!D383","v":0},{"$f":"SUM(BOEKHOUDING!E383:G383)","v":0},"",{"$error":"#N/A"},{"$f":"BOEKHOUDING!H383","v":0},0,0,377,null,null,null,null,null,null,null,null,null,null,{"$error":"#N/A"},{"$f":"VLOOKUP($V$6,INDIRECT(U383):$J$501,5,FALSE)","v":{"$error":"#N/A"}},"","",""]
[378,{"$f":"IF('.'!D384=0,\"\",IF(BOEKHOUDING!C384=\"\",\"diverse\",BOEKHOUDING!C384))","v":""},{"$f":"BOEKHOUDING!D384","v":0},{"$f":"SUM(BOEKHOUDING!E384:G384)","v":0},"",{"$error":"#N/A"},{"$f":"BOEKHOUDING!H384","v":0},0,0,378,null,null,null,null,null,null,null,null,null,null,{"$error":"#N/A"},{"$f":"VLOOKUP($V$6,INDIRECT(U384):$J$501,5,FALSE)","v":{"$error":"#N/A"}},"","",""]
[379,{"$f":"IF('.'!D385=0,\"\",IF(BOEKHOUDING!C385=\"\",\"diverse\",BOEKHOUDING!C385))","v":""},{"$f":"BOEKHOUDING!D385","v":0},{"$f":"SUM(BOEKHOUDING!E385:G385)","v":0},"",{"$error":"#N/A"},{"$f":"BOEKHOUDING!H385","v":0},0,0,379,null,null,null,null,null,null,null,null,null,null,{"$error":"#N/A"},{"$f":"VLOOKUP($V$6,INDIRECT(U385):$J$501,5,FALSE)","v":{"$error":"#N/A"}},"","",""]
[380,{"$f":"IF('.'!D386=0,\"\",IF(BOEKHOUDING!C386=\"\",\"diverse\",BOEKHOUDING!C386))","v":""},{"$f":"BOEKHOUDING!D386","v":0},{"$f":"SUM(BOEKHOUDING!E386:G386)","v":0},"",{"$error":"#N/A"},{"$f":"BOEKHOUDING!H386","v":0},0,0,380,null,null,null,null,null,null,null,null,null,null,{"$error":"#N/A"},{"$f":"VLOOKUP($V$6,INDIRECT(U386):$J$501,5,FALSE)","v":{"$error":"#N/A"}},"","",""]
[381,{"$f":"IF('.'!D387=0,\"\",IF(BOEKHOUDING!C387=\"\",\"diverse\",BOEKHOUDING!C387))","v":""},{"$f":"BOEKHOUDING!D387","v":0},{"$f":"SUM(BOEKHOUDING!E387:G387)","v":0},"",{"$error":"#N/A"},{"$f":"BOEKHOUDING!H387","v":0},0,0,381,null,null,null,null,null,null,null,null,null,null,{"$error":"#N/A"},{"$f":"VLOOKUP($V$6,INDIRECT(U387):$J$501,5,FALSE)","v":{"$error":"#N/A"}},"","",""]
[382,{"$f":"IF('.'!D388=0,\"\",IF(BOEKHOUDING!C388=\"\",\"diverse\",BOEKHOUDING!C388))","v":""},{"$f":"BOEKHOUDING!D388","v":0},{"$f":"SUM(BOEKHOUDING!E388:G388)","v":0},"",{"$error":"#N/A"},{"$f":"BOEKHOUDING!H388","v":0},0,0,382,null,null,null,null,null,null,null,null,null,null,{"$error":"#N/A"},{"$f":"VLOOKUP($V$6,INDIRECT(U388):$J$501,5,FALSE)","v":{"$error":"#N/A"}},"","",""]
[383,{"$f":"IF('.'!D389=0,\"\",IF(BOEKHOUDING!C389=\"\",\"diverse\",BOEKHOUDING!C389))","v":""},{"$f":"BOEKHOUDING!D389","v":0},{"$f":"SUM(BOEKHOUDING!E389:G389)","v":0},"",{"$error":"#N/A"},{"$f":"BOEKHOUDING!H389","v":0},0,0,383,null,null,null,null,null,null,null,null,null,null,{"$error":"#N/A"},{"$f":"VLOOKUP($V$6,INDIRECT(U389):$J$501,5,FALSE)","v":{"$error":"#N/A"}},"","",""]
[384,{"$f":"IF('.'!D390=0,\"\",IF(BOEKHOUDING!C390=\"\",\"diverse\",BOEKHOUDING!C390))","v":""},{"$f":"BOEKHOUDING!D390","v":0},{"$f":"SUM(BOEKHOUDING!E390:G390)","v":0},"",{"$error":"#N/A"},{"$f":"BOEKHOUDING!H390","v":0},0,0,384,null,null,null,null,null,null,null,null,null,null,{"$error":"#N/A"},{"$f":"VLOOKUP($V$6,INDIRECT(U390):$J$501,5,FALSE)","v":{"$error":"#N/A"}},"","",""]
[385,{"$f":"IF('.'!D391=0,\"\",IF(BOEKHOUDING!C391=\"\",\"diverse\",BOEKHOUDING!C391))","v":""},{"$f":"BOEKHOUDING!D391","v":0},{"$f":"SUM(BOEKHOUDING!E391:G391)","v":0},"",{"$f":"VLOOKUP(G391,$S$8:$T$24,2,FALSE)","v":{"$error":"#N/A"}},{"$f":"BOEKHOUDING!H391","v":0},0,0,385,null,null,null,null,null,null,null,null,null,null,{"$error":"#N/A"},{"$f":"VLOOKUP($V$6,INDIRECT(U391):$J$501,5,FALSE)","v":{"$error":"#N/A"}},"","",""]
[386,{"$f":"IF('.'!D392=0,\"\",IF(BOEKHOUDING!C392=\"\",\"diverse\",BOEKHOUDING!C392))","v":""},{"$f":"BOEKHOUDING!D392","v":0},{"$f":"SUM(BOEKHOUDING!E392:G392)","v":0},{"$f":"IF(D392=0,\"\",IF(D392<0,$O$1,$O$2))","v":""},{"$error":"#N/A"},{"$f":"BOEKHOUDING!H392","v":0},{"$f":"IF(G392=0,0,IF(E392=F392,0,$M$7))","v":0},{"$f":"IF(H392=1,A392,0)","v":0},{"$f":"A392","v":386},null,null,null,null,null,null,null,null,null,null,{"$error":"#N/A"},{"$f":"VLOOKUP($V$6,INDIRECT(U392):$J$501,5,FALSE)","v":{"$error":"#N/A"}},"","",""]
[387,{"$f":"IF('.'!D393=0,\"\",IF(BOEKHOUDING!C393=\"\",\"diverse\",BOEKHOUDING!C393))","v":""},{"$f":"BOEKHOUDING!D393","v":0},{"$f":"SUM(BOEKHOUDING!E393:G393)","v":0},"",{"$error":"#N/A"},{"$f":"BOEKHOUDING!H393","v":0},0,0,387,null,null,null,null,null,null,null,null,null,null,{"$error":"#N/A"},{"$f":"VLOOKUP($V$6,INDIRECT(U393):$J$501,5,FALSE)","v":{"$error":"#N/A"}},"","",""]
[388,{"$f":"IF('.'!D394=0,\"\",IF(BOEKHOUDING!C394=\"\",\"diverse\",BOEKHOUDING!C394))","v":""},{"$f":"BOEKHOUDING!D394","v":0},{"$f":"SUM(BOEKHOUDING!E394:G394)","v":0},"",{"$error":"#N/A"},{"$f":"BOEKHOUDING!H394","v":0},0,0,388,null,null,null,null,null,null,null,null,null,null,{"$f":"ADDRESS(V393+7,6,4,,)","v":{"$error":"#N/A"}},{"$f":"VLOOKUP($V$6,INDIRECT(U394):$J$501,5,FALSE)","v":{"$error":"#N/A"}},"","",""]
[389,{"$f":"IF('.'!D395=0,\"\",IF(BOEKHOUDING!C395=\"\",\"diverse\",BOEKHOUDING!C395))","v":""},{"$f":"BOEKHOUDING!D395","v":0},{"$f":"SUM(BOEKHOUDING!E395:G395)","v":0},"",{"$error":"#N/A"},{"$f":"BOEKHOUDING!H395","v":0},0,0,389,null,null,null,null,null,null,null,null,null,null,{"$error":"#N/A"},{"$f":"VLOOKUP($V$6,INDIRECT(U395):$J$501,5,FALSE)","v":{"$error":"#N/A"}},"","",""]
[390,{"$f":"IF('.'!D396=0,\"\",IF(BOEKHOUDING!C396=\"\",\"diverse\",BOEKHOUDING!C396))","v":""},{"$f":"BOEKHOUDING!D396","v":0},{"$f":"SUM(BOEKHOUDING!E396:G396)","v":0},"",{"$error":"#N/A"},{"$f":"BOEKHOUDING!H396","v":0},0,0,390,null,null,null,null,null,null,null,null,null,null,{"$error":"#N/A"},{"$f":"VLOOKUP($V$6,INDIRECT(U396):$J$501,5,FALSE)","v":{"$error":"#N/A"}},"","",""]
[391,{"$f":"IF('.'!D397=0,\"\",IF(BOEKHOUDING!C397=\"\",\"diverse\",BOEKHOUDING!C397))","v":""},{"$f":"BOEKHOUDING!D397","v":0},{"$f":"SUM(BOEKHOUDING!E397:G397)","v":0},"",{"$error":"#N/A"},{"$f":"BOEKHOUDING!H397","v":0},0,0,391,null,null,null,null,null,null,null,null,null,null,{"$error":"#N/A"},{"$f":"VLOOKUP($V$6,INDIRECT(U397):$J$501,5,FALSE)","v":{"$error":"#N/A"}},"","",""]
[392,{"$f":"IF('.'!D398=0,\"\",IF(BOEKHOUDING!C398=\"\",\"diverse\",BOEKHOUDING!C398))","v":""},{"$f":"BOEKHOUDING!D398","v":0},{"$f":"SUM(BOEKHOUDING!E398:G398)","v":0},"",{"$error":"#N/A"},{"$f":"BOEKHOUDING!H398","v":0},0,0,392,null,null,null,null,null,null,null,null,null,null,{"$error":"#N/A"},{"$f":"VLOOKUP($V$6,INDIRECT(U398):$J$501,5,FALSE)","v":{"$error":"#N/A"}},"","",""]
[393,{"$f":"IF('.'!D399=0,\"\",IF(BOEKHOUDING!C399=\"\",\"diverse\",BOEKHOUDING!C399))","v":""},{"$f":"BOEKHOUDING!D399","v":0},{"$f":"SUM(BOEKHOUDING!E399:G399)","v":0},"",{"$error":"#N/A"},{"$f":"BOEKHOUDING!H399","v":0},0,0,393,null,null,null,null,null,null,null,null,null,null,{"$error":"#N/A"},{"$f":"VLOOKUP($V$6,INDIRECT(U399):$J$501,5,FALSE)","v":{"$error":"#N/A"}},"","",""]
[394,{"$f":"IF('.'!D400=0,\"\",IF(BOEKHOUDING!C400=\"\",\"diverse\",BOEKHOUDING!C400))","v":""},{"$f":"BOEKHOUDING!D400","v":0},{"$f":"SUM(BOEKHOUDING!E400:G400)","v":0},"",{"$error":"#N/A"},{"$f":"BOEKHOUDING!H400","v":0},0,0,394,null,null,null,null,null,null,null,null,null,null,{"$error":"#N/A"},{"$f":"VLOOKUP($V$6,INDIRECT(U400):$J$501,5,FALSE)","v":{"$error":"#N/A"}},"","",""]
[395,{"$f":"IF('.'!D401=0,\"\",IF(BOEKHOUDING!C401=\"\",\"diverse\",BOEKHOUDING!C401))","v":""},{"$f":"BOEKHOUDING!D401","v":0},{"$f":"SUM(BOEKHOUDING!E401:G401)","v":0},"",{"$error":"#N/A"},{"$f":"BOEKHOUDING!H401","v":0},0,0,395,null,null,null,null,null,null,null,null,null,null,{"$error":"#N/A"},{"$f":"VLOOKUP($V$6,INDIRECT(U401):$J$501,5,FALSE)","v":{"$error":"#N/A"}},{"$f":"IF(ISNUMBER($V402)=TRUE,INDIRECT(ADDRESS($V402+6,W$5)),\"\")","v":""},{"$f":"IF(ISNUMBER($V402)=TRUE,INDIRECT(ADDRESS($V402+6,X$5)),\"\")","v":""},{"$f":"IF(ISNUMBER($V402)=TRUE,-INDIRECT(ADDRESS($V402+6,Y$5)),\"\")","v":""}]
[396,{"$f":"IF('.'!D402=0,\"\",IF(BOEKHOUDING!C402=\"\",\"diverse\",BOEKHOUDING!C402))","v":""},{"$f":"BOEKHOUDING!D402","v":0},{"$f":"SUM(BOEKHOUDING!E402:G402)","v":0},"",{"$error":"#N/A"},{"$f":"BOEKHOUDING!H402","v":0},0,0,396,null,null,null,null,null,null,null,null,null,null,{"$error":"#N/A"},{"$f":"VLOOKUP($V$6,INDIRECT(U402):$J$501,5,FALSE)","v":{"$error":"#N/A"}},"","",""]
[397,{"$f":"IF('.'!D403=0,\"\",IF(BOEKHOUDING!C403=\"\",\"diverse\",BOEKHOUDING!C403))","v":""},{"$f":"BOEKHOUDING!D403","v":0},{"$f":"SUM(BOEKHOUDING!E403:G403)","v":0},"",{"$error":"#N/A"},{"$f":"BOEKHOUDING!H403","v":0},0,0,397,null,null,null,null,null,null,null,null,null,null,{"$error":"#N/A"},{"$f":"VLOOKUP($V$6,INDIRECT(U403):$J$501,5,FALSE)","v":{"$error":"#N/A"}},"","",""]
[398,{"$f":"IF('.'!D404=0,\"\",IF(BOEKHOUDING!C404=\"\",\"diverse\",BOEKHOUDING!C404))","v":""},{"$f":"BOEKHOUDING!D404","v":0},{"$f":"SUM(BOEKHOUDING!E404:G404)","v":0},"",{"$error":"#N/A"},{"$f":"BOEKHOUDING!H404","v":0},0,0,398,null,null,null,null,null,null,null,null,null,null,{"$error":"#N/A"},{"$f":"VLOOKUP($V$6,INDIRECT(U404):$J$501,5,FALSE)","v":{"$error":"#N/A"}},"","",""]
[399,{"$f":"IF('.'!D405=0,\"\",IF(BOEKHOUDING!C405=\"\",\"diverse\",BOEKHOUDING!C405))","v":""},{"$f":"BOEKHOUDING!D405","v":0},{"$f":"SUM(BOEKHOUDING!E405:G405)","v":0},"",{"$error":"#N/A"},{"$f":"BOEKHOUDING!H405","v":0},0,0,399,null,null,null,null,null,null,null,null,null,null,{"$error":"#N/A"},{"$f":"VLOOKUP($V$6,INDIRECT(U405):$J$501,5,FALSE)","v":{"$error":"#N/A"}},"","",""]
[400,{"$f":"IF('.'!D406=0,\"\",IF(BOEKHOUDING!C406=\"\",\"diverse\",BOEKHOUDING!C406))","v":""},{"$f":"BOEKHOUDING!D406","v":0},{"$f":"SUM(BOEKHOUDING!E406:G406)","v":0},"",{"$error":"#N/A"},{"$f":"BOEKHOUDING!H406","v":0},0,0,400,null,null,null,null,null,null,null,null,null,null,{"$error":"#N/A"},{"$f":"VLOOKUP($V$6,INDIRECT(U406):$J$501,5,FALSE)","v":{"$error":"#N/A"}},"","",""]
[401,{"$f":"IF('.'!D407=0,\"\",IF(BOEKHOUDING!C407=\"\",\"diverse\",BOEKHOUDING!C407))","v":""},{"$f":"BOEKHOUDING!D407","v":0},{"$f":"SUM(BOEKHOUDING!E407:G407)","v":0},"",{"$error":"#N/A"},{"$f":"BOEKHOUDING!H407","v":0},0,0,401,null,null,null,null,null,null,null,null,null,null,{"$error":"#N/A"},{"$f":"VLOOKUP($V$6,INDIRECT(U407):$J$501,5,FALSE)","v":{"$error":"#N/A"}},"","",""]
[402,{"$f":"IF('.'!D408=0,\"\",IF(BOEKHOUDING!C408=\"\",\"diverse\",BOEKHOUDING!C408))","v":""},{"$f":"BOEKHOUDING!D408","v":0},{"$f":"SUM(BOEKHOUDING!E408:G408)","v":0},"",{"$error":"#N/A"},{"$f":"BOEKHOUDING!H408","v":0},0,0,402,null,null,null,null,null,null,null,null,null,null,{"$error":"#N/A"},{"$f":"VLOOKUP($V$6,INDIRECT(U408):$J$501,5,FALSE)","v":{"$error":"#N/A"}},"","",""]
[403,{"$f":"IF('.'!D409=0,\"\",IF(BOEKHOUDING!C409=\"\",\"diverse\",BOEKHOUDING!C409))","v":""},{"$f":"BOEKHOUDING!D409","v":0},{"$f":"SUM(BOEKHOUDING!E409:G409)","v":0},"",{"$error":"#N/A"},{"$f":"BOEKHOUDING!H409","v":0},0,0,403,null,null,null,null,null,null,null,null,null,null,{"$error":"#N/A"},{"$f":"VLOOKUP($V$6,INDIRECT(U409):$J$501,5,FALSE)","v":{"$error":"#N/A"}},"","",""]
[404,{"$f":"IF('.'!D410=0,\"\",IF(BOEKHOUDING!C410=\"\",\"diverse\",BOEKHOUDING!C410))","v":""},{"$f":"BOEKHOUDING!D410","v":0},{"$f":"SUM(BOEKHOUDING!E410:G410)","v":0},"",{"$error":"#N/A"},{"$f":"BOEKHOUDING!H410","v":0},0,0,404,null,null,null,null,null,null,null,null,null,null,{"$error":"#N/A"},{"$f":"VLOOKUP($V$6,INDIRECT(U410):$J$501,5,FALSE)","v":{"$error":"#N/A"}},"","",""]
[405,{"$f":"IF('.'!D411=0,\"\",IF(BOEKHOUDING!C411=\"\",\"diverse\",BOEKHOUDING!C411))","v":""},{"$f":"BOEKHOUDING!D411","v":0},{"$f":"SUM(BOEKHOUDING!E411:G411)","v":0},"",{"$error":"#N/A"},{"$f":"BOEKHOUDING!H411","v":0},0,0,405,null,null,null,null,null,null,null,null,null,null,{"$error":"#N/A"},{"$f":"VLOOKUP($V$6,INDIRECT(U411):$J$501,5,FALSE)","v":{"$error":"#N/A"}},"","",""]
[406,{"$f":"IF('.'!D412=0,\"\",IF(BOEKHOUDING!C412=\"\",\"diverse\",BOEKHOUDING!C412))","v":""},{"$f":"BOEKHOUDING!D412","v":0},{"$f":"SUM(BOEKHOUDING!E412:G412)","v":0},"",{"$error":"#N/A"},{"$f":"BOEKHOUDING!H412","v":0},0,0,406,null,null,null,null,null,null,null,null,null,null,{"$error":"#N/A"},{"$f":"VLOOKUP($V$6,INDIRECT(U412):$J$501,5,FALSE)","v":{"$error":"#N/A"}},"","",""]
[407,{"$f":"IF('.'!D413=0,\"\",IF(BOEKHOUDING!C413=\"\",\"diverse\",BOEKHOUDING!C413))","v":""},{"$f":"BOEKHOUDING!D413","v":0},{"$f":"SUM(BOEKHOUDING!E413:G413)","v":0},"",{"$error":"#N/A"},{"$f":"BOEKHOUDING!H413","v":0},0,0,407,null,null,null,null,null,null,null,null,null,null,{"$error":"#N/A"},{"$f":"VLOOKUP($V$6,INDIRECT(U413):$J$501,5,FALSE)","v":{"$error":"#N/A"}},"","",""]
[408,{"$f":"IF('.'!D414=0,\"\",IF(BOEKHOUDING!C414=\"\",\"diverse\",BOEKHOUDING!C414))","v":""},{"$f":"BOEKHOUDING!D414","v":0},{"$f":"SUM(BOEKHOUDING!E414:G414)","v":0},"",{"$error":"#N/A"},{"$f":"BOEKHOUDING!H414","v":0},0,0,408,null,null,null,null,null,null,null,null,null,null,{"$error":"#N/A"},{"$f":"VLOOKUP($V$6,INDIRECT(U414):$J$501,5,FALSE)","v":{"$error":"#N/A"}},"","",""]
[409,{"$f":"IF('.'!D415=0,\"\",IF(BOEKHOUDING!C415=\"\",\"diverse\",BOEKHOUDING!C415))","v":""},{"$f":"BOEKHOUDING!D415","v":0},{"$f":"SUM(BOEKHOUDING!E415:G415)","v":0},"",{"$error":"#N/A"},{"$f":"BOEKHOUDING!H415","v":0},0,0,409,null,null,null,null,null,null,null,null,null,null,{"$error":"#N/A"},{"$f":"VLOOKUP($V$6,INDIRECT(U415):$J$501,5,FALSE)","v":{"$error":"#N/A"}},"","",""]
[410,{"$f":"IF('.'!D416=0,\"\",IF(BOEKHOUDING!C416=\"\",\"diverse\",BOEKHOUDING!C416))","v":""},{"$f":"BOEKHOUDING!D416","v":0},{"$f":"SUM(BOEKHOUDING!E416:G416)","v":0},"",{"$error":"#N/A"},{"$f":"BOEKHOUDING!H416","v":0},0,0,410,null,null,null,null,null,null,null,null,null,null,{"$error":"#N/A"},{"$f":"VLOOKUP($V$6,INDIRECT(U416):$J$501,5,FALSE)","v":{"$error":"#N/A"}},"","",""]
[411,{"$f":"IF('.'!D417=0,\"\",IF(BOEKHOUDING!C417=\"\",\"diverse\",BOEKHOUDING!C417))","v":""},{"$f":"BOEKHOUDING!D417","v":0},{"$f":"SUM(BOEKHOUDING!E417:G417)","v":0},"",{"$error":"#N/A"},{"$f":"BOEKHOUDING!H417","v":0},0,0,411,null,null,null,null,null,null,null,null,null,null,{"$error":"#N/A"},{"$f":"VLOOKUP($V$6,INDIRECT(U417):$J$501,5,FALSE)","v":{"$error":"#N/A"}},"","",""]
[412,{"$f":"IF('.'!D418=0,\"\",IF(BOEKHOUDING!C418=\"\",\"diverse\",BOEKHOUDING!C418))","v":""},{"$f":"BOEKHOUDING!D418","v":0},{"$f":"SUM(BOEKHOUDING!E418:G418)","v":0},"",{"$error":"#N/A"},{"$f":"BOEKHOUDING!H418","v":0},0,0,412,null,null,null,null,null,null,null,null,null,null,{"$error":"#N/A"},{"$f":"VLOOKUP($V$6,INDIRECT(U418):$J$501,5,FALSE)","v":{"$error":"#N/A"}},"","",""]
[413,{"$f":"IF('.'!D419=0,\"\",IF(BOEKHOUDING!C419=\"\",\"diverse\",BOEKHOUDING!C419))","v":""},{"$f":"BOEKHOUDING!D419","v":0},{"$f":"SUM(BOEKHOUDING!E419:G419)","v":0},"",{"$error":"#N/A"},{"$f":"BOEKHOUDING!H419","v":0},0,0,413,null,null,null,null,null,null,null,null,null,null,{"$error":"#N/A"},{"$f":"VLOOKUP($V$6,INDIRECT(U419):$J$501,5,FALSE)","v":{"$error":"#N/A"}},"","",""]
[414,{"$f":"IF('.'!D420=0,\"\",IF(BOEKHOUDING!C420=\"\",\"diverse\",BOEKHOUDING!C420))","v":""},{"$f":"BOEKHOUDING!D420","v":0},{"$f":"SUM(BOEKHOUDING!E420:G420)","v":0},"",{"$error":"#N/A"},{"$f":"BOEKHOUDING!H420","v":0},0,0,414,null,null,null,null,null,null,null,null,null,null,{"$error":"#N/A"},{"$f":"VLOOKUP($V$6,INDIRECT(U420):$J$501,5,FALSE)","v":{"$error":"#N/A"}},"","",""]
[415,{"$f":"IF('.'!D421=0,\"\",IF(BOEKHOUDING!C421=\"\",\"diverse\",BOEKHOUDING!C421))","v":""},{"$f":"BOEKHOUDING!D421","v":0},{"$f":"SUM(BOEKHOUDING!E421:G421)","v":0},"",{"$error":"#N/A"},{"$f":"BOEKHOUDING!H421","v":0},0,0,415,null,null,null,null,null,null,null,null,null,null,{"$error":"#N/A"},{"$f":"VLOOKUP($V$6,INDIRECT(U421):$J$501,5,FALSE)","v":{"$error":"#N/A"}},"","",""]
[416,{"$f":"IF('.'!D422=0,\"\",IF(BOEKHOUDING!C422=\"\",\"diverse\",BOEKHOUDING!C422))","v":""},{"$f":"BOEKHOUDING!D422","v":0},{"$f":"SUM(BOEKHOUDING!E422:G422)","v":0},"",{"$error":"#N/A"},{"$f":"BOEKHOUDING!H422","v":0},0,0,416,null,null,null,null,null,null,null,null,null,null,{"$error":"#N/A"},{"$f":"VLOOKUP($V$6,INDIRECT(U422):$J$501,5,FALSE)","v":{"$error":"#N/A"}},"","",""]
[417,{"$f":"IF('.'!D423=0,\"\",IF(BOEKHOUDING!C423=\"\",\"diverse\",BOEKHOUDING!C423))","v":""},{"$f":"BOEKHOUDING!D423","v":0},{"$f":"SUM(BOEKHOUDING!E423:G423)","v":0},"",{"$error":"#N/A"},{"$f":"BOEKHOUDING!H423","v":0},0,0,417,null,null,null,null,null,null,null,null,null,null,{"$error":"#N/A"},{"$f":"VLOOKUP($V$6,INDIRECT(U423):$J$501,5,FALSE)","v":{"$error":"#N/A"}},"","",""]
[418,{"$f":"IF('.'!D424=0,\"\",IF(BOEKHOUDING!C424=\"\",\"diverse\",BOEKHOUDING!C424))","v":""},{"$f":"BOEKHOUDING!D424","v":0},{"$f":"SUM(BOEKHOUDING!E424:G424)","v":0},"",{"$error":"#N/A"},{"$f":"BOEKHOUDING!H424","v":0},0,0,418,null,null,null,null,null,null,null,null,null,null,{"$error":"#N/A"},{"$f":"VLOOKUP($V$6,INDIRECT(U424):$J$501,5,FALSE)","v":{"$error":"#N/A"}},"","",""]
[419,{"$f":"IF('.'!D425=0,\"\",IF(BOEKHOUDING!C425=\"\",\"diverse\",BOEKHOUDING!C425))","v":""},{"$f":"BOEKHOUDING!D425","v":0},{"$f":"SUM(BOEKHOUDING!E425:G425)","v":0},"",{"$error":"#N/A"},{"$f":"BOEKHOUDING!H425","v":0},0,0,419,null,null,null,null,null,null,null,null,null,null,{"$error":"#N/A"},{"$f":"VLOOKUP($V$6,INDIRECT(U425):$J$501,5,FALSE)","v":{"$error":"#N/A"}},"","",""]
[420,{"$f":"IF('.'!D426=0,\"\",IF(BOEKHOUDING!C426=\"\",\"diverse\",BOEKHOUDING!C426))","v":""},{"$f":"BOEKHOUDING!D426","v":0},{"$f":"SUM(BOEKHOUDING!E426:G426)","v":0},"",{"$error":"#N/A"},{"$f":"BOEKHOUDING!H426","v":0},0,0,420,null,null,null,null,null,null,null,null,null,null,{"$error":"#N/A"},{"$f":"VLOOKUP($V$6,INDIRECT(U426):$J$501,5,FALSE)","v":{"$error":"#N/A"}},"","",""]
[421,{"$f":"IF('.'!D427=0,\"\",IF(BOEKHOUDING!C427=\"\",\"diverse\",BOEKHOUDING!C427))","v":""},{"$f":"BOEKHOUDING!D427","v":0},{"$f":"SUM(BOEKHOUDING!E427:G427)","v":0},"",{"$error":"#N/A"},{"$f":"BOEKHOUDING!H427","v":0},0,0,421,null,null,null,null,null,null,null,null,null,null,{"$error":"#N/A"},{"$f":"VLOOKUP($V$6,INDIRECT(U427):$J$501,5,FALSE)","v":{"$error":"#N/A"}},"","",""]
[422,{"$f":"IF('.'!D428=0,\"\",IF(BOEKHOUDING!C428=\"\",\"diverse\",BOEKHOUDING!C428))","v":""},{"$f":"BOEKHOUDING!D428","v":0},{"$f":"SUM(BOEKHOUDING!E428:G428)","v":0},"",{"$error":"#N/A"},{"$f":"BOEKHOUDING!H428","v":0},0,0,422,null,null,null,null,null,null,null,null,null,null,{"$error":"#N/A"},{"$f":"VLOOKUP($V$6,INDIRECT(U428):$J$501,5,FALSE)","v":{"$error":"#N/A"}},"","",""]
[423,{"$f":"IF('.'!D429=0,\"\",IF(BOEKHOUDING!C429=\"\",\"diverse\",BOEKHOUDING!C429))","v":""},{"$f":"BOEKHOUDING!D429","v":0},{"$f":"SUM(BOEKHOUDING!E429:G429)","v":0},"",{"$error":"#N/A"},{"$f":"BOEKHOUDING!H429","v":0},0,0,423,null,null,null,null,null,null,null,null,null,null,{"$error":"#N/A"},{"$f":"VLOOKUP($V$6,INDIRECT(U429):$J$501,5,FALSE)","v":{"$error":"#N/A"}},"","",""]
[424,{"$f":"IF('.'!D430=0,\"\",IF(BOEKHOUDING!C430=\"\",\"diverse\",BOEKHOUDING!C430))","v":""},{"$f":"BOEKHOUDING!D430","v":0},{"$f":"SUM(BOEKHOUDING!E430:G430)","v":0},"",{"$error":"#N/A"},{"$f":"BOEKHOUDING!H430","v":0},0,0,424,null,null,null,null,null,null,null,null,null,null,{"$error":"#N/A"},{"$f":"VLOOKUP($V$6,INDIRECT(U430):$J$501,5,FALSE)","v":{"$error":"#N/A"}},"","",""]
[425,{"$f":"IF('.'!D431=0,\"\",IF(BOEKHOUDING!C431=\"\",\"diverse\",BOEKHOUDING!C431))","v":""},{"$f":"BOEKHOUDING!D431","v":0},{"$f":"SUM(BOEKHOUDING!E431:G431)","v":0},"",{"$error":"#N/A"},{"$f":"BOEKHOUDING!H431","v":0},0,0,425,null,null,null,null,null,null,null,null,null,null,{"$error":"#N/A"},{"$f":"VLOOKUP($V$6,INDIRECT(U431):$J$501,5,FALSE)","v":{"$error":"#N/A"}},"","",""]
[426,{"$f":"IF('.'!D432=0,\"\",IF(BOEKHOUDING!C432=\"\",\"diverse\",BOEKHOUDING!C432))","v":""},{"$f":"BOEKHOUDING!D432","v":0},{"$f":"SUM(BOEKHOUDING!E432:G432)","v":0},"",{"$error":"#N/A"},{"$f":"BOEKHOUDING!H432","v":0},0,0,426,null,null,null,null,null,null,null,null,null,null,{"$error":"#N/A"},{"$f":"VLOOKUP($V$6,INDIRECT(U432):$J$501,5,FALSE)","v":{"$error":"#N/A"}},"","",""]
[427,{"$f":"IF('.'!D433=0,\"\",IF(BOEKHOUDING!C433=\"\",\"diverse\",BOEKHOUDING!C433))","v":""},{"$f":"BOEKHOUDING!D433","v":0},{"$f":"SUM(BOEKHOUDING!E433:G433)","v":0},"",{"$error":"#N/A"},{"$f":"BOEKHOUDING!H433","v":0},0,0,427,null,null,null,null,null,null,null,null,null,null,{"$error":"#N/A"},{"$f":"VLOOKUP($V$6,INDIRECT(U433):$J$501,5,FALSE)","v":{"$error":"#N/A"}},"","",""]
[428,{"$f":"IF('.'!D434=0,\"\",IF(BOEKHOUDING!C434=\"\",\"diverse\",BOEKHOUDING!C434))","v":""},{"$f":"BOEKHOUDING!D434","v":0},{"$f":"SUM(BOEKHOUDING!E434:G434)","v":0},"",{"$error":"#N/A"},{"$f":"BOEKHOUDING!H434","v":0},0,0,428,null,null,null,null,null,null,null,null,null,null,{"$error":"#N/A"},{"$f":"VLOOKUP($V$6,INDIRECT(U434):$J$501,5,FALSE)","v":{"$error":"#N/A"}},"","",""]
[429,{"$f":"IF('.'!D435=0,\"\",IF(BOEKHOUDING!C435=\"\",\"diverse\",BOEKHOUDING!C435))","v":""},{"$f":"BOEKHOUDING!D435","v":0},{"$f":"SUM(BOEKHOUDING!E435:G435)","v":0},"",{"$error":"#N/A"},{"$f":"BOEKHOUDING!H435","v":0},0,0,429,null,null,null,null,null,null,null,null,null,null,{"$error":"#N/A"},{"$f":"VLOOKUP($V$6,INDIRECT(U435):$J$501,5,FALSE)","v":{"$error":"#N/A"}},"","",""]
[430,{"$f":"IF('.'!D436=0,\"\",IF(BOEKHOUDING!C436=\"\",\"diverse\",BOEKHOUDING!C436))","v":""},{"$f":"BOEKHOUDING!D436","v":0},{"$f":"SUM(BOEKHOUDING!E436:G436)","v":0},"",{"$error":"#N/A"},{"$f":"BOEKHOUDING!H436","v":0},0,0,430,null,null,null,null,null,null,null,null,null,null,{"$error":"#N/A"},{"$f":"VLOOKUP($V$6,INDIRECT(U436):$J$501,5,FALSE)","v":{"$error":"#N/A"}},"","",""]
[431,{"$f":"IF('.'!D437=0,\"\",IF(BOEKHOUDING!C437=\"\",\"diverse\",BOEKHOUDING!C437))","v":""},{"$f":"BOEKHOUDING!D437","v":0},{"$f":"SUM(BOEKHOUDING!E437:G437)","v":0},"",{"$error":"#N/A"},{"$f":"BOEKHOUDING!H437","v":0},0,0,431,null,null,null,null,null,null,null,null,null,null,{"$error":"#N/A"},{"$f":"VLOOKUP($V$6,INDIRECT(U437):$J$501,5,FALSE)","v":{"$error":"#N/A"}},"","",""]
[432,{"$f":"IF('.'!D438=0,\"\",IF(BOEKHOUDING!C438=\"\",\"diverse\",BOEKHOUDING!C438))","v":""},{"$f":"BOEKHOUDING!D438","v":0},{"$f":"SUM(BOEKHOUDING!E438:G438)","v":0},"",{"$error":"#N/A"},{"$f":"BOEKHOUDING!H438","v":0},0,0,432,null,null,null,null,null,null,null,null,null,null,{"$error":"#N/A"},{"$f":"VLOOKUP($V$6,INDIRECT(U438):$J$501,5,FALSE)","v":{"$error":"#N/A"}},"","",""]
[433,{"$f":"IF('.'!D439=0,\"\",IF(BOEKHOUDING!C439=\"\",\"diverse\",BOEKHOUDING!C439))","v":""},{"$f":"BOEKHOUDING!D439","v":0},{"$f":"SUM(BOEKHOUDING!E439:G439)","v":0},"",{"$error":"#N/A"},{"$f":"BOEKHOUDING!H439","v":0},0,0,433,null,null,null,null,null,null,null,null,null,null,{"$error":"#N/A"},{"$f":"VLOOKUP($V$6,INDIRECT(U439):$J$501,5,FALSE)","v":{"$error":"#N/A"}},"","",""]
[434,{"$f":"IF('.'!D440=0,\"\",IF(BOEKHOUDING!C440=\"\",\"diverse\",BOEKHOUDING!C440))","v":""},{"$f":"BOEKHOUDING!D440","v":0},{"$f":"SUM(BOEKHOUDING!E440:G440)","v":0},"",{"$error":"#N/A"},{"$f":"BOEKHOUDING!H440","v":0},0,0,434,null,null,null,null,null,null,null,null,null,null,{"$error":"#N/A"},{"$f":"VLOOKUP($V$6,INDIRECT(U440):$J$501,5,FALSE)","v":{"$error":"#N/A"}},"","",""]
[435,{"$f":"IF('.'!D441=0,\"\",IF(BOEKHOUDING!C441=\"\",\"diverse\",BOEKHOUDING!C441))","v":""},{"$f":"BOEKHOUDING!D441","v":0},{"$f":"SUM(BOEKHOUDING!E441:G441)","v":0},"",{"$error":"#N/A"},{"$f":"BOEKHOUDING!H441","v":0},0,0,435,null,null,null,null,null,null,null,null,null,null,{"$error":"#N/A"},{"$f":"VLOOKUP($V$6,INDIRECT(U441):$J$501,5,FALSE)","v":{"$error":"#N/A"}},"","",""]
[436,{"$f":"IF('.'!D442=0,\"\",IF(BOEKHOUDING!C442=\"\",\"diverse\",BOEKHOUDING!C442))","v":""},{"$f":"BOEKHOUDING!D442","v":0},{"$f":"SUM(BOEKHOUDING!E442:G442)","v":0},"",{"$error":"#N/A"},{"$f":"BOEKHOUDING!H442","v":0},0,0,436,null,null,null,null,null,null,null,null,null,null,{"$error":"#N/A"},{"$f":"VLOOKUP($V$6,INDIRECT(U442):$J$501,5,FALSE)","v":{"$error":"#N/A"}},"","",""]
[437,{"$f":"IF('.'!D443=0,\"\",IF(BOEKHOUDING!C443=\"\",\"diverse\",BOEKHOUDING!C443))","v":""},{"$f":"BOEKHOUDING!D443","v":0},{"$f":"SUM(BOEKHOUDING!E443:G443)","v":0},"",{"$error":"#N/A"},{"$f":"BOEKHOUDING!H443","v":0},0,0,437,null,null,null,null,null,null,null,null,null,null,{"$error":"#N/A"},{"$f":"VLOOKUP($V$6,INDIRECT(U443):$J$501,5,FALSE)","v":{"$error":"#N/A"}},"","",""]
[438,{"$f":"IF('.'!D444=0,\"\",IF(BOEKHOUDING!C444=\"\",\"diverse\",BOEKHOUDING!C444))","v":""},{"$f":"BOEKHOUDING!D444","v":0},{"$f":"SUM(BOEKHOUDING!E444:G444)","v":0},"",{"$error":"#N/A"},{"$f":"BOEKHOUDING!H444","v":0},0,0,438,null,null,null,null,null,null,null,null,null,null,{"$error":"#N/A"},{"$f":"VLOOKUP($V$6,INDIRECT(U444):$J$501,5,FALSE)","v":{"$error":"#N/A"}},"","",""]
[439,{"$f":"IF('.'!D445=0,\"\",IF(BOEKHOUDING!C445=\"\",\"diverse\",BOEKHOUDING!C445))","v":""},{"$f":"BOEKHOUDING!D445","v":0},{"$f":"SUM(BOEKHOUDING!E445:G445)","v":0},"",{"$error":"#N/A"},{"$f":"BOEKHOUDING!H445","v":0},0,0,439,null,null,null,null,null,null,null,null,null,null,{"$error":"#N/A"},{"$f":"VLOOKUP($V$6,INDIRECT(U445):$J$501,5,FALSE)","v":{"$error":"#N/A"}},"","",""]
[440,{"$f":"IF('.'!D446=0,\"\",IF(BOEKHOUDING!C446=\"\",\"diverse\",BOEKHOUDING!C446))","v":""},{"$f":"BOEKHOUDING!D446","v":0},{"$f":"SUM(BOEKHOUDING!E446:G446)","v":0},"",{"$error":"#N/A"},{"$f":"BOEKHOUDING!H446","v":0},0,0,440,null,null,null,null,null,null,null,null,null,null,{"$error":"#N/A"},{"$f":"VLOOKUP($V$6,INDIRECT(U446):$J$501,5,FALSE)","v":{"$error":"#N/A"}},"","",""]
[441,{"$f":"IF('.'!D447=0,\"\",IF(BOEKHOUDING!C447=\"\",\"diverse\",BOEKHOUDING!C447))","v":""},{"$f":"BOEKHOUDING!D447","v":0},{"$f":"SUM(BOEKHOUDING!E447:G447)","v":0},"",{"$error":"#N/A"},{"$f":"BOEKHOUDING!H447","v":0},0,0,441,null,null,null,null,null,null,null,null,null,null,{"$error":"#N/A"},{"$f":"VLOOKUP($V$6,INDIRECT(U447):$J$501,5,FALSE)","v":{"$error":"#N/A"}},"","",""]
[442,{"$f":"IF('.'!D448=0,\"\",IF(BOEKHOUDING!C448=\"\",\"diverse\",BOEKHOUDING!C448))","v":""},{"$f":"BOEKHOUDING!D448","v":0},{"$f":"SUM(BOEKHOUDING!E448:G448)","v":0},"",{"$error":"#N/A"},{"$f":"BOEKHOUDING!H448","v":0},0,0,442,null,null,null,null,null,null,null,null,null,null,{"$error":"#N/A"},{"$f":"VLOOKUP($V$6,INDIRECT(U448):$J$501,5,FALSE)","v":{"$error":"#N/A"}},"","",""]
[443,{"$f":"IF('.'!D449=0,\"\",IF(BOEKHOUDING!C449=\"\",\"diverse\",BOEKHOUDING!C449))","v":""},{"$f":"BOEKHOUDING!D449","v":0},{"$f":"SUM(BOEKHOUDING!E449:G449)","v":0},"",{"$error":"#N/A"},{"$f":"BOEKHOUDING!H449","v":0},0,0,443,null,null,null,null,null,null,null,null,null,null,{"$error":"#N/A"},{"$f":"VLOOKUP($V$6,INDIRECT(U449):$J$501,5,FALSE)","v":{"$error":"#N/A"}},"","",""]
[444,{"$f":"IF('.'!D450=0,\"\",IF(BOEKHOUDING!C450=\"\",\"diverse\",BOEKHOUDING!C450))","v":""},{"$f":"BOEKHOUDING!D450","v":0},{"$f":"SUM(BOEKHOUDING!E450:G450)","v":0},"",{"$error":"#N/A"},{"$f":"BOEKHOUDING!H450","v":0},0,0,444,null,null,null,null,null,null,null,null,null,null,{"$error":"#N/A"},{"$f":"VLOOKUP($V$6,INDIRECT(U450):$J$501,5,FALSE)","v":{"$error":"#N/A"}},"","",""]
[445,{"$f":"IF('.'!D451=0,\"\",IF(BOEKHOUDING!C451=\"\",\"diverse\",BOEKHOUDING!C451))","v":""},{"$f":"BOEKHOUDING!D451","v":0},{"$f":"SUM(BOEKHOUDING!E451:G451)","v":0},"",{"$error":"#N/A"},{"$f":"BOEKHOUDING!H451","v":0},0,0,445,null,null,null,null,null,null,null,null,null,null,{"$error":"#N/A"},{"$f":"VLOOKUP($V$6,INDIRECT(U451):$J$501,5,FALSE)","v":{"$error":"#N/A"}},"","",""]
[446,{"$f":"IF('.'!D452=0,\"\",IF(BOEKHOUDING!C452=\"\",\"diverse\",BOEKHOUDING!C452))","v":""},{"$f":"BOEKHOUDING!D452","v":0},{"$f":"SUM(BOEKHOUDING!E452:G452)","v":0},"",{"$error":"#N/A"},{"$f":"BOEKHOUDING!H452","v":0},0,0,446,null,null,null,null,null,null,null,null,null,null,{"$error":"#N/A"},{"$f":"VLOOKUP($V$6,INDIRECT(U452):$J$501,5,FALSE)","v":{"$error":"#N/A"}},"","",""]
[447,{"$f":"IF('.'!D453=0,\"\",IF(BOEKHOUDING!C453=\"\",\"diverse\",BOEKHOUDING!C453))","v":""},{"$f":"BOEKHOUDING!D453","v":0},{"$f":"SUM(BOEKHOUDING!E453:G453)","v":0},"",{"$error":"#N/A"},{"$f":"BOEKHOUDING!H453","v":0},0,0,447,null,null,null,null,null,null,null,null,null,null,{"$error":"#N/A"},{"$f":"VLOOKUP($V$6,INDIRECT(U453):$J$501,5,FALSE)","v":{"$error":"#N/A"}},"","",""]
[448,{"$f":"IF('.'!D454=0,\"\",IF(BOEKHOUDING!C454=\"\",\"diverse\",BOEKHOUDING!C454))","v":""},{"$f":"BOEKHOUDING!D454","v":0},{"$f":"SUM(BOEKHOUDING!E454:G454)","v":0},"",{"$error":"#N/A"},{"$f":"BOEKHOUDING!H454","v":0},0,0,448,null,null,null,null,null,null,null,null,null,null,{"$error":"#N/A"},{"$f":"VLOOKUP($V$6,INDIRECT(U454):$J$501,5,FALSE)","v":{"$error":"#N/A"}},"","",""]
[449,{"$f":"IF('.'!D455=0,\"\",IF(BOEKHOUDING!C455=\"\",\"diverse\",BOEKHOUDING!C455))","v":""},{"$f":"BOEKHOUDING!D455","v":0},{"$f":"SUM(BOEKHOUDING!E455:G455)","v":0},"",{"$f":"VLOOKUP(G455,$S$8:$T$24,2,FALSE)","v":{"$error":"#N/A"}},{"$f":"BOEKHOUDING!H455","v":0},0,0,449,null,null,null,null,null,null,null,null,null,null,{"$error":"#N/A"},{"$f":"VLOOKUP($V$6,INDIRECT(U455):$J$501,5,FALSE)","v":{"$error":"#N/A"}},"","",""]
[450,{"$f":"IF('.'!D456=0,\"\",IF(BOEKHOUDING!C456=\"\",\"diverse\",BOEKHOUDING!C456))","v":""},{"$f":"BOEKHOUDING!D456","v":0},{"$f":"SUM(BOEKHOUDING!E456:G456)","v":0},{"$f":"IF(D456=0,\"\",IF(D456<0,$O$1,$O$2))","v":""},{"$error":"#N/A"},{"$f":"BOEKHOUDING!H456","v":0},{"$f":"IF(G456=0,0,IF(E456=F456,0,$M$7))","v":0},{"$f":"IF(H456=1,A456,0)","v":0},{"$f":"A456","v":450},null,null,null,null,null,null,null,null,null,null,{"$error":"#N/A"},{"$f":"VLOOKUP($V$6,INDIRECT(U456):$J$501,5,FALSE)","v":{"$error":"#N/A"}},"","",""]
[451,{"$f":"IF('.'!D457=0,\"\",IF(BOEKHOUDING!C457=\"\",\"diverse\",BOEKHOUDING!C457))","v":""},{"$f":"BOEKHOUDING!D457","v":0},{"$f":"SUM(BOEKHOUDING!E457:G457)","v":0},"",{"$error":"#N/A"},{"$f":"BOEKHOUDING!H457","v":0},0,0,451,null,null,null,null,null,null,null,null,null,null,{"$error":"#N/A"},{"$f":"VLOOKUP($V$6,INDIRECT(U457):$J$501,5,FALSE)","v":{"$error":"#N/A"}},"","",""]
[452,{"$f":"IF('.'!D458=0,\"\",IF(BOEKHOUDING!C458=\"\",\"diverse\",BOEKHOUDING!C458))","v":""},{"$f":"BOEKHOUDING!D458","v":0},{"$f":"SUM(BOEKHOUDING!E458:G458)","v":0},"",{"$error":"#N/A"},{"$f":"BOEKHOUDING!H458","v":0},0,0,452,null,null,null,null,null,null,null,null,null,null,{"$f":"ADDRESS(V457+7,6,4,,)","v":{"$error":"#N/A"}},{"$f":"VLOOKUP($V$6,INDIRECT(U458):$J$501,5,FALSE)","v":{"$error":"#N/A"}},"","",""]
[453,{"$f":"IF('.'!D459=0,\"\",IF(BOEKHOUDING!C459=\"\",\"diverse\",BOEKHOUDING!C459))","v":""},{"$f":"BOEKHOUDING!D459","v":0},{"$f":"SUM(BOEKHOUDING!E459:G459)","v":0},"",{"$error":"#N/A"},{"$f":"BOEKHOUDING!H459","v":0},0,0,453,null,null,null,null,null,null,null,null,null,null,{"$error":"#N/A"},{"$f":"VLOOKUP($V$6,INDIRECT(U459):$J$501,5,FALSE)","v":{"$error":"#N/A"}},"","",""]
[454,{"$f":"IF('.'!D460=0,\"\",IF(BOEKHOUDING!C460=\"\",\"diverse\",BOEKHOUDING!C460))","v":""},{"$f":"BOEKHOUDING!D460","v":0},{"$f":"SUM(BOEKHOUDING!E460:G460)","v":0},"",{"$error":"#N/A"},{"$f":"BOEKHOUDING!H460","v":0},0,0,454,null,null,null,null,null,null,null,null,null,null,{"$error":"#N/A"},{"$f":"VLOOKUP($V$6,INDIRECT(U460):$J$501,5,FALSE)","v":{"$error":"#N/A"}},"","",""]
[455,{"$f":"IF('.'!D461=0,\"\",IF(BOEKHOUDING!C461=\"\",\"diverse\",BOEKHOUDING!C461))","v":""},{"$f":"BOEKHOUDING!D461","v":0},{"$f":"SUM(BOEKHOUDING!E461:G461)","v":0},"",{"$error":"#N/A"},{"$f":"BOEKHOUDING!H461","v":0},0,0,455,null,null,null,null,null,null,null,null,null,null,{"$error":"#N/A"},{"$f":"VLOOKUP($V$6,INDIRECT(U461):$J$501,5,FALSE)","v":{"$error":"#N/A"}},"","",""]
[456,{"$f":"IF('.'!D462=0,\"\",IF(BOEKHOUDING!C462=\"\",\"diverse\",BOEKHOUDING!C462))","v":""},{"$f":"BOEKHOUDING!D462","v":0},{"$f":"SUM(BOEKHOUDING!E462:G462)","v":0},"",{"$error":"#N/A"},{"$f":"BOEKHOUDING!H462","v":0},0,0,456,null,null,null,null,null,null,null,null,null,null,{"$error":"#N/A"},{"$f":"VLOOKUP($V$6,INDIRECT(U462):$J$501,5,FALSE)","v":{"$error":"#N/A"}},"","",""]
[457,{"$f":"IF('.'!D463=0,\"\",IF(BOEKHOUDING!C463=\"\",\"diverse\",BOEKHOUDING!C463))","v":""},{"$f":"BOEKHOUDING!D463","v":0},{"$f":"SUM(BOEKHOUDING!E463:G463)","v":0},"",{"$error":"#N/A"},{"$f":"BOEKHOUDING!H463","v":0},0,0,457,null,null,null,null,null,null,null,null,null,null,{"$error":"#N/A"},{"$f":"VLOOKUP($V$6,INDIRECT(U463):$J$501,5,FALSE)","v":{"$error":"#N/A"}},"","",""]
[458,{"$f":"IF('.'!D464=0,\"\",IF(BOEKHOUDING!C464=\"\",\"diverse\",BOEKHOUDING!C464))","v":""},{"$f":"BOEKHOUDING!D464","v":0},{"$f":"SUM(BOEKHOUDING!E464:G464)","v":0},"",{"$error":"#N/A"},{"$f":"BOEKHOUDING!H464","v":0},0,0,458,null,null,null,null,null,null,null,null,null,null,{"$error":"#N/A"},{"$f":"VLOOKUP($V$6,INDIRECT(U464):$J$501,5,FALSE)","v":{"$error":"#N/A"}},"","",""]
[459,{"$f":"IF('.'!D465=0,\"\",IF(BOEKHOUDING!C465=\"\",\"diverse\",BOEKHOUDING!C465))","v":""},{"$f":"BOEKHOUDING!D465","v":0},{"$f":"SUM(BOEKHOUDING!E465:G465)","v":0},"",{"$error":"#N/A"},{"$f":"BOEKHOUDING!H465","v":0},0,0,459,null,null,null,null,null,null,null,null,null,null,{"$error":"#N/A"},{"$f":"VLOOKUP($V$6,INDIRECT(U465):$J$501,5,FALSE)","v":{"$error":"#N/A"}},{"$f":"IF(ISNUMBER($V466)=TRUE,INDIRECT(ADDRESS($V466+6,W$5)),\"\")","v":""},{"$f":"IF(ISNUMBER($V466)=TRUE,INDIRECT(ADDRESS($V466+6,X$5)),\"\")","v":""},{"$f":"IF(ISNUMBER($V466)=TRUE,-INDIRECT(ADDRESS($V466+6,Y$5)),\"\")","v":""}]
[460,{"$f":"IF('.'!D466=0,\"\",IF(BOEKHOUDING!C466=\"\",\"diverse\",BOEKHOUDING!C466))","v":""},{"$f":"BOEKHOUDING!D466","v":0},{"$f":"SUM(BOEKHOUDING!E466:G466)","v":0},"",{"$error":"#N/A"},{"$f":"BOEKHOUDING!H466","v":0},0,0,460,null,null,null,null,null,null,null,null,null,null,{"$error":"#N/A"},{"$f":"VLOOKUP($V$6,INDIRECT(U466):$J$501,5,FALSE)","v":{"$error":"#N/A"}},"","",""]
[461,{"$f":"IF('.'!D467=0,\"\",IF(BOEKHOUDING!C467=\"\",\"diverse\",BOEKHOUDING!C467))","v":""},{"$f":"BOEKHOUDING!D467","v":0},{"$f":"SUM(BOEKHOUDING!E467:G467)","v":0},"",{"$error":"#N/A"},{"$f":"BOEKHOUDING!H467","v":0},0,0,461,null,null,null,null,null,null,null,null,null,null,{"$error":"#N/A"},{"$f":"VLOOKUP($V$6,INDIRECT(U467):$J$501,5,FALSE)","v":{"$error":"#N/A"}},"","",""]
[462,{"$f":"IF('.'!D468=0,\"\",IF(BOEKHOUDING!C468=\"\",\"diverse\",BOEKHOUDING!C468))","v":""},{"$f":"BOEKHOUDING!D468","v":0},{"$f":"SUM(BOEKHOUDING!E468:G468)","v":0},"",{"$error":"#N/A"},{"$f":"BOEKHOUDING!H468","v":0},0,0,462,null,null,null,null,null,null,null,null,null,null,{"$error":"#N/A"},{"$f":"VLOOKUP($V$6,INDIRECT(U468):$J$501,5,FALSE)","v":{"$error":"#N/A"}},"","",""]
[463,{"$f":"IF('.'!D469=0,\"\",IF(BOEKHOUDING!C469=\"\",\"diverse\",BOEKHOUDING!C469))","v":""},{"$f":"BOEKHOUDING!D469","v":0},{"$f":"SUM(BOEKHOUDING!E469:G469)","v":0},"",{"$error":"#N/A"},{"$f":"BOEKHOUDING!H469","v":0},0,0,463,null,null,null,null,null,null,null,null,null,null,{"$error":"#N/A"},{"$f":"VLOOKUP($V$6,INDIRECT(U469):$J$501,5,FALSE)","v":{"$error":"#N/A"}},"","",""]
[464,{"$f":"IF('.'!D470=0,\"\",IF(BOEKHOUDING!C470=\"\",\"diverse\",BOEKHOUDING!C470))","v":""},{"$f":"BOEKHOUDING!D470","v":0},{"$f":"SUM(BOEKHOUDING!E470:G470)","v":0},"",{"$error":"#N/A"},{"$f":"BOEKHOUDING!H470","v":0},0,0,464,null,null,null,null,null,null,null,null,null,null,{"$error":"#N/A"},{"$f":"VLOOKUP($V$6,INDIRECT(U470):$J$501,5,FALSE)","v":{"$error":"#N/A"}},"","",""]
[465,{"$f":"IF('.'!D471=0,\"\",IF(BOEKHOUDING!C471=\"\",\"diverse\",BOEKHOUDING!C471))","v":""},{"$f":"BOEKHOUDING!D471","v":0},{"$f":"SUM(BOEKHOUDING!E471:G471)","v":0},"",{"$error":"#N/A"},{"$f":"BOEKHOUDING!H471","v":0},0,0,465,null,null,null,null,null,null,null,null,null,null,{"$error":"#N/A"},{"$f":"VLOOKUP($V$6,INDIRECT(U471):$J$501,5,FALSE)","v":{"$error":"#N/A"}},"","",""]
[466,{"$f":"IF('.'!D472=0,\"\",IF(BOEKHOUDING!C472=\"\",\"diverse\",BOEKHOUDING!C472))","v":""},{"$f":"BOEKHOUDING!D472","v":0},{"$f":"SUM(BOEKHOUDING!E472:G472)","v":0},"",{"$error":"#N/A"},{"$f":"BOEKHOUDING!H472","v":0},0,0,466,null,null,null,null,null,null,null,null,null,null,{"$error":"#N/A"},{"$f":"VLOOKUP($V$6,INDIRECT(U472):$J$501,5,FALSE)","v":{"$error":"#N/A"}},"","",""]
[467,{"$f":"IF('.'!D473=0,\"\",IF(BOEKHOUDING!C473=\"\",\"diverse\",BOEKHOUDING!C473))","v":""},{"$f":"BOEKHOUDING!D473","v":0},{"$f":"SUM(BOEKHOUDING!E473:G473)","v":0},"",{"$error":"#N/A"},{"$f":"BOEKHOUDING!H473","v":0},0,0,467,null,null,null,null,null,null,null,null,null,null,{"$error":"#N/A"},{"$f":"VLOOKUP($V$6,INDIRECT(U473):$J$501,5,FALSE)","v":{"$error":"#N/A"}},"","",""]
[468,{"$f":"IF('.'!D474=0,\"\",IF(BOEKHOUDING!C474=\"\",\"diverse\",BOEKHOUDING!C474))","v":""},{"$f":"BOEKHOUDING!D474","v":0},{"$f":"SUM(BOEKHOUDING!E474:G474)","v":0},"",{"$error":"#N/A"},{"$f":"BOEKHOUDING!H474","v":0},0,0,468,null,null,null,null,null,null,null,null,null,null,{"$error":"#N/A"},{"$f":"VLOOKUP($V$6,INDIRECT(U474):$J$501,5,FALSE)","v":{"$error":"#N/A"}},"","",""]
[469,{"$f":"IF('.'!D475=0,\"\",IF(BOEKHOUDING!C475=\"\",\"diverse\",BOEKHOUDING!C475))","v":""},{"$f":"BOEKHOUDING!D475","v":0},{"$f":"SUM(BOEKHOUDING!E475:G475)","v":0},"",{"$error":"#N/A"},{"$f":"BOEKHOUDING!H475","v":0},0,0,469,null,null,null,null,null,null,null,null,null,null,{"$error":"#N/A"},{"$f":"VLOOKUP($V$6,INDIRECT(U475):$J$501,5,FALSE)","v":{"$error":"#N/A"}},"","",""]
[470,{"$f":"IF('.'!D476=0,\"\",IF(BOEKHOUDING!C476=\"\",\"diverse\",BOEKHOUDING!C476))","v":""},{"$f":"BOEKHOUDING!D476","v":0},{"$f":"SUM(BOEKHOUDING!E476:G476)","v":0},"",{"$error":"#N/A"},{"$f":"BOEKHOUDING!H476","v":0},0,0,470,null,null,null,null,null,null,null,null,null,null,{"$error":"#N/A"},{"$f":"VLOOKUP($V$6,INDIRECT(U476):$J$501,5,FALSE)","v":{"$error":"#N/A"}},"","",""]
[471,{"$f":"IF('.'!D477=0,\"\",IF(BOEKHOUDING!C477=\"\",\"diverse\",BOEKHOUDING!C477))","v":""},{"$f":"BOEKHOUDING!D477","v":0},{"$f":"SUM(BOEKHOUDING!E477:G477)","v":0},"",{"$error":"#N/A"},{"$f":"BOEKHOUDING!H477","v":0},0,0,471,null,null,null,null,null,null,null,null,null,null,{"$error":"#N/A"},{"$f":"VLOOKUP($V$6,INDIRECT(U477):$J$501,5,FALSE)","v":{"$error":"#N/A"}},"","",""]
[472,{"$f":"IF('.'!D478=0,\"\",IF(BOEKHOUDING!C478=\"\",\"diverse\",BOEKHOUDING!C478))","v":""},{"$f":"BOEKHOUDING!D478","v":0},{"$f":"SUM(BOEKHOUDING!E478:G478)","v":0},"",{"$error":"#N/A"},{"$f":"BOEKHOUDING!H478","v":0},0,0,472,null,null,null,null,null,null,null,null,null,null,{"$error":"#N/A"},{"$f":"VLOOKUP($V$6,INDIRECT(U478):$J$501,5,FALSE)","v":{"$error":"#N/A"}},"","",""]
[473,{"$f":"IF('.'!D479=0,\"\",IF(BOEKHOUDING!C479=\"\",\"diverse\",BOEKHOUDING!C479))","v":""},{"$f":"BOEKHOUDING!D479","v":0},{"$f":"SUM(BOEKHOUDING!E479:G479)","v":0},"",{"$error":"#N/A"},{"$f":"BOEKHOUDING!H479","v":0},0,0,473,null,null,null,null,null,null,null,null,null,null,{"$error":"#N/A"},{"$f":"VLOOKUP($V$6,INDIRECT(U479):$J$501,5,FALSE)","v":{"$error":"#N/A"}},"","",""]
[474,{"$f":"IF('.'!D480=0,\"\",IF(BOEKHOUDING!C480=\"\",\"diverse\",BOEKHOUDING!C480))","v":""},{"$f":"BOEKHOUDING!D480","v":0},{"$f":"SUM(BOEKHOUDING!E480:G480)","v":0},"",{"$error":"#N/A"},{"$f":"BOEKHOUDING!H480","v":0},0,0,474,null,null,null,null,null,null,null,null,null,null,{"$error":"#N/A"},{"$f":"VLOOKUP($V$6,INDIRECT(U480):$J$501,5,FALSE)","v":{"$error":"#N/A"}},"","",""]
[475,{"$f":"IF('.'!D481=0,\"\",IF(BOEKHOUDING!C481=\"\",\"diverse\",BOEKHOUDING!C481))","v":""},{"$f":"BOEKHOUDING!D481","v":0},{"$f":"SUM(BOEKHOUDING!E481:G481)","v":0},"",{"$error":"#N/A"},{"$f":"BOEKHOUDING!H481","v":0},0,0,475,null,null,null,null,null,null,null,null,null,null,{"$error":"#N/A"},{"$f":"VLOOKUP($V$6,INDIRECT(U481):$J$501,5,FALSE)","v":{"$error":"#N/A"}},"","",""]
[476,{"$f":"IF('.'!D482=0,\"\",IF(BOEKHOUDING!C482=\"\",\"diverse\",BOEKHOUDING!C482))","v":""},{"$f":"BOEKHOUDING!D482","v":0},{"$f":"SUM(BOEKHOUDING!E482:G482)","v":0},"",{"$error":"#N/A"},{"$f":"BOEKHOUDING!H482","v":0},0,0,476,null,null,null,null,null,null,null,null,null,null,{"$error":"#N/A"},{"$f":"VLOOKUP($V$6,INDIRECT(U482):$J$501,5,FALSE)","v":{"$error":"#N/A"}},"","",""]
[477,{"$f":"IF('.'!D483=0,\"\",IF(BOEKHOUDING!C483=\"\",\"diverse\",BOEKHOUDING!C483))","v":""},{"$f":"BOEKHOUDING!D483","v":0},{"$f":"SUM(BOEKHOUDING!E483:G483)","v":0},"",{"$error":"#N/A"},{"$f":"BOEKHOUDING!H483","v":0},0,0,477,null,null,null,null,null,null,null,null,null,null,{"$error":"#N/A"},{"$f":"VLOOKUP($V$6,INDIRECT(U483):$J$501,5,FALSE)","v":{"$error":"#N/A"}},"","",""]
[478,{"$f":"IF('.'!D484=0,\"\",IF(BOEKHOUDING!C484=\"\",\"diverse\",BOEKHOUDING!C484))","v":""},{"$f":"BOEKHOUDING!D484","v":0},{"$f":"SUM(BOEKHOUDING!E484:G484)","v":0},"",{"$error":"#N/A"},{"$f":"BOEKHOUDING!H484","v":0},0,0,478,null,null,null,null,null,null,null,null,null,null,{"$error":"#N/A"},{"$f":"VLOOKUP($V$6,INDIRECT(U484):$J$501,5,FALSE)","v":{"$error":"#N/A"}},"","",""]
[479,{"$f":"IF('.'!D485=0,\"\",IF(BOEKHOUDING!C485=\"\",\"diverse\",BOEKHOUDING!C485))","v":""},{"$f":"BOEKHOUDING!D485","v":0},{"$f":"SUM(BOEKHOUDING!E485:G485)","v":0},"",{"$error":"#N/A"},{"$f":"BOEKHOUDING!H485","v":0},0,0,479,null,null,null,null,null,null,null,null,null,null,{"$error":"#N/A"},{"$f":"VLOOKUP($V$6,INDIRECT(U485):$J$501,5,FALSE)","v":{"$error":"#N/A"}},"","",""]
[480,{"$f":"IF('.'!D486=0,\"\",IF(BOEKHOUDING!C486=\"\",\"diverse\",BOEKHOUDING!C486))","v":""},{"$f":"BOEKHOUDING!D486","v":0},{"$f":"SUM(BOEKHOUDING!E486:G486)","v":0},"",{"$error":"#N/A"},{"$f":"BOEKHOUDING!H486","v":0},0,0,480,null,null,null,null,null,null,null,null,null,null,{"$error":"#N/A"},{"$f":"VLOOKUP($V$6,INDIRECT(U486):$J$501,5,FALSE)","v":{"$error":"#N/A"}},"","",""]
[481,{"$f":"IF('.'!D487=0,\"\",IF(BOEKHOUDING!C487=\"\",\"diverse\",BOEKHOUDING!C487))","v":""},{"$f":"BOEKHOUDING!D487","v":0},{"$f":"SUM(BOEKHOUDING!E487:G487)","v":0},"",{"$error":"#N/A"},{"$f":"BOEKHOUDING!H487","v":0},0,0,481,null,null,null,null,null,null,null,null,null,null,{"$error":"#N/A"},{"$f":"VLOOKUP($V$6,INDIRECT(U487):$J$501,5,FALSE)","v":{"$error":"#N/A"}},"","",""]
[482,{"$f":"IF('.'!D488=0,\"\",IF(BOEKHOUDING!C488=\"\",\"diverse\",BOEKHOUDING!C488))","v":""},{"$f":"BOEKHOUDING!D488","v":0},{"$f":"SUM(BOEKHOUDING!E488:G488)","v":0},"",{"$error":"#N/A"},{"$f":"BOEKHOUDING!H488","v":0},0,0,482,null,null,null,null,null,null,null,null,null,null,{"$error":"#N/A"},{"$f":"VLOOKUP($V$6,INDIRECT(U488):$J$501,5,FALSE)","v":{"$error":"#N/A"}},"","",""]
[483,{"$f":"IF('.'!D489=0,\"\",IF(BOEKHOUDING!C489=\"\",\"diverse\",BOEKHOUDING!C489))","v":""},{"$f":"BOEKHOUDING!D489","v":0},{"$f":"SUM(BOEKHOUDING!E489:G489)","v":0},"",{"$error":"#N/A"},{"$f":"BOEKHOUDING!H489","v":0},0,0,483,null,null,null,null,null,null,null,null,null,null,{"$error":"#N/A"},{"$f":"VLOOKUP($V$6,INDIRECT(U489):$J$501,5,FALSE)","v":{"$error":"#N/A"}},"","",""]
[484,{"$f":"IF('.'!D490=0,\"\",IF(BOEKHOUDING!C490=\"\",\"diverse\",BOEKHOUDING!C490))","v":""},{"$f":"BOEKHOUDING!D490","v":0},{"$f":"SUM(BOEKHOUDING!E490:G490)","v":0},"",{"$error":"#N/A"},{"$f":"BOEKHOUDING!H490","v":0},0,0,484,null,null,null,null,null,null,null,null,null,null,{"$error":"#N/A"},{"$f":"VLOOKUP($V$6,INDIRECT(U490):$J$501,5,FALSE)","v":{"$error":"#N/A"}},"","",""]
[485,{"$f":"IF('.'!D491=0,\"\",IF(BOEKHOUDING!C491=\"\",\"diverse\",BOEKHOUDING!C491))","v":""},{"$f":"BOEKHOUDING!D491","v":0},{"$f":"SUM(BOEKHOUDING!E491:G491)","v":0},"",{"$error":"#N/A"},{"$f":"BOEKHOUDING!H491","v":0},0,0,485,null,null,null,null,null,null,null,null,null,null,{"$error":"#N/A"},{"$f":"VLOOKUP($V$6,INDIRECT(U491):$J$501,5,FALSE)","v":{"$error":"#N/A"}},"","",""]
[486,{"$f":"IF('.'!D492=0,\"\",IF(BOEKHOUDING!C492=\"\",\"diverse\",BOEKHOUDING!C492))","v":""},{"$f":"BOEKHOUDING!D492","v":0},{"$f":"SUM(BOEKHOUDING!E492:G492)","v":0},"",{"$error":"#N/A"},{"$f":"BOEKHOUDING!H492","v":0},0,0,486,null,null,null,null,null,null,null,null,null,null,{"$error":"#N/A"},{"$f":"VLOOKUP($V$6,INDIRECT(U492):$J$501,5,FALSE)","v":{"$error":"#N/A"}},"","",""]
[487,{"$f":"IF('.'!D493=0,\"\",IF(BOEKHOUDING!C493=\"\",\"diverse\",BOEKHOUDING!C493))","v":""},{"$f":"BOEKHOUDING!D493","v":0},{"$f":"SUM(BOEKHOUDING!E493:G493)","v":0},"",{"$error":"#N/A"},{"$f":"BOEKHOUDING!H493","v":0},0,0,487,null,null,null,null,null,null,null,null,null,null,{"$error":"#N/A"},{"$f":"VLOOKUP($V$6,INDIRECT(U493):$J$501,5,FALSE)","v":{"$error":"#N/A"}},"","",""]
[488,{"$f":"IF('.'!D494=0,\"\",IF(BOEKHOUDING!C494=\"\",\"diverse\",BOEKHOUDING!C494))","v":""},{"$f":"BOEKHOUDING!D494","v":0},{"$f":"SUM(BOEKHOUDING!E494:G494)","v":0},"",{"$error":"#N/A"},{"$f":"BOEKHOUDING!H494","v":0},0,0,488,null,null,null,null,null,null,null,null,null,null,{"$error":"#N/A"},{"$f":"VLOOKUP($V$6,INDIRECT(U494):$J$501,5,FALSE)","v":{"$error":"#N/A"}},"","",""]
[489,{"$f":"IF('.'!D495=0,\"\",IF(BOEKHOUDING!C495=\"\",\"diverse\",BOEKHOUDING!C495))","v":""},{"$f":"BOEKHOUDING!D495","v":0},{"$f":"SUM(BOEKHOUDING!E495:G495)","v":0},"",{"$error":"#N/A"},{"$f":"BOEKHOUDING!H495","v":0},0,0,489,null,null,null,null,null,null,null,null,null,null,{"$error":"#N/A"},{"$f":"VLOOKUP($V$6,INDIRECT(U495):$J$501,5,FALSE)","v":{"$error":"#N/A"}},"","",""]
[490,{"$f":"IF('.'!D496=0,\"\",IF(BOEKHOUDING!C496=\"\",\"diverse\",BOEKHOUDING!C496))","v":""},{"$f":"BOEKHOUDING!D496","v":0},{"$f":"SUM(BOEKHOUDING!E496:G496)","v":0},"",{"$error":"#N/A"},{"$f":"BOEKHOUDING!H496","v":0},0,0,490,null,null,null,null,null,null,null,null,null,null,{"$error":"#N/A"},{"$f":"VLOOKUP($V$6,INDIRECT(U496):$J$501,5,FALSE)","v":{"$error":"#N/A"}},"","",""]
[491,{"$f":"IF('.'!D497=0,\"\",IF(BOEKHOUDING!C497=\"\",\"diverse\",BOEKHOUDING!C497))","v":""},{"$f":"BOEKHOUDING!D497","v":0},{"$f":"SUM(BOEKHOUDING!E497:G497)","v":0},"",{"$error":"#N/A"},{"$f":"BOEKHOUDING!H497","v":0},0,0,491,null,null,null,null,null,null,null,null,null,null,{"$error":"#N/A"},{"$f":"VLOOKUP($V$6,INDIRECT(U497):$J$501,5,FALSE)","v":{"$error":"#N/A"}},"","",""]
[492,{"$f":"IF('.'!D498=0,\"\",IF(BOEKHOUDING!C498=\"\",\"diverse\",BOEKHOUDING!C498))","v":""},{"$f":"BOEKHOUDING!D498","v":0},{"$f":"SUM(BOEKHOUDING!E498:G498)","v":0},"",{"$error":"#N/A"},{"$f":"BOEKHOUDING!H498","v":0},0,0,492,null,null,null,null,null,null,null,null,null,null,{"$error":"#N/A"},{"$f":"VLOOKUP($V$6,INDIRECT(U498):$J$501,5,FALSE)","v":{"$error":"#N/A"}},"","",""]
[493,{"$f":"IF('.'!D499=0,\"\",IF(BOEKHOUDING!C499=\"\",\"diverse\",BOEKHOUDING!C499))","v":""},{"$f":"BOEKHOUDING!D499","v":0},{"$f":"SUM(BOEKHOUDING!E499:G499)","v":0},"",{"$error":"#N/A"},{"$f":"BOEKHOUDING!H499","v":0},0,0,493,null,null,null,null,null,null,null,null,null,null,{"$error":"#N/A"},{"$f":"VLOOKUP($V$6,INDIRECT(U499):$J$501,5,FALSE)","v":{"$error":"#N/A"}},"","",""]
[494,{"$f":"IF('.'!D500=0,\"\",IF(BOEKHOUDING!C500=\"\",\"diverse\",BOEKHOUDING!C500))","v":""},{"$f":"BOEKHOUDING!D500","v":0},{"$f":"SUM(BOEKHOUDING!E500:G500)","v":0},"",{"$error":"#N/A"},{"$f":"BOEKHOUDING!H500","v":0},0,0,494,null,null,null,null,null,null,null,null,null,null,{"$error":"#N/A"},{"$f":"VLOOKUP($V$6,INDIRECT(U500):$J$501,5,FALSE)","v":{"$error":"#N/A"}},"","",""]
[null,null,null,null,null,null,null,null,null,null,null,null,null,null,null,null,null,null,null,null,{"$error":"#N/A"},{"$f":"VLOOKUP($V$6,INDIRECT(U501):$J$501,5,FALSE)","v":{"$error":"#N/A"}}]